Workbook
Name ItemIDs: 'Intervals'!$A$4:$A$33
Name CarIDs: 'Cars'!$A$4:$A$103

Sheet Schedule
A1: Fleet maintenance schedule · Schedule | N1: From Sayarti+ — sayartiplus.com
A2: One row per car × item. After a service, update the date and odometer on the same row and the next due date moves on its own. Sort by “Whichever first” to see the most urgent first. Grey rows are samples: delete them.
A3: Car ID | B3: Item ID | C3: Item | D3: Last service date | E3: Odometer at last service | F3: Next due (km) | G3: Next due (date) | H3: Current odometer | I3: Km left | J3: Days left | K3: Days left by km (estimate) | L3: Whichever first (days) | M3: Status | N3: Notes | O3: Sort key
A4: C01 | B4: M01 | C4: =IF($B4="","",IFERROR(INDEX('Intervals'!$B$4:$B$33,MATCH($B4,'Intervals'!$A$4:$A$33,0)),"")) | D4: =TODAY()-150 | E4: 42300 | F4: =IF(OR($B4="",$E4=""),"",IFERROR(IF(AND(INDEX('Intervals'!$G$4:$G$33,MATCH($B4,'Intervals'!$A$4:$A$33,0))<>"No",N(INDEX('Intervals'!$C$4:$C$33,MATCH($B4,'Intervals'!$A$4:$A$33,0)))>0),$E4+N(INDEX('Intervals'!$C$4:$C$33,MATCH($B4,'Intervals'!$A$4:$A$33,0))),""),"")) | G4: =IF(OR($B4="",$D4=""),"",IFERROR(IF(AND(INDEX('Intervals'!$G$4:$G$33,MATCH($B4,'Intervals'!$A$4:$A$33,0))<>"No",N(INDEX('Intervals'!$D$4:$D$33,MATCH($B4,'Intervals'!$A$4:$A$33,0)))>0),EDATE($D4,N(INDEX('Intervals'!$D$4:$D$33,MATCH($B4,'Intervals'!$A$4:$A$33,0)))),""),"")) | H4: =IF($A4="","",IFERROR(IF(N(INDEX('Cars'!$H$4:$H$103,MATCH($A4,'Cars'!$A$4:$A$103,0)))>0,INDEX('Cars'!$H$4:$H$103,MATCH($A4,'Cars'!$A$4:$A$103,0)),""),"")) | I4: =IF(OR($F4="",$H4=""),"",$F4-$H4) | J4: =IF($G4="","",$G4-TODAY()) | K4: =IF($I4="","",IFERROR(IF(N(INDEX('Cars'!$J$4:$J$103,MATCH($A4,'Cars'!$A$4:$A$103,0)))>0,ROUND($I4/INDEX('Cars'!$J$4:$J$103,MATCH($A4,'Cars'!$A$4:$A$103,0))*30,0),""),"")) | L4: =IF(AND($J4="",$K4=""),"",MIN(IF($J4="",99999,$J4),IF($K4="",99999,$K4))) | M4: =IF(AND($I4="",$J4=""),"",IF(OR(AND($I4<>"",N($I4)<0),AND($J4<>"",N($J4)<0)),"Overdue",IF(OR(AND($I4<>"",N($I4)<=IFERROR(INDEX('Intervals'!$E$4:$E$33,MATCH($B4,'Intervals'!$A$4:$A$33,0)),500)),AND($J4<>"",N($J4)<=IFERROR(INDEX('Intervals'!$F$4:$F$33,MATCH($B4,'Intervals'!$A$4:$A$33,0)),14))),"Due soon","OK"))) | O4: =IF(OR($M4="",$M4="OK"),"",$L4+ROW()/100000)
A5: C01 | B5: M02 | C5: =IF($B5="","",IFERROR(INDEX('Intervals'!$B$4:$B$33,MATCH($B5,'Intervals'!$A$4:$A$33,0)),"")) | D5: =TODAY()-200 | E5: 40000 | F5: =IF(OR($B5="",$E5=""),"",IFERROR(IF(AND(INDEX('Intervals'!$G$4:$G$33,MATCH($B5,'Intervals'!$A$4:$A$33,0))<>"No",N(INDEX('Intervals'!$C$4:$C$33,MATCH($B5,'Intervals'!$A$4:$A$33,0)))>0),$E5+N(INDEX('Intervals'!$C$4:$C$33,MATCH($B5,'Intervals'!$A$4:$A$33,0))),""),"")) | G5: =IF(OR($B5="",$D5=""),"",IFERROR(IF(AND(INDEX('Intervals'!$G$4:$G$33,MATCH($B5,'Intervals'!$A$4:$A$33,0))<>"No",N(INDEX('Intervals'!$D$4:$D$33,MATCH($B5,'Intervals'!$A$4:$A$33,0)))>0),EDATE($D5,N(INDEX('Intervals'!$D$4:$D$33,MATCH($B5,'Intervals'!$A$4:$A$33,0)))),""),"")) | H5: =IF($A5="","",IFERROR(IF(N(INDEX('Cars'!$H$4:$H$103,MATCH($A5,'Cars'!$A$4:$A$103,0)))>0,INDEX('Cars'!$H$4:$H$103,MATCH($A5,'Cars'!$A$4:$A$103,0)),""),"")) | I5: =IF(OR($F5="",$H5=""),"",$F5-$H5) | J5: =IF($G5="","",$G5-TODAY()) | K5: =IF($I5="","",IFERROR(IF(N(INDEX('Cars'!$J$4:$J$103,MATCH($A5,'Cars'!$A$4:$A$103,0)))>0,ROUND($I5/INDEX('Cars'!$J$4:$J$103,MATCH($A5,'Cars'!$A$4:$A$103,0))*30,0),""),"")) | L5: =IF(AND($J5="",$K5=""),"",MIN(IF($J5="",99999,$J5),IF($K5="",99999,$K5))) | M5: =IF(AND($I5="",$J5=""),"",IF(OR(AND($I5<>"",N($I5)<0),AND($J5<>"",N($J5)<0)),"Overdue",IF(OR(AND($I5<>"",N($I5)<=IFERROR(INDEX('Intervals'!$E$4:$E$33,MATCH($B5,'Intervals'!$A$4:$A$33,0)),500)),AND($J5<>"",N($J5)<=IFERROR(INDEX('Intervals'!$F$4:$F$33,MATCH($B5,'Intervals'!$A$4:$A$33,0)),14))),"Due soon","OK"))) | O5: =IF(OR($M5="",$M5="OK"),"",$L5+ROW()/100000)
A6: C01 | B6: M03 | C6: =IF($B6="","",IFERROR(INDEX('Intervals'!$B$4:$B$33,MATCH($B6,'Intervals'!$A$4:$A$33,0)),"")) | D6: =TODAY()-200 | E6: 40000 | F6: =IF(OR($B6="",$E6=""),"",IFERROR(IF(AND(INDEX('Intervals'!$G$4:$G$33,MATCH($B6,'Intervals'!$A$4:$A$33,0))<>"No",N(INDEX('Intervals'!$C$4:$C$33,MATCH($B6,'Intervals'!$A$4:$A$33,0)))>0),$E6+N(INDEX('Intervals'!$C$4:$C$33,MATCH($B6,'Intervals'!$A$4:$A$33,0))),""),"")) | G6: =IF(OR($B6="",$D6=""),"",IFERROR(IF(AND(INDEX('Intervals'!$G$4:$G$33,MATCH($B6,'Intervals'!$A$4:$A$33,0))<>"No",N(INDEX('Intervals'!$D$4:$D$33,MATCH($B6,'Intervals'!$A$4:$A$33,0)))>0),EDATE($D6,N(INDEX('Intervals'!$D$4:$D$33,MATCH($B6,'Intervals'!$A$4:$A$33,0)))),""),"")) | H6: =IF($A6="","",IFERROR(IF(N(INDEX('Cars'!$H$4:$H$103,MATCH($A6,'Cars'!$A$4:$A$103,0)))>0,INDEX('Cars'!$H$4:$H$103,MATCH($A6,'Cars'!$A$4:$A$103,0)),""),"")) | I6: =IF(OR($F6="",$H6=""),"",$F6-$H6) | J6: =IF($G6="","",$G6-TODAY()) | K6: =IF($I6="","",IFERROR(IF(N(INDEX('Cars'!$J$4:$J$103,MATCH($A6,'Cars'!$A$4:$A$103,0)))>0,ROUND($I6/INDEX('Cars'!$J$4:$J$103,MATCH($A6,'Cars'!$A$4:$A$103,0))*30,0),""),"")) | L6: =IF(AND($J6="",$K6=""),"",MIN(IF($J6="",99999,$J6),IF($K6="",99999,$K6))) | M6: =IF(AND($I6="",$J6=""),"",IF(OR(AND($I6<>"",N($I6)<0),AND($J6<>"",N($J6)<0)),"Overdue",IF(OR(AND($I6<>"",N($I6)<=IFERROR(INDEX('Intervals'!$E$4:$E$33,MATCH($B6,'Intervals'!$A$4:$A$33,0)),500)),AND($J6<>"",N($J6)<=IFERROR(INDEX('Intervals'!$F$4:$F$33,MATCH($B6,'Intervals'!$A$4:$A$33,0)),14))),"Due soon","OK"))) | O6: =IF(OR($M6="",$M6="OK"),"",$L6+ROW()/100000)
A7: C01 | B7: M04 | C7: =IF($B7="","",IFERROR(INDEX('Intervals'!$B$4:$B$33,MATCH($B7,'Intervals'!$A$4:$A$33,0)),"")) | D7: =TODAY()-330 | E7: 37500 | F7: =IF(OR($B7="",$E7=""),"",IFERROR(IF(AND(INDEX('Intervals'!$G$4:$G$33,MATCH($B7,'Intervals'!$A$4:$A$33,0))<>"No",N(INDEX('Intervals'!$C$4:$C$33,MATCH($B7,'Intervals'!$A$4:$A$33,0)))>0),$E7+N(INDEX('Intervals'!$C$4:$C$33,MATCH($B7,'Intervals'!$A$4:$A$33,0))),""),"")) | G7: =IF(OR($B7="",$D7=""),"",IFERROR(IF(AND(INDEX('Intervals'!$G$4:$G$33,MATCH($B7,'Intervals'!$A$4:$A$33,0))<>"No",N(INDEX('Intervals'!$D$4:$D$33,MATCH($B7,'Intervals'!$A$4:$A$33,0)))>0),EDATE($D7,N(INDEX('Intervals'!$D$4:$D$33,MATCH($B7,'Intervals'!$A$4:$A$33,0)))),""),"")) | H7: =IF($A7="","",IFERROR(IF(N(INDEX('Cars'!$H$4:$H$103,MATCH($A7,'Cars'!$A$4:$A$103,0)))>0,INDEX('Cars'!$H$4:$H$103,MATCH($A7,'Cars'!$A$4:$A$103,0)),""),"")) | I7: =IF(OR($F7="",$H7=""),"",$F7-$H7) | J7: =IF($G7="","",$G7-TODAY()) | K7: =IF($I7="","",IFERROR(IF(N(INDEX('Cars'!$J$4:$J$103,MATCH($A7,'Cars'!$A$4:$A$103,0)))>0,ROUND($I7/INDEX('Cars'!$J$4:$J$103,MATCH($A7,'Cars'!$A$4:$A$103,0))*30,0),""),"")) | L7: =IF(AND($J7="",$K7=""),"",MIN(IF($J7="",99999,$J7),IF($K7="",99999,$K7))) | M7: =IF(AND($I7="",$J7=""),"",IF(OR(AND($I7<>"",N($I7)<0),AND($J7<>"",N($J7)<0)),"Overdue",IF(OR(AND($I7<>"",N($I7)<=IFERROR(INDEX('Intervals'!$E$4:$E$33,MATCH($B7,'Intervals'!$A$4:$A$33,0)),500)),AND($J7<>"",N($J7)<=IFERROR(INDEX('Intervals'!$F$4:$F$33,MATCH($B7,'Intervals'!$A$4:$A$33,0)),14))),"Due soon","OK"))) | O7: =IF(OR($M7="",$M7="OK"),"",$L7+ROW()/100000)
A8: C01 | B8: M05 | C8: =IF($B8="","",IFERROR(INDEX('Intervals'!$B$4:$B$33,MATCH($B8,'Intervals'!$A$4:$A$33,0)),"")) | D8: =TODAY()-175 | E8: 41800 | F8: =IF(OR($B8="",$E8=""),"",IFERROR(IF(AND(INDEX('Intervals'!$G$4:$G$33,MATCH($B8,'Intervals'!$A$4:$A$33,0))<>"No",N(INDEX('Intervals'!$C$4:$C$33,MATCH($B8,'Intervals'!$A$4:$A$33,0)))>0),$E8+N(INDEX('Intervals'!$C$4:$C$33,MATCH($B8,'Intervals'!$A$4:$A$33,0))),""),"")) | G8: =IF(OR($B8="",$D8=""),"",IFERROR(IF(AND(INDEX('Intervals'!$G$4:$G$33,MATCH($B8,'Intervals'!$A$4:$A$33,0))<>"No",N(INDEX('Intervals'!$D$4:$D$33,MATCH($B8,'Intervals'!$A$4:$A$33,0)))>0),EDATE($D8,N(INDEX('Intervals'!$D$4:$D$33,MATCH($B8,'Intervals'!$A$4:$A$33,0)))),""),"")) | H8: =IF($A8="","",IFERROR(IF(N(INDEX('Cars'!$H$4:$H$103,MATCH($A8,'Cars'!$A$4:$A$103,0)))>0,INDEX('Cars'!$H$4:$H$103,MATCH($A8,'Cars'!$A$4:$A$103,0)),""),"")) | I8: =IF(OR($F8="",$H8=""),"",$F8-$H8) | J8: =IF($G8="","",$G8-TODAY()) | K8: =IF($I8="","",IFERROR(IF(N(INDEX('Cars'!$J$4:$J$103,MATCH($A8,'Cars'!$A$4:$A$103,0)))>0,ROUND($I8/INDEX('Cars'!$J$4:$J$103,MATCH($A8,'Cars'!$A$4:$A$103,0))*30,0),""),"")) | L8: =IF(AND($J8="",$K8=""),"",MIN(IF($J8="",99999,$J8),IF($K8="",99999,$K8))) | M8: =IF(AND($I8="",$J8=""),"",IF(OR(AND($I8<>"",N($I8)<0),AND($J8<>"",N($J8)<0)),"Overdue",IF(OR(AND($I8<>"",N($I8)<=IFERROR(INDEX('Intervals'!$E$4:$E$33,MATCH($B8,'Intervals'!$A$4:$A$33,0)),500)),AND($J8<>"",N($J8)<=IFERROR(INDEX('Intervals'!$F$4:$F$33,MATCH($B8,'Intervals'!$A$4:$A$33,0)),14))),"Due soon","OK"))) | O8: =IF(OR($M8="",$M8="OK"),"",$L8+ROW()/100000)
A9: C01 | B9: M07 | C9: =IF($B9="","",IFERROR(INDEX('Intervals'!$B$4:$B$33,MATCH($B9,'Intervals'!$A$4:$A$33,0)),"")) | D9: =TODAY()-120 | E9: 41000 | F9: =IF(OR($B9="",$E9=""),"",IFERROR(IF(AND(INDEX('Intervals'!$G$4:$G$33,MATCH($B9,'Intervals'!$A$4:$A$33,0))<>"No",N(INDEX('Intervals'!$C$4:$C$33,MATCH($B9,'Intervals'!$A$4:$A$33,0)))>0),$E9+N(INDEX('Intervals'!$C$4:$C$33,MATCH($B9,'Intervals'!$A$4:$A$33,0))),""),"")) | G9: =IF(OR($B9="",$D9=""),"",IFERROR(IF(AND(INDEX('Intervals'!$G$4:$G$33,MATCH($B9,'Intervals'!$A$4:$A$33,0))<>"No",N(INDEX('Intervals'!$D$4:$D$33,MATCH($B9,'Intervals'!$A$4:$A$33,0)))>0),EDATE($D9,N(INDEX('Intervals'!$D$4:$D$33,MATCH($B9,'Intervals'!$A$4:$A$33,0)))),""),"")) | H9: =IF($A9="","",IFERROR(IF(N(INDEX('Cars'!$H$4:$H$103,MATCH($A9,'Cars'!$A$4:$A$103,0)))>0,INDEX('Cars'!$H$4:$H$103,MATCH($A9,'Cars'!$A$4:$A$103,0)),""),"")) | I9: =IF(OR($F9="",$H9=""),"",$F9-$H9) | J9: =IF($G9="","",$G9-TODAY()) | K9: =IF($I9="","",IFERROR(IF(N(INDEX('Cars'!$J$4:$J$103,MATCH($A9,'Cars'!$A$4:$A$103,0)))>0,ROUND($I9/INDEX('Cars'!$J$4:$J$103,MATCH($A9,'Cars'!$A$4:$A$103,0))*30,0),""),"")) | L9: =IF(AND($J9="",$K9=""),"",MIN(IF($J9="",99999,$J9),IF($K9="",99999,$K9))) | M9: =IF(AND($I9="",$J9=""),"",IF(OR(AND($I9<>"",N($I9)<0),AND($J9<>"",N($J9)<0)),"Overdue",IF(OR(AND($I9<>"",N($I9)<=IFERROR(INDEX('Intervals'!$E$4:$E$33,MATCH($B9,'Intervals'!$A$4:$A$33,0)),500)),AND($J9<>"",N($J9)<=IFERROR(INDEX('Intervals'!$F$4:$F$33,MATCH($B9,'Intervals'!$A$4:$A$33,0)),14))),"Due soon","OK"))) | O9: =IF(OR($M9="",$M9="OK"),"",$L9+ROW()/100000)
A10: C01 | B10: M09 | C10: =IF($B10="","",IFERROR(INDEX('Intervals'!$B$4:$B$33,MATCH($B10,'Intervals'!$A$4:$A$33,0)),"")) | D10: =TODAY()-260 | E10: 36000 | F10: =IF(OR($B10="",$E10=""),"",IFERROR(IF(AND(INDEX('Intervals'!$G$4:$G$33,MATCH($B10,'Intervals'!$A$4:$A$33,0))<>"No",N(INDEX('Intervals'!$C$4:$C$33,MATCH($B10,'Intervals'!$A$4:$A$33,0)))>0),$E10+N(INDEX('Intervals'!$C$4:$C$33,MATCH($B10,'Intervals'!$A$4:$A$33,0))),""),"")) | G10: =IF(OR($B10="",$D10=""),"",IFERROR(IF(AND(INDEX('Intervals'!$G$4:$G$33,MATCH($B10,'Intervals'!$A$4:$A$33,0))<>"No",N(INDEX('Intervals'!$D$4:$D$33,MATCH($B10,'Intervals'!$A$4:$A$33,0)))>0),EDATE($D10,N(INDEX('Intervals'!$D$4:$D$33,MATCH($B10,'Intervals'!$A$4:$A$33,0)))),""),"")) | H10: =IF($A10="","",IFERROR(IF(N(INDEX('Cars'!$H$4:$H$103,MATCH($A10,'Cars'!$A$4:$A$103,0)))>0,INDEX('Cars'!$H$4:$H$103,MATCH($A10,'Cars'!$A$4:$A$103,0)),""),"")) | I10: =IF(OR($F10="",$H10=""),"",$F10-$H10) | J10: =IF($G10="","",$G10-TODAY()) | K10: =IF($I10="","",IFERROR(IF(N(INDEX('Cars'!$J$4:$J$103,MATCH($A10,'Cars'!$A$4:$A$103,0)))>0,ROUND($I10/INDEX('Cars'!$J$4:$J$103,MATCH($A10,'Cars'!$A$4:$A$103,0))*30,0),""),"")) | L10: =IF(AND($J10="",$K10=""),"",MIN(IF($J10="",99999,$J10),IF($K10="",99999,$K10))) | M10: =IF(AND($I10="",$J10=""),"",IF(OR(AND($I10<>"",N($I10)<0),AND($J10<>"",N($J10)<0)),"Overdue",IF(OR(AND($I10<>"",N($I10)<=IFERROR(INDEX('Intervals'!$E$4:$E$33,MATCH($B10,'Intervals'!$A$4:$A$33,0)),500)),AND($J10<>"",N($J10)<=IFERROR(INDEX('Intervals'!$F$4:$F$33,MATCH($B10,'Intervals'!$A$4:$A$33,0)),14))),"Due soon","OK"))) | O10: =IF(OR($M10="",$M10="OK"),"",$L10+ROW()/100000)
A11: C01 | B11: M11 | C11: =IF($B11="","",IFERROR(INDEX('Intervals'!$B$4:$B$33,MATCH($B11,'Intervals'!$A$4:$A$33,0)),"")) | D11: =TODAY()-500 | E11: 30000 | F11: =IF(OR($B11="",$E11=""),"",IFERROR(IF(AND(INDEX('Intervals'!$G$4:$G$33,MATCH($B11,'Intervals'!$A$4:$A$33,0))<>"No",N(INDEX('Intervals'!$C$4:$C$33,MATCH($B11,'Intervals'!$A$4:$A$33,0)))>0),$E11+N(INDEX('Intervals'!$C$4:$C$33,MATCH($B11,'Intervals'!$A$4:$A$33,0))),""),"")) | G11: =IF(OR($B11="",$D11=""),"",IFERROR(IF(AND(INDEX('Intervals'!$G$4:$G$33,MATCH($B11,'Intervals'!$A$4:$A$33,0))<>"No",N(INDEX('Intervals'!$D$4:$D$33,MATCH($B11,'Intervals'!$A$4:$A$33,0)))>0),EDATE($D11,N(INDEX('Intervals'!$D$4:$D$33,MATCH($B11,'Intervals'!$A$4:$A$33,0)))),""),"")) | H11: =IF($A11="","",IFERROR(IF(N(INDEX('Cars'!$H$4:$H$103,MATCH($A11,'Cars'!$A$4:$A$103,0)))>0,INDEX('Cars'!$H$4:$H$103,MATCH($A11,'Cars'!$A$4:$A$103,0)),""),"")) | I11: =IF(OR($F11="",$H11=""),"",$F11-$H11) | J11: =IF($G11="","",$G11-TODAY()) | K11: =IF($I11="","",IFERROR(IF(N(INDEX('Cars'!$J$4:$J$103,MATCH($A11,'Cars'!$A$4:$A$103,0)))>0,ROUND($I11/INDEX('Cars'!$J$4:$J$103,MATCH($A11,'Cars'!$A$4:$A$103,0))*30,0),""),"")) | L11: =IF(AND($J11="",$K11=""),"",MIN(IF($J11="",99999,$J11),IF($K11="",99999,$K11))) | M11: =IF(AND($I11="",$J11=""),"",IF(OR(AND($I11<>"",N($I11)<0),AND($J11<>"",N($J11)<0)),"Overdue",IF(OR(AND($I11<>"",N($I11)<=IFERROR(INDEX('Intervals'!$E$4:$E$33,MATCH($B11,'Intervals'!$A$4:$A$33,0)),500)),AND($J11<>"",N($J11)<=IFERROR(INDEX('Intervals'!$F$4:$F$33,MATCH($B11,'Intervals'!$A$4:$A$33,0)),14))),"Due soon","OK"))) | O11: =IF(OR($M11="",$M11="OK"),"",$L11+ROW()/100000)
A12: C02 | B12: M01 | C12: =IF($B12="","",IFERROR(INDEX('Intervals'!$B$4:$B$33,MATCH($B12,'Intervals'!$A$4:$A$33,0)),"")) | D12: =TODAY()-120 | E12: 17500 | F12: =IF(OR($B12="",$E12=""),"",IFERROR(IF(AND(INDEX('Intervals'!$G$4:$G$33,MATCH($B12,'Intervals'!$A$4:$A$33,0))<>"No",N(INDEX('Intervals'!$C$4:$C$33,MATCH($B12,'Intervals'!$A$4:$A$33,0)))>0),$E12+N(INDEX('Intervals'!$C$4:$C$33,MATCH($B12,'Intervals'!$A$4:$A$33,0))),""),"")) | G12: =IF(OR($B12="",$D12=""),"",IFERROR(IF(AND(INDEX('Intervals'!$G$4:$G$33,MATCH($B12,'Intervals'!$A$4:$A$33,0))<>"No",N(INDEX('Intervals'!$D$4:$D$33,MATCH($B12,'Intervals'!$A$4:$A$33,0)))>0),EDATE($D12,N(INDEX('Intervals'!$D$4:$D$33,MATCH($B12,'Intervals'!$A$4:$A$33,0)))),""),"")) | H12: =IF($A12="","",IFERROR(IF(N(INDEX('Cars'!$H$4:$H$103,MATCH($A12,'Cars'!$A$4:$A$103,0)))>0,INDEX('Cars'!$H$4:$H$103,MATCH($A12,'Cars'!$A$4:$A$103,0)),""),"")) | I12: =IF(OR($F12="",$H12=""),"",$F12-$H12) | J12: =IF($G12="","",$G12-TODAY()) | K12: =IF($I12="","",IFERROR(IF(N(INDEX('Cars'!$J$4:$J$103,MATCH($A12,'Cars'!$A$4:$A$103,0)))>0,ROUND($I12/INDEX('Cars'!$J$4:$J$103,MATCH($A12,'Cars'!$A$4:$A$103,0))*30,0),""),"")) | L12: =IF(AND($J12="",$K12=""),"",MIN(IF($J12="",99999,$J12),IF($K12="",99999,$K12))) | M12: =IF(AND($I12="",$J12=""),"",IF(OR(AND($I12<>"",N($I12)<0),AND($J12<>"",N($J12)<0)),"Overdue",IF(OR(AND($I12<>"",N($I12)<=IFERROR(INDEX('Intervals'!$E$4:$E$33,MATCH($B12,'Intervals'!$A$4:$A$33,0)),500)),AND($J12<>"",N($J12)<=IFERROR(INDEX('Intervals'!$F$4:$F$33,MATCH($B12,'Intervals'!$A$4:$A$33,0)),14))),"Due soon","OK"))) | O12: =IF(OR($M12="",$M12="OK"),"",$L12+ROW()/100000)
A13: C02 | B13: M02 | C13: =IF($B13="","",IFERROR(INDEX('Intervals'!$B$4:$B$33,MATCH($B13,'Intervals'!$A$4:$A$33,0)),"")) | D13: =TODAY()-90 | E13: 20000 | F13: =IF(OR($B13="",$E13=""),"",IFERROR(IF(AND(INDEX('Intervals'!$G$4:$G$33,MATCH($B13,'Intervals'!$A$4:$A$33,0))<>"No",N(INDEX('Intervals'!$C$4:$C$33,MATCH($B13,'Intervals'!$A$4:$A$33,0)))>0),$E13+N(INDEX('Intervals'!$C$4:$C$33,MATCH($B13,'Intervals'!$A$4:$A$33,0))),""),"")) | G13: =IF(OR($B13="",$D13=""),"",IFERROR(IF(AND(INDEX('Intervals'!$G$4:$G$33,MATCH($B13,'Intervals'!$A$4:$A$33,0))<>"No",N(INDEX('Intervals'!$D$4:$D$33,MATCH($B13,'Intervals'!$A$4:$A$33,0)))>0),EDATE($D13,N(INDEX('Intervals'!$D$4:$D$33,MATCH($B13,'Intervals'!$A$4:$A$33,0)))),""),"")) | H13: =IF($A13="","",IFERROR(IF(N(INDEX('Cars'!$H$4:$H$103,MATCH($A13,'Cars'!$A$4:$A$103,0)))>0,INDEX('Cars'!$H$4:$H$103,MATCH($A13,'Cars'!$A$4:$A$103,0)),""),"")) | I13: =IF(OR($F13="",$H13=""),"",$F13-$H13) | J13: =IF($G13="","",$G13-TODAY()) | K13: =IF($I13="","",IFERROR(IF(N(INDEX('Cars'!$J$4:$J$103,MATCH($A13,'Cars'!$A$4:$A$103,0)))>0,ROUND($I13/INDEX('Cars'!$J$4:$J$103,MATCH($A13,'Cars'!$A$4:$A$103,0))*30,0),""),"")) | L13: =IF(AND($J13="",$K13=""),"",MIN(IF($J13="",99999,$J13),IF($K13="",99999,$K13))) | M13: =IF(AND($I13="",$J13=""),"",IF(OR(AND($I13<>"",N($I13)<0),AND($J13<>"",N($J13)<0)),"Overdue",IF(OR(AND($I13<>"",N($I13)<=IFERROR(INDEX('Intervals'!$E$4:$E$33,MATCH($B13,'Intervals'!$A$4:$A$33,0)),500)),AND($J13<>"",N($J13)<=IFERROR(INDEX('Intervals'!$F$4:$F$33,MATCH($B13,'Intervals'!$A$4:$A$33,0)),14))),"Due soon","OK"))) | O13: =IF(OR($M13="",$M13="OK"),"",$L13+ROW()/100000)
A14: C02 | B14: M03 | C14: =IF($B14="","",IFERROR(INDEX('Intervals'!$B$4:$B$33,MATCH($B14,'Intervals'!$A$4:$A$33,0)),"")) | D14: =TODAY()-90 | E14: 20000 | F14: =IF(OR($B14="",$E14=""),"",IFERROR(IF(AND(INDEX('Intervals'!$G$4:$G$33,MATCH($B14,'Intervals'!$A$4:$A$33,0))<>"No",N(INDEX('Intervals'!$C$4:$C$33,MATCH($B14,'Intervals'!$A$4:$A$33,0)))>0),$E14+N(INDEX('Intervals'!$C$4:$C$33,MATCH($B14,'Intervals'!$A$4:$A$33,0))),""),"")) | G14: =IF(OR($B14="",$D14=""),"",IFERROR(IF(AND(INDEX('Intervals'!$G$4:$G$33,MATCH($B14,'Intervals'!$A$4:$A$33,0))<>"No",N(INDEX('Intervals'!$D$4:$D$33,MATCH($B14,'Intervals'!$A$4:$A$33,0)))>0),EDATE($D14,N(INDEX('Intervals'!$D$4:$D$33,MATCH($B14,'Intervals'!$A$4:$A$33,0)))),""),"")) | H14: =IF($A14="","",IFERROR(IF(N(INDEX('Cars'!$H$4:$H$103,MATCH($A14,'Cars'!$A$4:$A$103,0)))>0,INDEX('Cars'!$H$4:$H$103,MATCH($A14,'Cars'!$A$4:$A$103,0)),""),"")) | I14: =IF(OR($F14="",$H14=""),"",$F14-$H14) | J14: =IF($G14="","",$G14-TODAY()) | K14: =IF($I14="","",IFERROR(IF(N(INDEX('Cars'!$J$4:$J$103,MATCH($A14,'Cars'!$A$4:$A$103,0)))>0,ROUND($I14/INDEX('Cars'!$J$4:$J$103,MATCH($A14,'Cars'!$A$4:$A$103,0))*30,0),""),"")) | L14: =IF(AND($J14="",$K14=""),"",MIN(IF($J14="",99999,$J14),IF($K14="",99999,$K14))) | M14: =IF(AND($I14="",$J14=""),"",IF(OR(AND($I14<>"",N($I14)<0),AND($J14<>"",N($J14)<0)),"Overdue",IF(OR(AND($I14<>"",N($I14)<=IFERROR(INDEX('Intervals'!$E$4:$E$33,MATCH($B14,'Intervals'!$A$4:$A$33,0)),500)),AND($J14<>"",N($J14)<=IFERROR(INDEX('Intervals'!$F$4:$F$33,MATCH($B14,'Intervals'!$A$4:$A$33,0)),14))),"Due soon","OK"))) | O14: =IF(OR($M14="",$M14="OK"),"",$L14+ROW()/100000)
A15: C02 | B15: M05 | C15: =IF($B15="","",IFERROR(INDEX('Intervals'!$B$4:$B$33,MATCH($B15,'Intervals'!$A$4:$A$33,0)),"")) | D15: =TODAY()-30 | E15: 21900 | F15: =IF(OR($B15="",$E15=""),"",IFERROR(IF(AND(INDEX('Intervals'!$G$4:$G$33,MATCH($B15,'Intervals'!$A$4:$A$33,0))<>"No",N(INDEX('Intervals'!$C$4:$C$33,MATCH($B15,'Intervals'!$A$4:$A$33,0)))>0),$E15+N(INDEX('Intervals'!$C$4:$C$33,MATCH($B15,'Intervals'!$A$4:$A$33,0))),""),"")) | G15: =IF(OR($B15="",$D15=""),"",IFERROR(IF(AND(INDEX('Intervals'!$G$4:$G$33,MATCH($B15,'Intervals'!$A$4:$A$33,0))<>"No",N(INDEX('Intervals'!$D$4:$D$33,MATCH($B15,'Intervals'!$A$4:$A$33,0)))>0),EDATE($D15,N(INDEX('Intervals'!$D$4:$D$33,MATCH($B15,'Intervals'!$A$4:$A$33,0)))),""),"")) | H15: =IF($A15="","",IFERROR(IF(N(INDEX('Cars'!$H$4:$H$103,MATCH($A15,'Cars'!$A$4:$A$103,0)))>0,INDEX('Cars'!$H$4:$H$103,MATCH($A15,'Cars'!$A$4:$A$103,0)),""),"")) | I15: =IF(OR($F15="",$H15=""),"",$F15-$H15) | J15: =IF($G15="","",$G15-TODAY()) | K15: =IF($I15="","",IFERROR(IF(N(INDEX('Cars'!$J$4:$J$103,MATCH($A15,'Cars'!$A$4:$A$103,0)))>0,ROUND($I15/INDEX('Cars'!$J$4:$J$103,MATCH($A15,'Cars'!$A$4:$A$103,0))*30,0),""),"")) | L15: =IF(AND($J15="",$K15=""),"",MIN(IF($J15="",99999,$J15),IF($K15="",99999,$K15))) | M15: =IF(AND($I15="",$J15=""),"",IF(OR(AND($I15<>"",N($I15)<0),AND($J15<>"",N($J15)<0)),"Overdue",IF(OR(AND($I15<>"",N($I15)<=IFERROR(INDEX('Intervals'!$E$4:$E$33,MATCH($B15,'Intervals'!$A$4:$A$33,0)),500)),AND($J15<>"",N($J15)<=IFERROR(INDEX('Intervals'!$F$4:$F$33,MATCH($B15,'Intervals'!$A$4:$A$33,0)),14))),"Due soon","OK"))) | O15: =IF(OR($M15="",$M15="OK"),"",$L15+ROW()/100000)
A16: C02 | B16: M07 | C16: =IF($B16="","",IFERROR(INDEX('Intervals'!$B$4:$B$33,MATCH($B16,'Intervals'!$A$4:$A$33,0)),"")) | D16: =TODAY()-100 | E16: 15000 | F16: =IF(OR($B16="",$E16=""),"",IFERROR(IF(AND(INDEX('Intervals'!$G$4:$G$33,MATCH($B16,'Intervals'!$A$4:$A$33,0))<>"No",N(INDEX('Intervals'!$C$4:$C$33,MATCH($B16,'Intervals'!$A$4:$A$33,0)))>0),$E16+N(INDEX('Intervals'!$C$4:$C$33,MATCH($B16,'Intervals'!$A$4:$A$33,0))),""),"")) | G16: =IF(OR($B16="",$D16=""),"",IFERROR(IF(AND(INDEX('Intervals'!$G$4:$G$33,MATCH($B16,'Intervals'!$A$4:$A$33,0))<>"No",N(INDEX('Intervals'!$D$4:$D$33,MATCH($B16,'Intervals'!$A$4:$A$33,0)))>0),EDATE($D16,N(INDEX('Intervals'!$D$4:$D$33,MATCH($B16,'Intervals'!$A$4:$A$33,0)))),""),"")) | H16: =IF($A16="","",IFERROR(IF(N(INDEX('Cars'!$H$4:$H$103,MATCH($A16,'Cars'!$A$4:$A$103,0)))>0,INDEX('Cars'!$H$4:$H$103,MATCH($A16,'Cars'!$A$4:$A$103,0)),""),"")) | I16: =IF(OR($F16="",$H16=""),"",$F16-$H16) | J16: =IF($G16="","",$G16-TODAY()) | K16: =IF($I16="","",IFERROR(IF(N(INDEX('Cars'!$J$4:$J$103,MATCH($A16,'Cars'!$A$4:$A$103,0)))>0,ROUND($I16/INDEX('Cars'!$J$4:$J$103,MATCH($A16,'Cars'!$A$4:$A$103,0))*30,0),""),"")) | L16: =IF(AND($J16="",$K16=""),"",MIN(IF($J16="",99999,$J16),IF($K16="",99999,$K16))) | M16: =IF(AND($I16="",$J16=""),"",IF(OR(AND($I16<>"",N($I16)<0),AND($J16<>"",N($J16)<0)),"Overdue",IF(OR(AND($I16<>"",N($I16)<=IFERROR(INDEX('Intervals'!$E$4:$E$33,MATCH($B16,'Intervals'!$A$4:$A$33,0)),500)),AND($J16<>"",N($J16)<=IFERROR(INDEX('Intervals'!$F$4:$F$33,MATCH($B16,'Intervals'!$A$4:$A$33,0)),14))),"Due soon","OK"))) | O16: =IF(OR($M16="",$M16="OK"),"",$L16+ROW()/100000)
A17: C02 | B17: M12 | C17: =IF($B17="","",IFERROR(INDEX('Intervals'!$B$4:$B$33,MATCH($B17,'Intervals'!$A$4:$A$33,0)),"")) | D17: =TODAY()-300 | E17: 12000 | F17: =IF(OR($B17="",$E17=""),"",IFERROR(IF(AND(INDEX('Intervals'!$G$4:$G$33,MATCH($B17,'Intervals'!$A$4:$A$33,0))<>"No",N(INDEX('Intervals'!$C$4:$C$33,MATCH($B17,'Intervals'!$A$4:$A$33,0)))>0),$E17+N(INDEX('Intervals'!$C$4:$C$33,MATCH($B17,'Intervals'!$A$4:$A$33,0))),""),"")) | G17: =IF(OR($B17="",$D17=""),"",IFERROR(IF(AND(INDEX('Intervals'!$G$4:$G$33,MATCH($B17,'Intervals'!$A$4:$A$33,0))<>"No",N(INDEX('Intervals'!$D$4:$D$33,MATCH($B17,'Intervals'!$A$4:$A$33,0)))>0),EDATE($D17,N(INDEX('Intervals'!$D$4:$D$33,MATCH($B17,'Intervals'!$A$4:$A$33,0)))),""),"")) | H17: =IF($A17="","",IFERROR(IF(N(INDEX('Cars'!$H$4:$H$103,MATCH($A17,'Cars'!$A$4:$A$103,0)))>0,INDEX('Cars'!$H$4:$H$103,MATCH($A17,'Cars'!$A$4:$A$103,0)),""),"")) | I17: =IF(OR($F17="",$H17=""),"",$F17-$H17) | J17: =IF($G17="","",$G17-TODAY()) | K17: =IF($I17="","",IFERROR(IF(N(INDEX('Cars'!$J$4:$J$103,MATCH($A17,'Cars'!$A$4:$A$103,0)))>0,ROUND($I17/INDEX('Cars'!$J$4:$J$103,MATCH($A17,'Cars'!$A$4:$A$103,0))*30,0),""),"")) | L17: =IF(AND($J17="",$K17=""),"",MIN(IF($J17="",99999,$J17),IF($K17="",99999,$K17))) | M17: =IF(AND($I17="",$J17=""),"",IF(OR(AND($I17<>"",N($I17)<0),AND($J17<>"",N($J17)<0)),"Overdue",IF(OR(AND($I17<>"",N($I17)<=IFERROR(INDEX('Intervals'!$E$4:$E$33,MATCH($B17,'Intervals'!$A$4:$A$33,0)),500)),AND($J17<>"",N($J17)<=IFERROR(INDEX('Intervals'!$F$4:$F$33,MATCH($B17,'Intervals'!$A$4:$A$33,0)),14))),"Due soon","OK"))) | O17: =IF(OR($M17="",$M17="OK"),"",$L17+ROW()/100000)
A18: C02 | B18: M16 | C18: =IF($B18="","",IFERROR(INDEX('Intervals'!$B$4:$B$33,MATCH($B18,'Intervals'!$A$4:$A$33,0)),"")) | D18: =TODAY()-360 | E18: 11000 | F18: =IF(OR($B18="",$E18=""),"",IFERROR(IF(AND(INDEX('Intervals'!$G$4:$G$33,MATCH($B18,'Intervals'!$A$4:$A$33,0))<>"No",N(INDEX('Intervals'!$C$4:$C$33,MATCH($B18,'Intervals'!$A$4:$A$33,0)))>0),$E18+N(INDEX('Intervals'!$C$4:$C$33,MATCH($B18,'Intervals'!$A$4:$A$33,0))),""),"")) | G18: =IF(OR($B18="",$D18=""),"",IFERROR(IF(AND(INDEX('Intervals'!$G$4:$G$33,MATCH($B18,'Intervals'!$A$4:$A$33,0))<>"No",N(INDEX('Intervals'!$D$4:$D$33,MATCH($B18,'Intervals'!$A$4:$A$33,0)))>0),EDATE($D18,N(INDEX('Intervals'!$D$4:$D$33,MATCH($B18,'Intervals'!$A$4:$A$33,0)))),""),"")) | H18: =IF($A18="","",IFERROR(IF(N(INDEX('Cars'!$H$4:$H$103,MATCH($A18,'Cars'!$A$4:$A$103,0)))>0,INDEX('Cars'!$H$4:$H$103,MATCH($A18,'Cars'!$A$4:$A$103,0)),""),"")) | I18: =IF(OR($F18="",$H18=""),"",$F18-$H18) | J18: =IF($G18="","",$G18-TODAY()) | K18: =IF($I18="","",IFERROR(IF(N(INDEX('Cars'!$J$4:$J$103,MATCH($A18,'Cars'!$A$4:$A$103,0)))>0,ROUND($I18/INDEX('Cars'!$J$4:$J$103,MATCH($A18,'Cars'!$A$4:$A$103,0))*30,0),""),"")) | L18: =IF(AND($J18="",$K18=""),"",MIN(IF($J18="",99999,$J18),IF($K18="",99999,$K18))) | M18: =IF(AND($I18="",$J18=""),"",IF(OR(AND($I18<>"",N($I18)<0),AND($J18<>"",N($J18)<0)),"Overdue",IF(OR(AND($I18<>"",N($I18)<=IFERROR(INDEX('Intervals'!$E$4:$E$33,MATCH($B18,'Intervals'!$A$4:$A$33,0)),500)),AND($J18<>"",N($J18)<=IFERROR(INDEX('Intervals'!$F$4:$F$33,MATCH($B18,'Intervals'!$A$4:$A$33,0)),14))),"Due soon","OK"))) | O18: =IF(OR($M18="",$M18="OK"),"",$L18+ROW()/100000)
A19: C02 | B19: M08 | C19: =IF($B19="","",IFERROR(INDEX('Intervals'!$B$4:$B$33,MATCH($B19,'Intervals'!$A$4:$A$33,0)),"")) | D19: =TODAY()-600 | E19: 0 | F19: =IF(OR($B19="",$E19=""),"",IFERROR(IF(AND(INDEX('Intervals'!$G$4:$G$33,MATCH($B19,'Intervals'!$A$4:$A$33,0))<>"No",N(INDEX('Intervals'!$C$4:$C$33,MATCH($B19,'Intervals'!$A$4:$A$33,0)))>0),$E19+N(INDEX('Intervals'!$C$4:$C$33,MATCH($B19,'Intervals'!$A$4:$A$33,0))),""),"")) | G19: =IF(OR($B19="",$D19=""),"",IFERROR(IF(AND(INDEX('Intervals'!$G$4:$G$33,MATCH($B19,'Intervals'!$A$4:$A$33,0))<>"No",N(INDEX('Intervals'!$D$4:$D$33,MATCH($B19,'Intervals'!$A$4:$A$33,0)))>0),EDATE($D19,N(INDEX('Intervals'!$D$4:$D$33,MATCH($B19,'Intervals'!$A$4:$A$33,0)))),""),"")) | H19: =IF($A19="","",IFERROR(IF(N(INDEX('Cars'!$H$4:$H$103,MATCH($A19,'Cars'!$A$4:$A$103,0)))>0,INDEX('Cars'!$H$4:$H$103,MATCH($A19,'Cars'!$A$4:$A$103,0)),""),"")) | I19: =IF(OR($F19="",$H19=""),"",$F19-$H19) | J19: =IF($G19="","",$G19-TODAY()) | K19: =IF($I19="","",IFERROR(IF(N(INDEX('Cars'!$J$4:$J$103,MATCH($A19,'Cars'!$A$4:$A$103,0)))>0,ROUND($I19/INDEX('Cars'!$J$4:$J$103,MATCH($A19,'Cars'!$A$4:$A$103,0))*30,0),""),"")) | L19: =IF(AND($J19="",$K19=""),"",MIN(IF($J19="",99999,$J19),IF($K19="",99999,$K19))) | M19: =IF(AND($I19="",$J19=""),"",IF(OR(AND($I19<>"",N($I19)<0),AND($J19<>"",N($J19)<0)),"Overdue",IF(OR(AND($I19<>"",N($I19)<=IFERROR(INDEX('Intervals'!$E$4:$E$33,MATCH($B19,'Intervals'!$A$4:$A$33,0)),500)),AND($J19<>"",N($J19)<=IFERROR(INDEX('Intervals'!$F$4:$F$33,MATCH($B19,'Intervals'!$A$4:$A$33,0)),14))),"Due soon","OK"))) | O19: =IF(OR($M19="",$M19="OK"),"",$L19+ROW()/100000)
C20: =IF($B20="","",IFERROR(INDEX('Intervals'!$B$4:$B$33,MATCH($B20,'Intervals'!$A$4:$A$33,0)),"")) | F20: =IF(OR($B20="",$E20=""),"",IFERROR(IF(AND(INDEX('Intervals'!$G$4:$G$33,MATCH($B20,'Intervals'!$A$4:$A$33,0))<>"No",N(INDEX('Intervals'!$C$4:$C$33,MATCH($B20,'Intervals'!$A$4:$A$33,0)))>0),$E20+N(INDEX('Intervals'!$C$4:$C$33,MATCH($B20,'Intervals'!$A$4:$A$33,0))),""),"")) | G20: =IF(OR($B20="",$D20=""),"",IFERROR(IF(AND(INDEX('Intervals'!$G$4:$G$33,MATCH($B20,'Intervals'!$A$4:$A$33,0))<>"No",N(INDEX('Intervals'!$D$4:$D$33,MATCH($B20,'Intervals'!$A$4:$A$33,0)))>0),EDATE($D20,N(INDEX('Intervals'!$D$4:$D$33,MATCH($B20,'Intervals'!$A$4:$A$33,0)))),""),"")) | H20: =IF($A20="","",IFERROR(IF(N(INDEX('Cars'!$H$4:$H$103,MATCH($A20,'Cars'!$A$4:$A$103,0)))>0,INDEX('Cars'!$H$4:$H$103,MATCH($A20,'Cars'!$A$4:$A$103,0)),""),"")) | I20: =IF(OR($F20="",$H20=""),"",$F20-$H20) | J20: =IF($G20="","",$G20-TODAY()) | K20: =IF($I20="","",IFERROR(IF(N(INDEX('Cars'!$J$4:$J$103,MATCH($A20,'Cars'!$A$4:$A$103,0)))>0,ROUND($I20/INDEX('Cars'!$J$4:$J$103,MATCH($A20,'Cars'!$A$4:$A$103,0))*30,0),""),"")) | L20: =IF(AND($J20="",$K20=""),"",MIN(IF($J20="",99999,$J20),IF($K20="",99999,$K20))) | M20: =IF(AND($I20="",$J20=""),"",IF(OR(AND($I20<>"",N($I20)<0),AND($J20<>"",N($J20)<0)),"Overdue",IF(OR(AND($I20<>"",N($I20)<=IFERROR(INDEX('Intervals'!$E$4:$E$33,MATCH($B20,'Intervals'!$A$4:$A$33,0)),500)),AND($J20<>"",N($J20)<=IFERROR(INDEX('Intervals'!$F$4:$F$33,MATCH($B20,'Intervals'!$A$4:$A$33,0)),14))),"Due soon","OK"))) | O20: =IF(OR($M20="",$M20="OK"),"",$L20+ROW()/100000)
C21: =IF($B21="","",IFERROR(INDEX('Intervals'!$B$4:$B$33,MATCH($B21,'Intervals'!$A$4:$A$33,0)),"")) | F21: =IF(OR($B21="",$E21=""),"",IFERROR(IF(AND(INDEX('Intervals'!$G$4:$G$33,MATCH($B21,'Intervals'!$A$4:$A$33,0))<>"No",N(INDEX('Intervals'!$C$4:$C$33,MATCH($B21,'Intervals'!$A$4:$A$33,0)))>0),$E21+N(INDEX('Intervals'!$C$4:$C$33,MATCH($B21,'Intervals'!$A$4:$A$33,0))),""),"")) | G21: =IF(OR($B21="",$D21=""),"",IFERROR(IF(AND(INDEX('Intervals'!$G$4:$G$33,MATCH($B21,'Intervals'!$A$4:$A$33,0))<>"No",N(INDEX('Intervals'!$D$4:$D$33,MATCH($B21,'Intervals'!$A$4:$A$33,0)))>0),EDATE($D21,N(INDEX('Intervals'!$D$4:$D$33,MATCH($B21,'Intervals'!$A$4:$A$33,0)))),""),"")) | H21: =IF($A21="","",IFERROR(IF(N(INDEX('Cars'!$H$4:$H$103,MATCH($A21,'Cars'!$A$4:$A$103,0)))>0,INDEX('Cars'!$H$4:$H$103,MATCH($A21,'Cars'!$A$4:$A$103,0)),""),"")) | I21: =IF(OR($F21="",$H21=""),"",$F21-$H21) | J21: =IF($G21="","",$G21-TODAY()) | K21: =IF($I21="","",IFERROR(IF(N(INDEX('Cars'!$J$4:$J$103,MATCH($A21,'Cars'!$A$4:$A$103,0)))>0,ROUND($I21/INDEX('Cars'!$J$4:$J$103,MATCH($A21,'Cars'!$A$4:$A$103,0))*30,0),""),"")) | L21: =IF(AND($J21="",$K21=""),"",MIN(IF($J21="",99999,$J21),IF($K21="",99999,$K21))) | M21: =IF(AND($I21="",$J21=""),"",IF(OR(AND($I21<>"",N($I21)<0),AND($J21<>"",N($J21)<0)),"Overdue",IF(OR(AND($I21<>"",N($I21)<=IFERROR(INDEX('Intervals'!$E$4:$E$33,MATCH($B21,'Intervals'!$A$4:$A$33,0)),500)),AND($J21<>"",N($J21)<=IFERROR(INDEX('Intervals'!$F$4:$F$33,MATCH($B21,'Intervals'!$A$4:$A$33,0)),14))),"Due soon","OK"))) | O21: =IF(OR($M21="",$M21="OK"),"",$L21+ROW()/100000)
C22: =IF($B22="","",IFERROR(INDEX('Intervals'!$B$4:$B$33,MATCH($B22,'Intervals'!$A$4:$A$33,0)),"")) | F22: =IF(OR($B22="",$E22=""),"",IFERROR(IF(AND(INDEX('Intervals'!$G$4:$G$33,MATCH($B22,'Intervals'!$A$4:$A$33,0))<>"No",N(INDEX('Intervals'!$C$4:$C$33,MATCH($B22,'Intervals'!$A$4:$A$33,0)))>0),$E22+N(INDEX('Intervals'!$C$4:$C$33,MATCH($B22,'Intervals'!$A$4:$A$33,0))),""),"")) | G22: =IF(OR($B22="",$D22=""),"",IFERROR(IF(AND(INDEX('Intervals'!$G$4:$G$33,MATCH($B22,'Intervals'!$A$4:$A$33,0))<>"No",N(INDEX('Intervals'!$D$4:$D$33,MATCH($B22,'Intervals'!$A$4:$A$33,0)))>0),EDATE($D22,N(INDEX('Intervals'!$D$4:$D$33,MATCH($B22,'Intervals'!$A$4:$A$33,0)))),""),"")) | H22: =IF($A22="","",IFERROR(IF(N(INDEX('Cars'!$H$4:$H$103,MATCH($A22,'Cars'!$A$4:$A$103,0)))>0,INDEX('Cars'!$H$4:$H$103,MATCH($A22,'Cars'!$A$4:$A$103,0)),""),"")) | I22: =IF(OR($F22="",$H22=""),"",$F22-$H22) | J22: =IF($G22="","",$G22-TODAY()) | K22: =IF($I22="","",IFERROR(IF(N(INDEX('Cars'!$J$4:$J$103,MATCH($A22,'Cars'!$A$4:$A$103,0)))>0,ROUND($I22/INDEX('Cars'!$J$4:$J$103,MATCH($A22,'Cars'!$A$4:$A$103,0))*30,0),""),"")) | L22: =IF(AND($J22="",$K22=""),"",MIN(IF($J22="",99999,$J22),IF($K22="",99999,$K22))) | M22: =IF(AND($I22="",$J22=""),"",IF(OR(AND($I22<>"",N($I22)<0),AND($J22<>"",N($J22)<0)),"Overdue",IF(OR(AND($I22<>"",N($I22)<=IFERROR(INDEX('Intervals'!$E$4:$E$33,MATCH($B22,'Intervals'!$A$4:$A$33,0)),500)),AND($J22<>"",N($J22)<=IFERROR(INDEX('Intervals'!$F$4:$F$33,MATCH($B22,'Intervals'!$A$4:$A$33,0)),14))),"Due soon","OK"))) | O22: =IF(OR($M22="",$M22="OK"),"",$L22+ROW()/100000)
C23: =IF($B23="","",IFERROR(INDEX('Intervals'!$B$4:$B$33,MATCH($B23,'Intervals'!$A$4:$A$33,0)),"")) | F23: =IF(OR($B23="",$E23=""),"",IFERROR(IF(AND(INDEX('Intervals'!$G$4:$G$33,MATCH($B23,'Intervals'!$A$4:$A$33,0))<>"No",N(INDEX('Intervals'!$C$4:$C$33,MATCH($B23,'Intervals'!$A$4:$A$33,0)))>0),$E23+N(INDEX('Intervals'!$C$4:$C$33,MATCH($B23,'Intervals'!$A$4:$A$33,0))),""),"")) | G23: =IF(OR($B23="",$D23=""),"",IFERROR(IF(AND(INDEX('Intervals'!$G$4:$G$33,MATCH($B23,'Intervals'!$A$4:$A$33,0))<>"No",N(INDEX('Intervals'!$D$4:$D$33,MATCH($B23,'Intervals'!$A$4:$A$33,0)))>0),EDATE($D23,N(INDEX('Intervals'!$D$4:$D$33,MATCH($B23,'Intervals'!$A$4:$A$33,0)))),""),"")) | H23: =IF($A23="","",IFERROR(IF(N(INDEX('Cars'!$H$4:$H$103,MATCH($A23,'Cars'!$A$4:$A$103,0)))>0,INDEX('Cars'!$H$4:$H$103,MATCH($A23,'Cars'!$A$4:$A$103,0)),""),"")) | I23: =IF(OR($F23="",$H23=""),"",$F23-$H23) | J23: =IF($G23="","",$G23-TODAY()) | K23: =IF($I23="","",IFERROR(IF(N(INDEX('Cars'!$J$4:$J$103,MATCH($A23,'Cars'!$A$4:$A$103,0)))>0,ROUND($I23/INDEX('Cars'!$J$4:$J$103,MATCH($A23,'Cars'!$A$4:$A$103,0))*30,0),""),"")) | L23: =IF(AND($J23="",$K23=""),"",MIN(IF($J23="",99999,$J23),IF($K23="",99999,$K23))) | M23: =IF(AND($I23="",$J23=""),"",IF(OR(AND($I23<>"",N($I23)<0),AND($J23<>"",N($J23)<0)),"Overdue",IF(OR(AND($I23<>"",N($I23)<=IFERROR(INDEX('Intervals'!$E$4:$E$33,MATCH($B23,'Intervals'!$A$4:$A$33,0)),500)),AND($J23<>"",N($J23)<=IFERROR(INDEX('Intervals'!$F$4:$F$33,MATCH($B23,'Intervals'!$A$4:$A$33,0)),14))),"Due soon","OK"))) | O23: =IF(OR($M23="",$M23="OK"),"",$L23+ROW()/100000)
C24: =IF($B24="","",IFERROR(INDEX('Intervals'!$B$4:$B$33,MATCH($B24,'Intervals'!$A$4:$A$33,0)),"")) | F24: =IF(OR($B24="",$E24=""),"",IFERROR(IF(AND(INDEX('Intervals'!$G$4:$G$33,MATCH($B24,'Intervals'!$A$4:$A$33,0))<>"No",N(INDEX('Intervals'!$C$4:$C$33,MATCH($B24,'Intervals'!$A$4:$A$33,0)))>0),$E24+N(INDEX('Intervals'!$C$4:$C$33,MATCH($B24,'Intervals'!$A$4:$A$33,0))),""),"")) | G24: =IF(OR($B24="",$D24=""),"",IFERROR(IF(AND(INDEX('Intervals'!$G$4:$G$33,MATCH($B24,'Intervals'!$A$4:$A$33,0))<>"No",N(INDEX('Intervals'!$D$4:$D$33,MATCH($B24,'Intervals'!$A$4:$A$33,0)))>0),EDATE($D24,N(INDEX('Intervals'!$D$4:$D$33,MATCH($B24,'Intervals'!$A$4:$A$33,0)))),""),"")) | H24: =IF($A24="","",IFERROR(IF(N(INDEX('Cars'!$H$4:$H$103,MATCH($A24,'Cars'!$A$4:$A$103,0)))>0,INDEX('Cars'!$H$4:$H$103,MATCH($A24,'Cars'!$A$4:$A$103,0)),""),"")) | I24: =IF(OR($F24="",$H24=""),"",$F24-$H24) | J24: =IF($G24="","",$G24-TODAY()) | K24: =IF($I24="","",IFERROR(IF(N(INDEX('Cars'!$J$4:$J$103,MATCH($A24,'Cars'!$A$4:$A$103,0)))>0,ROUND($I24/INDEX('Cars'!$J$4:$J$103,MATCH($A24,'Cars'!$A$4:$A$103,0))*30,0),""),"")) | L24: =IF(AND($J24="",$K24=""),"",MIN(IF($J24="",99999,$J24),IF($K24="",99999,$K24))) | M24: =IF(AND($I24="",$J24=""),"",IF(OR(AND($I24<>"",N($I24)<0),AND($J24<>"",N($J24)<0)),"Overdue",IF(OR(AND($I24<>"",N($I24)<=IFERROR(INDEX('Intervals'!$E$4:$E$33,MATCH($B24,'Intervals'!$A$4:$A$33,0)),500)),AND($J24<>"",N($J24)<=IFERROR(INDEX('Intervals'!$F$4:$F$33,MATCH($B24,'Intervals'!$A$4:$A$33,0)),14))),"Due soon","OK"))) | O24: =IF(OR($M24="",$M24="OK"),"",$L24+ROW()/100000)
C25: =IF($B25="","",IFERROR(INDEX('Intervals'!$B$4:$B$33,MATCH($B25,'Intervals'!$A$4:$A$33,0)),"")) | F25: =IF(OR($B25="",$E25=""),"",IFERROR(IF(AND(INDEX('Intervals'!$G$4:$G$33,MATCH($B25,'Intervals'!$A$4:$A$33,0))<>"No",N(INDEX('Intervals'!$C$4:$C$33,MATCH($B25,'Intervals'!$A$4:$A$33,0)))>0),$E25+N(INDEX('Intervals'!$C$4:$C$33,MATCH($B25,'Intervals'!$A$4:$A$33,0))),""),"")) | G25: =IF(OR($B25="",$D25=""),"",IFERROR(IF(AND(INDEX('Intervals'!$G$4:$G$33,MATCH($B25,'Intervals'!$A$4:$A$33,0))<>"No",N(INDEX('Intervals'!$D$4:$D$33,MATCH($B25,'Intervals'!$A$4:$A$33,0)))>0),EDATE($D25,N(INDEX('Intervals'!$D$4:$D$33,MATCH($B25,'Intervals'!$A$4:$A$33,0)))),""),"")) | H25: =IF($A25="","",IFERROR(IF(N(INDEX('Cars'!$H$4:$H$103,MATCH($A25,'Cars'!$A$4:$A$103,0)))>0,INDEX('Cars'!$H$4:$H$103,MATCH($A25,'Cars'!$A$4:$A$103,0)),""),"")) | I25: =IF(OR($F25="",$H25=""),"",$F25-$H25) | J25: =IF($G25="","",$G25-TODAY()) | K25: =IF($I25="","",IFERROR(IF(N(INDEX('Cars'!$J$4:$J$103,MATCH($A25,'Cars'!$A$4:$A$103,0)))>0,ROUND($I25/INDEX('Cars'!$J$4:$J$103,MATCH($A25,'Cars'!$A$4:$A$103,0))*30,0),""),"")) | L25: =IF(AND($J25="",$K25=""),"",MIN(IF($J25="",99999,$J25),IF($K25="",99999,$K25))) | M25: =IF(AND($I25="",$J25=""),"",IF(OR(AND($I25<>"",N($I25)<0),AND($J25<>"",N($J25)<0)),"Overdue",IF(OR(AND($I25<>"",N($I25)<=IFERROR(INDEX('Intervals'!$E$4:$E$33,MATCH($B25,'Intervals'!$A$4:$A$33,0)),500)),AND($J25<>"",N($J25)<=IFERROR(INDEX('Intervals'!$F$4:$F$33,MATCH($B25,'Intervals'!$A$4:$A$33,0)),14))),"Due soon","OK"))) | O25: =IF(OR($M25="",$M25="OK"),"",$L25+ROW()/100000)
C26: =IF($B26="","",IFERROR(INDEX('Intervals'!$B$4:$B$33,MATCH($B26,'Intervals'!$A$4:$A$33,0)),"")) | F26: =IF(OR($B26="",$E26=""),"",IFERROR(IF(AND(INDEX('Intervals'!$G$4:$G$33,MATCH($B26,'Intervals'!$A$4:$A$33,0))<>"No",N(INDEX('Intervals'!$C$4:$C$33,MATCH($B26,'Intervals'!$A$4:$A$33,0)))>0),$E26+N(INDEX('Intervals'!$C$4:$C$33,MATCH($B26,'Intervals'!$A$4:$A$33,0))),""),"")) | G26: =IF(OR($B26="",$D26=""),"",IFERROR(IF(AND(INDEX('Intervals'!$G$4:$G$33,MATCH($B26,'Intervals'!$A$4:$A$33,0))<>"No",N(INDEX('Intervals'!$D$4:$D$33,MATCH($B26,'Intervals'!$A$4:$A$33,0)))>0),EDATE($D26,N(INDEX('Intervals'!$D$4:$D$33,MATCH($B26,'Intervals'!$A$4:$A$33,0)))),""),"")) | H26: =IF($A26="","",IFERROR(IF(N(INDEX('Cars'!$H$4:$H$103,MATCH($A26,'Cars'!$A$4:$A$103,0)))>0,INDEX('Cars'!$H$4:$H$103,MATCH($A26,'Cars'!$A$4:$A$103,0)),""),"")) | I26: =IF(OR($F26="",$H26=""),"",$F26-$H26) | J26: =IF($G26="","",$G26-TODAY()) | K26: =IF($I26="","",IFERROR(IF(N(INDEX('Cars'!$J$4:$J$103,MATCH($A26,'Cars'!$A$4:$A$103,0)))>0,ROUND($I26/INDEX('Cars'!$J$4:$J$103,MATCH($A26,'Cars'!$A$4:$A$103,0))*30,0),""),"")) | L26: =IF(AND($J26="",$K26=""),"",MIN(IF($J26="",99999,$J26),IF($K26="",99999,$K26))) | M26: =IF(AND($I26="",$J26=""),"",IF(OR(AND($I26<>"",N($I26)<0),AND($J26<>"",N($J26)<0)),"Overdue",IF(OR(AND($I26<>"",N($I26)<=IFERROR(INDEX('Intervals'!$E$4:$E$33,MATCH($B26,'Intervals'!$A$4:$A$33,0)),500)),AND($J26<>"",N($J26)<=IFERROR(INDEX('Intervals'!$F$4:$F$33,MATCH($B26,'Intervals'!$A$4:$A$33,0)),14))),"Due soon","OK"))) | O26: =IF(OR($M26="",$M26="OK"),"",$L26+ROW()/100000)
C27: =IF($B27="","",IFERROR(INDEX('Intervals'!$B$4:$B$33,MATCH($B27,'Intervals'!$A$4:$A$33,0)),"")) | F27: =IF(OR($B27="",$E27=""),"",IFERROR(IF(AND(INDEX('Intervals'!$G$4:$G$33,MATCH($B27,'Intervals'!$A$4:$A$33,0))<>"No",N(INDEX('Intervals'!$C$4:$C$33,MATCH($B27,'Intervals'!$A$4:$A$33,0)))>0),$E27+N(INDEX('Intervals'!$C$4:$C$33,MATCH($B27,'Intervals'!$A$4:$A$33,0))),""),"")) | G27: =IF(OR($B27="",$D27=""),"",IFERROR(IF(AND(INDEX('Intervals'!$G$4:$G$33,MATCH($B27,'Intervals'!$A$4:$A$33,0))<>"No",N(INDEX('Intervals'!$D$4:$D$33,MATCH($B27,'Intervals'!$A$4:$A$33,0)))>0),EDATE($D27,N(INDEX('Intervals'!$D$4:$D$33,MATCH($B27,'Intervals'!$A$4:$A$33,0)))),""),"")) | H27: =IF($A27="","",IFERROR(IF(N(INDEX('Cars'!$H$4:$H$103,MATCH($A27,'Cars'!$A$4:$A$103,0)))>0,INDEX('Cars'!$H$4:$H$103,MATCH($A27,'Cars'!$A$4:$A$103,0)),""),"")) | I27: =IF(OR($F27="",$H27=""),"",$F27-$H27) | J27: =IF($G27="","",$G27-TODAY()) | K27: =IF($I27="","",IFERROR(IF(N(INDEX('Cars'!$J$4:$J$103,MATCH($A27,'Cars'!$A$4:$A$103,0)))>0,ROUND($I27/INDEX('Cars'!$J$4:$J$103,MATCH($A27,'Cars'!$A$4:$A$103,0))*30,0),""),"")) | L27: =IF(AND($J27="",$K27=""),"",MIN(IF($J27="",99999,$J27),IF($K27="",99999,$K27))) | M27: =IF(AND($I27="",$J27=""),"",IF(OR(AND($I27<>"",N($I27)<0),AND($J27<>"",N($J27)<0)),"Overdue",IF(OR(AND($I27<>"",N($I27)<=IFERROR(INDEX('Intervals'!$E$4:$E$33,MATCH($B27,'Intervals'!$A$4:$A$33,0)),500)),AND($J27<>"",N($J27)<=IFERROR(INDEX('Intervals'!$F$4:$F$33,MATCH($B27,'Intervals'!$A$4:$A$33,0)),14))),"Due soon","OK"))) | O27: =IF(OR($M27="",$M27="OK"),"",$L27+ROW()/100000)
C28: =IF($B28="","",IFERROR(INDEX('Intervals'!$B$4:$B$33,MATCH($B28,'Intervals'!$A$4:$A$33,0)),"")) | F28: =IF(OR($B28="",$E28=""),"",IFERROR(IF(AND(INDEX('Intervals'!$G$4:$G$33,MATCH($B28,'Intervals'!$A$4:$A$33,0))<>"No",N(INDEX('Intervals'!$C$4:$C$33,MATCH($B28,'Intervals'!$A$4:$A$33,0)))>0),$E28+N(INDEX('Intervals'!$C$4:$C$33,MATCH($B28,'Intervals'!$A$4:$A$33,0))),""),"")) | G28: =IF(OR($B28="",$D28=""),"",IFERROR(IF(AND(INDEX('Intervals'!$G$4:$G$33,MATCH($B28,'Intervals'!$A$4:$A$33,0))<>"No",N(INDEX('Intervals'!$D$4:$D$33,MATCH($B28,'Intervals'!$A$4:$A$33,0)))>0),EDATE($D28,N(INDEX('Intervals'!$D$4:$D$33,MATCH($B28,'Intervals'!$A$4:$A$33,0)))),""),"")) | H28: =IF($A28="","",IFERROR(IF(N(INDEX('Cars'!$H$4:$H$103,MATCH($A28,'Cars'!$A$4:$A$103,0)))>0,INDEX('Cars'!$H$4:$H$103,MATCH($A28,'Cars'!$A$4:$A$103,0)),""),"")) | I28: =IF(OR($F28="",$H28=""),"",$F28-$H28) | J28: =IF($G28="","",$G28-TODAY()) | K28: =IF($I28="","",IFERROR(IF(N(INDEX('Cars'!$J$4:$J$103,MATCH($A28,'Cars'!$A$4:$A$103,0)))>0,ROUND($I28/INDEX('Cars'!$J$4:$J$103,MATCH($A28,'Cars'!$A$4:$A$103,0))*30,0),""),"")) | L28: =IF(AND($J28="",$K28=""),"",MIN(IF($J28="",99999,$J28),IF($K28="",99999,$K28))) | M28: =IF(AND($I28="",$J28=""),"",IF(OR(AND($I28<>"",N($I28)<0),AND($J28<>"",N($J28)<0)),"Overdue",IF(OR(AND($I28<>"",N($I28)<=IFERROR(INDEX('Intervals'!$E$4:$E$33,MATCH($B28,'Intervals'!$A$4:$A$33,0)),500)),AND($J28<>"",N($J28)<=IFERROR(INDEX('Intervals'!$F$4:$F$33,MATCH($B28,'Intervals'!$A$4:$A$33,0)),14))),"Due soon","OK"))) | O28: =IF(OR($M28="",$M28="OK"),"",$L28+ROW()/100000)
C29: =IF($B29="","",IFERROR(INDEX('Intervals'!$B$4:$B$33,MATCH($B29,'Intervals'!$A$4:$A$33,0)),"")) | F29: =IF(OR($B29="",$E29=""),"",IFERROR(IF(AND(INDEX('Intervals'!$G$4:$G$33,MATCH($B29,'Intervals'!$A$4:$A$33,0))<>"No",N(INDEX('Intervals'!$C$4:$C$33,MATCH($B29,'Intervals'!$A$4:$A$33,0)))>0),$E29+N(INDEX('Intervals'!$C$4:$C$33,MATCH($B29,'Intervals'!$A$4:$A$33,0))),""),"")) | G29: =IF(OR($B29="",$D29=""),"",IFERROR(IF(AND(INDEX('Intervals'!$G$4:$G$33,MATCH($B29,'Intervals'!$A$4:$A$33,0))<>"No",N(INDEX('Intervals'!$D$4:$D$33,MATCH($B29,'Intervals'!$A$4:$A$33,0)))>0),EDATE($D29,N(INDEX('Intervals'!$D$4:$D$33,MATCH($B29,'Intervals'!$A$4:$A$33,0)))),""),"")) | H29: =IF($A29="","",IFERROR(IF(N(INDEX('Cars'!$H$4:$H$103,MATCH($A29,'Cars'!$A$4:$A$103,0)))>0,INDEX('Cars'!$H$4:$H$103,MATCH($A29,'Cars'!$A$4:$A$103,0)),""),"")) | I29: =IF(OR($F29="",$H29=""),"",$F29-$H29) | J29: =IF($G29="","",$G29-TODAY()) | K29: =IF($I29="","",IFERROR(IF(N(INDEX('Cars'!$J$4:$J$103,MATCH($A29,'Cars'!$A$4:$A$103,0)))>0,ROUND($I29/INDEX('Cars'!$J$4:$J$103,MATCH($A29,'Cars'!$A$4:$A$103,0))*30,0),""),"")) | L29: =IF(AND($J29="",$K29=""),"",MIN(IF($J29="",99999,$J29),IF($K29="",99999,$K29))) | M29: =IF(AND($I29="",$J29=""),"",IF(OR(AND($I29<>"",N($I29)<0),AND($J29<>"",N($J29)<0)),"Overdue",IF(OR(AND($I29<>"",N($I29)<=IFERROR(INDEX('Intervals'!$E$4:$E$33,MATCH($B29,'Intervals'!$A$4:$A$33,0)),500)),AND($J29<>"",N($J29)<=IFERROR(INDEX('Intervals'!$F$4:$F$33,MATCH($B29,'Intervals'!$A$4:$A$33,0)),14))),"Due soon","OK"))) | O29: =IF(OR($M29="",$M29="OK"),"",$L29+ROW()/100000)
C30: =IF($B30="","",IFERROR(INDEX('Intervals'!$B$4:$B$33,MATCH($B30,'Intervals'!$A$4:$A$33,0)),"")) | F30: =IF(OR($B30="",$E30=""),"",IFERROR(IF(AND(INDEX('Intervals'!$G$4:$G$33,MATCH($B30,'Intervals'!$A$4:$A$33,0))<>"No",N(INDEX('Intervals'!$C$4:$C$33,MATCH($B30,'Intervals'!$A$4:$A$33,0)))>0),$E30+N(INDEX('Intervals'!$C$4:$C$33,MATCH($B30,'Intervals'!$A$4:$A$33,0))),""),"")) | G30: =IF(OR($B30="",$D30=""),"",IFERROR(IF(AND(INDEX('Intervals'!$G$4:$G$33,MATCH($B30,'Intervals'!$A$4:$A$33,0))<>"No",N(INDEX('Intervals'!$D$4:$D$33,MATCH($B30,'Intervals'!$A$4:$A$33,0)))>0),EDATE($D30,N(INDEX('Intervals'!$D$4:$D$33,MATCH($B30,'Intervals'!$A$4:$A$33,0)))),""),"")) | H30: =IF($A30="","",IFERROR(IF(N(INDEX('Cars'!$H$4:$H$103,MATCH($A30,'Cars'!$A$4:$A$103,0)))>0,INDEX('Cars'!$H$4:$H$103,MATCH($A30,'Cars'!$A$4:$A$103,0)),""),"")) | I30: =IF(OR($F30="",$H30=""),"",$F30-$H30) | J30: =IF($G30="","",$G30-TODAY()) | K30: =IF($I30="","",IFERROR(IF(N(INDEX('Cars'!$J$4:$J$103,MATCH($A30,'Cars'!$A$4:$A$103,0)))>0,ROUND($I30/INDEX('Cars'!$J$4:$J$103,MATCH($A30,'Cars'!$A$4:$A$103,0))*30,0),""),"")) | L30: =IF(AND($J30="",$K30=""),"",MIN(IF($J30="",99999,$J30),IF($K30="",99999,$K30))) | M30: =IF(AND($I30="",$J30=""),"",IF(OR(AND($I30<>"",N($I30)<0),AND($J30<>"",N($J30)<0)),"Overdue",IF(OR(AND($I30<>"",N($I30)<=IFERROR(INDEX('Intervals'!$E$4:$E$33,MATCH($B30,'Intervals'!$A$4:$A$33,0)),500)),AND($J30<>"",N($J30)<=IFERROR(INDEX('Intervals'!$F$4:$F$33,MATCH($B30,'Intervals'!$A$4:$A$33,0)),14))),"Due soon","OK"))) | O30: =IF(OR($M30="",$M30="OK"),"",$L30+ROW()/100000)
C31: =IF($B31="","",IFERROR(INDEX('Intervals'!$B$4:$B$33,MATCH($B31,'Intervals'!$A$4:$A$33,0)),"")) | F31: =IF(OR($B31="",$E31=""),"",IFERROR(IF(AND(INDEX('Intervals'!$G$4:$G$33,MATCH($B31,'Intervals'!$A$4:$A$33,0))<>"No",N(INDEX('Intervals'!$C$4:$C$33,MATCH($B31,'Intervals'!$A$4:$A$33,0)))>0),$E31+N(INDEX('Intervals'!$C$4:$C$33,MATCH($B31,'Intervals'!$A$4:$A$33,0))),""),"")) | G31: =IF(OR($B31="",$D31=""),"",IFERROR(IF(AND(INDEX('Intervals'!$G$4:$G$33,MATCH($B31,'Intervals'!$A$4:$A$33,0))<>"No",N(INDEX('Intervals'!$D$4:$D$33,MATCH($B31,'Intervals'!$A$4:$A$33,0)))>0),EDATE($D31,N(INDEX('Intervals'!$D$4:$D$33,MATCH($B31,'Intervals'!$A$4:$A$33,0)))),""),"")) | H31: =IF($A31="","",IFERROR(IF(N(INDEX('Cars'!$H$4:$H$103,MATCH($A31,'Cars'!$A$4:$A$103,0)))>0,INDEX('Cars'!$H$4:$H$103,MATCH($A31,'Cars'!$A$4:$A$103,0)),""),"")) | I31: =IF(OR($F31="",$H31=""),"",$F31-$H31) | J31: =IF($G31="","",$G31-TODAY()) | K31: =IF($I31="","",IFERROR(IF(N(INDEX('Cars'!$J$4:$J$103,MATCH($A31,'Cars'!$A$4:$A$103,0)))>0,ROUND($I31/INDEX('Cars'!$J$4:$J$103,MATCH($A31,'Cars'!$A$4:$A$103,0))*30,0),""),"")) | L31: =IF(AND($J31="",$K31=""),"",MIN(IF($J31="",99999,$J31),IF($K31="",99999,$K31))) | M31: =IF(AND($I31="",$J31=""),"",IF(OR(AND($I31<>"",N($I31)<0),AND($J31<>"",N($J31)<0)),"Overdue",IF(OR(AND($I31<>"",N($I31)<=IFERROR(INDEX('Intervals'!$E$4:$E$33,MATCH($B31,'Intervals'!$A$4:$A$33,0)),500)),AND($J31<>"",N($J31)<=IFERROR(INDEX('Intervals'!$F$4:$F$33,MATCH($B31,'Intervals'!$A$4:$A$33,0)),14))),"Due soon","OK"))) | O31: =IF(OR($M31="",$M31="OK"),"",$L31+ROW()/100000)
... C1003: =IF($B1003="","",IFERROR(INDEX('Intervals'!$B$4:$B$33,MATCH($B1003,'Intervals'!$A$4:$A$33,0)),"")) | F1003: =IF(OR($B1003="",$E1003=""),"",IFERROR(IF(AND(INDEX('Intervals'!$G$4:$G$33,MATCH($B1003,'Intervals'!$A$4:$A$33,0))<>"No",N(INDEX('Intervals'!$C$4:$C$33,MATCH($B1003,'Intervals'!$A$4:$A$33,0)))>0),$E1003+N(INDEX('Intervals'!$C$4:$C$33,MATCH($B1003,'Intervals'!$A$4:$A$33,0))),""),"")) | G1003: =IF(OR($B1003="",$D1003=""),"",IFERROR(IF(AND(INDEX('Intervals'!$G$4:$G$33,MATCH($B1003,'Intervals'!$A$4:$A$33,0))<>"No",N(INDEX('Intervals'!$D$4:$D$33,MATCH($B1003,'Intervals'!$A$4:$A$33,0)))>0),EDATE($D1003,N(INDEX('Intervals'!$D$4:$D$33,MATCH($B1003,'Intervals'!$A$4:$A$33,0)))),""),"")) | H1003: =IF($A1003="","",IFERROR(IF(N(INDEX('Cars'!$H$4:$H$103,MATCH($A1003,'Cars'!$A$4:$A$103,0)))>0,INDEX('Cars'!$H$4:$H$103,MATCH($A1003,'Cars'!$A$4:$A$103,0)),""),"")) | I1003: =IF(OR($F1003="",$H1003=""),"",$F1003-$H1003) | J1003: =IF($G1003="","",$G1003-TODAY()) | K1003: =IF($I1003="","",IFERROR(IF(N(INDEX('Cars'!$J$4:$J$103,MATCH($A1003,'Cars'!$A$4:$A$103,0)))>0,ROUND($I1003/INDEX('Cars'!$J$4:$J$103,MATCH($A1003,'Cars'!$A$4:$A$103,0))*30,0),""),"")) | L1003: =IF(AND($J1003="",$K1003=""),"",MIN(IF($J1003="",99999,$J1003),IF($K1003="",99999,$K1003))) | M1003: =IF(AND($I1003="",$J1003=""),"",IF(OR(AND($I1003<>"",N($I1003)<0),AND($J1003<>"",N($J1003)<0)),"Overdue",IF(OR(AND($I1003<>"",N($I1003)<=IFERROR(INDEX('Intervals'!$E$4:$E$33,MATCH($B1003,'Intervals'!$A$4:$A$33,0)),500)),AND($J1003<>"",N($J1003)<=IFERROR(INDEX('Intervals'!$F$4:$F$33,MATCH($B1003,'Intervals'!$A$4:$A$33,0)),14))),"Due soon","OK"))) | O1003: =IF(OR($M1003="",$M1003="OK"),"",$L1003+ROW()/100000)

Sheet This month
A1: Fleet maintenance schedule · This month | K1: From Sayarti+ — sayartiplus.com
A2: An automatic list of every item that is “Overdue” or “Due soon”, most urgent first. Print it for the workshop. Don't type in this sheet.
A3: # | B3: Car ID | C3: Plate | D3: Item | E3: Next due (km) | F3: Next due (date) | G3: Km left | H3: Days left | I3: Status | J3: Done ✓ | K3: Workshop and amount
A4: =IF($L4="","",1) | B4: =IF($L4="","",IF(INDEX('Schedule'!$A$4:$A$1003,$L4)="","",INDEX('Schedule'!$A$4:$A$1003,$L4))) | C4: =IF($B4="","",IFERROR(INDEX('Cars'!$F$4:$F$103,MATCH($B4,'Cars'!$A$4:$A$103,0))&"","")) | D4: =IF($L4="","",IF(INDEX('Schedule'!$C$4:$C$1003,$L4)="","",INDEX('Schedule'!$C$4:$C$1003,$L4))) | E4: =IF($L4="","",IF(INDEX('Schedule'!$F$4:$F$1003,$L4)="","",INDEX('Schedule'!$F$4:$F$1003,$L4))) | F4: =IF($L4="","",IF(INDEX('Schedule'!$G$4:$G$1003,$L4)="","",INDEX('Schedule'!$G$4:$G$1003,$L4))) | G4: =IF($L4="","",IF(INDEX('Schedule'!$I$4:$I$1003,$L4)="","",INDEX('Schedule'!$I$4:$I$1003,$L4))) | H4: =IF($L4="","",IF(INDEX('Schedule'!$J$4:$J$1003,$L4)="","",INDEX('Schedule'!$J$4:$J$1003,$L4))) | I4: =IF($L4="","",IF(INDEX('Schedule'!$M$4:$M$1003,$L4)="","",INDEX('Schedule'!$M$4:$M$1003,$L4))) | L4: =IFERROR(MATCH(SMALL('Schedule'!$O$4:$O$1003,1),'Schedule'!$O$4:$O$1003,0),"")
A5: =IF($L5="","",2) | B5: =IF($L5="","",IF(INDEX('Schedule'!$A$4:$A$1003,$L5)="","",INDEX('Schedule'!$A$4:$A$1003,$L5))) | C5: =IF($B5="","",IFERROR(INDEX('Cars'!$F$4:$F$103,MATCH($B5,'Cars'!$A$4:$A$103,0))&"","")) | D5: =IF($L5="","",IF(INDEX('Schedule'!$C$4:$C$1003,$L5)="","",INDEX('Schedule'!$C$4:$C$1003,$L5))) | E5: =IF($L5="","",IF(INDEX('Schedule'!$F$4:$F$1003,$L5)="","",INDEX('Schedule'!$F$4:$F$1003,$L5))) | F5: =IF($L5="","",IF(INDEX('Schedule'!$G$4:$G$1003,$L5)="","",INDEX('Schedule'!$G$4:$G$1003,$L5))) | G5: =IF($L5="","",IF(INDEX('Schedule'!$I$4:$I$1003,$L5)="","",INDEX('Schedule'!$I$4:$I$1003,$L5))) | H5: =IF($L5="","",IF(INDEX('Schedule'!$J$4:$J$1003,$L5)="","",INDEX('Schedule'!$J$4:$J$1003,$L5))) | I5: =IF($L5="","",IF(INDEX('Schedule'!$M$4:$M$1003,$L5)="","",INDEX('Schedule'!$M$4:$M$1003,$L5))) | L5: =IFERROR(MATCH(SMALL('Schedule'!$O$4:$O$1003,2),'Schedule'!$O$4:$O$1003,0),"")
A6: =IF($L6="","",3) | B6: =IF($L6="","",IF(INDEX('Schedule'!$A$4:$A$1003,$L6)="","",INDEX('Schedule'!$A$4:$A$1003,$L6))) | C6: =IF($B6="","",IFERROR(INDEX('Cars'!$F$4:$F$103,MATCH($B6,'Cars'!$A$4:$A$103,0))&"","")) | D6: =IF($L6="","",IF(INDEX('Schedule'!$C$4:$C$1003,$L6)="","",INDEX('Schedule'!$C$4:$C$1003,$L6))) | E6: =IF($L6="","",IF(INDEX('Schedule'!$F$4:$F$1003,$L6)="","",INDEX('Schedule'!$F$4:$F$1003,$L6))) | F6: =IF($L6="","",IF(INDEX('Schedule'!$G$4:$G$1003,$L6)="","",INDEX('Schedule'!$G$4:$G$1003,$L6))) | G6: =IF($L6="","",IF(INDEX('Schedule'!$I$4:$I$1003,$L6)="","",INDEX('Schedule'!$I$4:$I$1003,$L6))) | H6: =IF($L6="","",IF(INDEX('Schedule'!$J$4:$J$1003,$L6)="","",INDEX('Schedule'!$J$4:$J$1003,$L6))) | I6: =IF($L6="","",IF(INDEX('Schedule'!$M$4:$M$1003,$L6)="","",INDEX('Schedule'!$M$4:$M$1003,$L6))) | L6: =IFERROR(MATCH(SMALL('Schedule'!$O$4:$O$1003,3),'Schedule'!$O$4:$O$1003,0),"")
A7: =IF($L7="","",4) | B7: =IF($L7="","",IF(INDEX('Schedule'!$A$4:$A$1003,$L7)="","",INDEX('Schedule'!$A$4:$A$1003,$L7))) | C7: =IF($B7="","",IFERROR(INDEX('Cars'!$F$4:$F$103,MATCH($B7,'Cars'!$A$4:$A$103,0))&"","")) | D7: =IF($L7="","",IF(INDEX('Schedule'!$C$4:$C$1003,$L7)="","",INDEX('Schedule'!$C$4:$C$1003,$L7))) | E7: =IF($L7="","",IF(INDEX('Schedule'!$F$4:$F$1003,$L7)="","",INDEX('Schedule'!$F$4:$F$1003,$L7))) | F7: =IF($L7="","",IF(INDEX('Schedule'!$G$4:$G$1003,$L7)="","",INDEX('Schedule'!$G$4:$G$1003,$L7))) | G7: =IF($L7="","",IF(INDEX('Schedule'!$I$4:$I$1003,$L7)="","",INDEX('Schedule'!$I$4:$I$1003,$L7))) | H7: =IF($L7="","",IF(INDEX('Schedule'!$J$4:$J$1003,$L7)="","",INDEX('Schedule'!$J$4:$J$1003,$L7))) | I7: =IF($L7="","",IF(INDEX('Schedule'!$M$4:$M$1003,$L7)="","",INDEX('Schedule'!$M$4:$M$1003,$L7))) | L7: =IFERROR(MATCH(SMALL('Schedule'!$O$4:$O$1003,4),'Schedule'!$O$4:$O$1003,0),"")
A8: =IF($L8="","",5) | B8: =IF($L8="","",IF(INDEX('Schedule'!$A$4:$A$1003,$L8)="","",INDEX('Schedule'!$A$4:$A$1003,$L8))) | C8: =IF($B8="","",IFERROR(INDEX('Cars'!$F$4:$F$103,MATCH($B8,'Cars'!$A$4:$A$103,0))&"","")) | D8: =IF($L8="","",IF(INDEX('Schedule'!$C$4:$C$1003,$L8)="","",INDEX('Schedule'!$C$4:$C$1003,$L8))) | E8: =IF($L8="","",IF(INDEX('Schedule'!$F$4:$F$1003,$L8)="","",INDEX('Schedule'!$F$4:$F$1003,$L8))) | F8: =IF($L8="","",IF(INDEX('Schedule'!$G$4:$G$1003,$L8)="","",INDEX('Schedule'!$G$4:$G$1003,$L8))) | G8: =IF($L8="","",IF(INDEX('Schedule'!$I$4:$I$1003,$L8)="","",INDEX('Schedule'!$I$4:$I$1003,$L8))) | H8: =IF($L8="","",IF(INDEX('Schedule'!$J$4:$J$1003,$L8)="","",INDEX('Schedule'!$J$4:$J$1003,$L8))) | I8: =IF($L8="","",IF(INDEX('Schedule'!$M$4:$M$1003,$L8)="","",INDEX('Schedule'!$M$4:$M$1003,$L8))) | L8: =IFERROR(MATCH(SMALL('Schedule'!$O$4:$O$1003,5),'Schedule'!$O$4:$O$1003,0),"")
A9: =IF($L9="","",6) | B9: =IF($L9="","",IF(INDEX('Schedule'!$A$4:$A$1003,$L9)="","",INDEX('Schedule'!$A$4:$A$1003,$L9))) | C9: =IF($B9="","",IFERROR(INDEX('Cars'!$F$4:$F$103,MATCH($B9,'Cars'!$A$4:$A$103,0))&"","")) | D9: =IF($L9="","",IF(INDEX('Schedule'!$C$4:$C$1003,$L9)="","",INDEX('Schedule'!$C$4:$C$1003,$L9))) | E9: =IF($L9="","",IF(INDEX('Schedule'!$F$4:$F$1003,$L9)="","",INDEX('Schedule'!$F$4:$F$1003,$L9))) | F9: =IF($L9="","",IF(INDEX('Schedule'!$G$4:$G$1003,$L9)="","",INDEX('Schedule'!$G$4:$G$1003,$L9))) | G9: =IF($L9="","",IF(INDEX('Schedule'!$I$4:$I$1003,$L9)="","",INDEX('Schedule'!$I$4:$I$1003,$L9))) | H9: =IF($L9="","",IF(INDEX('Schedule'!$J$4:$J$1003,$L9)="","",INDEX('Schedule'!$J$4:$J$1003,$L9))) | I9: =IF($L9="","",IF(INDEX('Schedule'!$M$4:$M$1003,$L9)="","",INDEX('Schedule'!$M$4:$M$1003,$L9))) | L9: =IFERROR(MATCH(SMALL('Schedule'!$O$4:$O$1003,6),'Schedule'!$O$4:$O$1003,0),"")
A10: =IF($L10="","",7) | B10: =IF($L10="","",IF(INDEX('Schedule'!$A$4:$A$1003,$L10)="","",INDEX('Schedule'!$A$4:$A$1003,$L10))) | C10: =IF($B10="","",IFERROR(INDEX('Cars'!$F$4:$F$103,MATCH($B10,'Cars'!$A$4:$A$103,0))&"","")) | D10: =IF($L10="","",IF(INDEX('Schedule'!$C$4:$C$1003,$L10)="","",INDEX('Schedule'!$C$4:$C$1003,$L10))) | E10: =IF($L10="","",IF(INDEX('Schedule'!$F$4:$F$1003,$L10)="","",INDEX('Schedule'!$F$4:$F$1003,$L10))) | F10: =IF($L10="","",IF(INDEX('Schedule'!$G$4:$G$1003,$L10)="","",INDEX('Schedule'!$G$4:$G$1003,$L10))) | G10: =IF($L10="","",IF(INDEX('Schedule'!$I$4:$I$1003,$L10)="","",INDEX('Schedule'!$I$4:$I$1003,$L10))) | H10: =IF($L10="","",IF(INDEX('Schedule'!$J$4:$J$1003,$L10)="","",INDEX('Schedule'!$J$4:$J$1003,$L10))) | I10: =IF($L10="","",IF(INDEX('Schedule'!$M$4:$M$1003,$L10)="","",INDEX('Schedule'!$M$4:$M$1003,$L10))) | L10: =IFERROR(MATCH(SMALL('Schedule'!$O$4:$O$1003,7),'Schedule'!$O$4:$O$1003,0),"")
A11: =IF($L11="","",8) | B11: =IF($L11="","",IF(INDEX('Schedule'!$A$4:$A$1003,$L11)="","",INDEX('Schedule'!$A$4:$A$1003,$L11))) | C11: =IF($B11="","",IFERROR(INDEX('Cars'!$F$4:$F$103,MATCH($B11,'Cars'!$A$4:$A$103,0))&"","")) | D11: =IF($L11="","",IF(INDEX('Schedule'!$C$4:$C$1003,$L11)="","",INDEX('Schedule'!$C$4:$C$1003,$L11))) | E11: =IF($L11="","",IF(INDEX('Schedule'!$F$4:$F$1003,$L11)="","",INDEX('Schedule'!$F$4:$F$1003,$L11))) | F11: =IF($L11="","",IF(INDEX('Schedule'!$G$4:$G$1003,$L11)="","",INDEX('Schedule'!$G$4:$G$1003,$L11))) | G11: =IF($L11="","",IF(INDEX('Schedule'!$I$4:$I$1003,$L11)="","",INDEX('Schedule'!$I$4:$I$1003,$L11))) | H11: =IF($L11="","",IF(INDEX('Schedule'!$J$4:$J$1003,$L11)="","",INDEX('Schedule'!$J$4:$J$1003,$L11))) | I11: =IF($L11="","",IF(INDEX('Schedule'!$M$4:$M$1003,$L11)="","",INDEX('Schedule'!$M$4:$M$1003,$L11))) | L11: =IFERROR(MATCH(SMALL('Schedule'!$O$4:$O$1003,8),'Schedule'!$O$4:$O$1003,0),"")
A12: =IF($L12="","",9) | B12: =IF($L12="","",IF(INDEX('Schedule'!$A$4:$A$1003,$L12)="","",INDEX('Schedule'!$A$4:$A$1003,$L12))) | C12: =IF($B12="","",IFERROR(INDEX('Cars'!$F$4:$F$103,MATCH($B12,'Cars'!$A$4:$A$103,0))&"","")) | D12: =IF($L12="","",IF(INDEX('Schedule'!$C$4:$C$1003,$L12)="","",INDEX('Schedule'!$C$4:$C$1003,$L12))) | E12: =IF($L12="","",IF(INDEX('Schedule'!$F$4:$F$1003,$L12)="","",INDEX('Schedule'!$F$4:$F$1003,$L12))) | F12: =IF($L12="","",IF(INDEX('Schedule'!$G$4:$G$1003,$L12)="","",INDEX('Schedule'!$G$4:$G$1003,$L12))) | G12: =IF($L12="","",IF(INDEX('Schedule'!$I$4:$I$1003,$L12)="","",INDEX('Schedule'!$I$4:$I$1003,$L12))) | H12: =IF($L12="","",IF(INDEX('Schedule'!$J$4:$J$1003,$L12)="","",INDEX('Schedule'!$J$4:$J$1003,$L12))) | I12: =IF($L12="","",IF(INDEX('Schedule'!$M$4:$M$1003,$L12)="","",INDEX('Schedule'!$M$4:$M$1003,$L12))) | L12: =IFERROR(MATCH(SMALL('Schedule'!$O$4:$O$1003,9),'Schedule'!$O$4:$O$1003,0),"")
A13: =IF($L13="","",10) | B13: =IF($L13="","",IF(INDEX('Schedule'!$A$4:$A$1003,$L13)="","",INDEX('Schedule'!$A$4:$A$1003,$L13))) | C13: =IF($B13="","",IFERROR(INDEX('Cars'!$F$4:$F$103,MATCH($B13,'Cars'!$A$4:$A$103,0))&"","")) | D13: =IF($L13="","",IF(INDEX('Schedule'!$C$4:$C$1003,$L13)="","",INDEX('Schedule'!$C$4:$C$1003,$L13))) | E13: =IF($L13="","",IF(INDEX('Schedule'!$F$4:$F$1003,$L13)="","",INDEX('Schedule'!$F$4:$F$1003,$L13))) | F13: =IF($L13="","",IF(INDEX('Schedule'!$G$4:$G$1003,$L13)="","",INDEX('Schedule'!$G$4:$G$1003,$L13))) | G13: =IF($L13="","",IF(INDEX('Schedule'!$I$4:$I$1003,$L13)="","",INDEX('Schedule'!$I$4:$I$1003,$L13))) | H13: =IF($L13="","",IF(INDEX('Schedule'!$J$4:$J$1003,$L13)="","",INDEX('Schedule'!$J$4:$J$1003,$L13))) | I13: =IF($L13="","",IF(INDEX('Schedule'!$M$4:$M$1003,$L13)="","",INDEX('Schedule'!$M$4:$M$1003,$L13))) | L13: =IFERROR(MATCH(SMALL('Schedule'!$O$4:$O$1003,10),'Schedule'!$O$4:$O$1003,0),"")
A14: =IF($L14="","",11) | B14: =IF($L14="","",IF(INDEX('Schedule'!$A$4:$A$1003,$L14)="","",INDEX('Schedule'!$A$4:$A$1003,$L14))) | C14: =IF($B14="","",IFERROR(INDEX('Cars'!$F$4:$F$103,MATCH($B14,'Cars'!$A$4:$A$103,0))&"","")) | D14: =IF($L14="","",IF(INDEX('Schedule'!$C$4:$C$1003,$L14)="","",INDEX('Schedule'!$C$4:$C$1003,$L14))) | E14: =IF($L14="","",IF(INDEX('Schedule'!$F$4:$F$1003,$L14)="","",INDEX('Schedule'!$F$4:$F$1003,$L14))) | F14: =IF($L14="","",IF(INDEX('Schedule'!$G$4:$G$1003,$L14)="","",INDEX('Schedule'!$G$4:$G$1003,$L14))) | G14: =IF($L14="","",IF(INDEX('Schedule'!$I$4:$I$1003,$L14)="","",INDEX('Schedule'!$I$4:$I$1003,$L14))) | H14: =IF($L14="","",IF(INDEX('Schedule'!$J$4:$J$1003,$L14)="","",INDEX('Schedule'!$J$4:$J$1003,$L14))) | I14: =IF($L14="","",IF(INDEX('Schedule'!$M$4:$M$1003,$L14)="","",INDEX('Schedule'!$M$4:$M$1003,$L14))) | L14: =IFERROR(MATCH(SMALL('Schedule'!$O$4:$O$1003,11),'Schedule'!$O$4:$O$1003,0),"")
A15: =IF($L15="","",12) | B15: =IF($L15="","",IF(INDEX('Schedule'!$A$4:$A$1003,$L15)="","",INDEX('Schedule'!$A$4:$A$1003,$L15))) | C15: =IF($B15="","",IFERROR(INDEX('Cars'!$F$4:$F$103,MATCH($B15,'Cars'!$A$4:$A$103,0))&"","")) | D15: =IF($L15="","",IF(INDEX('Schedule'!$C$4:$C$1003,$L15)="","",INDEX('Schedule'!$C$4:$C$1003,$L15))) | E15: =IF($L15="","",IF(INDEX('Schedule'!$F$4:$F$1003,$L15)="","",INDEX('Schedule'!$F$4:$F$1003,$L15))) | F15: =IF($L15="","",IF(INDEX('Schedule'!$G$4:$G$1003,$L15)="","",INDEX('Schedule'!$G$4:$G$1003,$L15))) | G15: =IF($L15="","",IF(INDEX('Schedule'!$I$4:$I$1003,$L15)="","",INDEX('Schedule'!$I$4:$I$1003,$L15))) | H15: =IF($L15="","",IF(INDEX('Schedule'!$J$4:$J$1003,$L15)="","",INDEX('Schedule'!$J$4:$J$1003,$L15))) | I15: =IF($L15="","",IF(INDEX('Schedule'!$M$4:$M$1003,$L15)="","",INDEX('Schedule'!$M$4:$M$1003,$L15))) | L15: =IFERROR(MATCH(SMALL('Schedule'!$O$4:$O$1003,12),'Schedule'!$O$4:$O$1003,0),"")
A16: =IF($L16="","",13) | B16: =IF($L16="","",IF(INDEX('Schedule'!$A$4:$A$1003,$L16)="","",INDEX('Schedule'!$A$4:$A$1003,$L16))) | C16: =IF($B16="","",IFERROR(INDEX('Cars'!$F$4:$F$103,MATCH($B16,'Cars'!$A$4:$A$103,0))&"","")) | D16: =IF($L16="","",IF(INDEX('Schedule'!$C$4:$C$1003,$L16)="","",INDEX('Schedule'!$C$4:$C$1003,$L16))) | E16: =IF($L16="","",IF(INDEX('Schedule'!$F$4:$F$1003,$L16)="","",INDEX('Schedule'!$F$4:$F$1003,$L16))) | F16: =IF($L16="","",IF(INDEX('Schedule'!$G$4:$G$1003,$L16)="","",INDEX('Schedule'!$G$4:$G$1003,$L16))) | G16: =IF($L16="","",IF(INDEX('Schedule'!$I$4:$I$1003,$L16)="","",INDEX('Schedule'!$I$4:$I$1003,$L16))) | H16: =IF($L16="","",IF(INDEX('Schedule'!$J$4:$J$1003,$L16)="","",INDEX('Schedule'!$J$4:$J$1003,$L16))) | I16: =IF($L16="","",IF(INDEX('Schedule'!$M$4:$M$1003,$L16)="","",INDEX('Schedule'!$M$4:$M$1003,$L16))) | L16: =IFERROR(MATCH(SMALL('Schedule'!$O$4:$O$1003,13),'Schedule'!$O$4:$O$1003,0),"")
