Workbook
Name CarIDs: 'Lists'!$A$4:$A$53
Name DriverNames: 'Lists'!$F$4:$F$53

Sheet Fill-ups
A1: Fuel consumption sheet · Fill-ups | O1: From Sayarti+ — sayartiplus.com
A2: Sort by car, then odometer, before reading results. The first full fill-up of each car is only a starting point and gives no figure. Partial fill-up: choose “No” and its litres are added to the next full fill-up. Grey rows are samples: delete them. For CNG, enter cubic metres instead of litres.
A3: Date | B3: Car ID | C3: Driver | D3: Odometer | E3: Litres | F3: Amount | G3: Full tank? | H3: Litres since last full | I3: Odometer at last full | J3: Distance | K3: L/100 km | L3: km/L | M3: Car average | N3: vs. car average | O3: Flag
A4: =TODAY()-86 | B4: C01 | C4: Ahmed Salem | D4: 40000 | E4: 60 | F4: 99.6 | G4: Yes | H4: =IF(OR($B4="",$E4=""),"",IF($B4<>$B3,$E4,IF($G3="Yes",$E4,N($H3)+$E4))) | I4: =IF($B4="","",IF($B4<>$B3,"",IF($G3="Yes",IF($D3="","",$D3),$I3))) | J4: =IF(OR($G4<>"Yes",$I4="",$D4=""),"",IF($D4-$I4>0,$D4-$I4,"")) | K4: =IF($J4="","",$H4/$J4*100) | L4: =IF($J4="","",$J4/$H4) | M4: =IF($B4="","",IFERROR(SUMIFS($H$4:$H$1003,$B$4:$B$1003,$B4,$J$4:$J$1003,">0")/SUMIFS($J$4:$J$1003,$B$4:$B$1003,$B4)*100,"")) | N4: =IF(OR($K4="",$M4=""),"",$K4/$M4-1) | O4: =IF($N4="","",IF($N4>0.3,"Very high",IF($N4>0.2,"High","")))
A5: =TODAY()-76 | B5: C01 | C5: Ahmed Salem | D5: 40550 | E5: 60.5 | F5: 100.43 | G5: Yes | H5: =IF(OR($B5="",$E5=""),"",IF($B5<>$B4,$E5,IF($G4="Yes",$E5,N($H4)+$E5))) | I5: =IF($B5="","",IF($B5<>$B4,"",IF($G4="Yes",IF($D4="","",$D4),$I4))) | J5: =IF(OR($G5<>"Yes",$I5="",$D5=""),"",IF($D5-$I5>0,$D5-$I5,"")) | K5: =IF($J5="","",$H5/$J5*100) | L5: =IF($J5="","",$J5/$H5) | M5: =IF($B5="","",IFERROR(SUMIFS($H$4:$H$1003,$B$4:$B$1003,$B5,$J$4:$J$1003,">0")/SUMIFS($J$4:$J$1003,$B$4:$B$1003,$B5)*100,"")) | N5: =IF(OR($K5="",$M5=""),"",$K5/$M5-1) | O5: =IF($N5="","",IF($N5>0.3,"Very high",IF($N5>0.2,"High","")))
A6: =TODAY()-70 | B6: C01 | C6: Khaled Omar | D6: 40820 | E6: 30 | F6: 49.8 | G6: No | H6: =IF(OR($B6="",$E6=""),"",IF($B6<>$B5,$E6,IF($G5="Yes",$E6,N($H5)+$E6))) | I6: =IF($B6="","",IF($B6<>$B5,"",IF($G5="Yes",IF($D5="","",$D5),$I5))) | J6: =IF(OR($G6<>"Yes",$I6="",$D6=""),"",IF($D6-$I6>0,$D6-$I6,"")) | K6: =IF($J6="","",$H6/$J6*100) | L6: =IF($J6="","",$J6/$H6) | M6: =IF($B6="","",IFERROR(SUMIFS($H$4:$H$1003,$B$4:$B$1003,$B6,$J$4:$J$1003,">0")/SUMIFS($J$4:$J$1003,$B$4:$B$1003,$B6)*100,"")) | N6: =IF(OR($K6="",$M6=""),"",$K6/$M6-1) | O6: =IF($N6="","",IF($N6>0.3,"Very high",IF($N6>0.2,"High","")))
A7: =TODAY()-64 | B7: C01 | C7: Khaled Omar | D7: 41150 | E7: 36 | F7: 59.76 | G7: Yes | H7: =IF(OR($B7="",$E7=""),"",IF($B7<>$B6,$E7,IF($G6="Yes",$E7,N($H6)+$E7))) | I7: =IF($B7="","",IF($B7<>$B6,"",IF($G6="Yes",IF($D6="","",$D6),$I6))) | J7: =IF(OR($G7<>"Yes",$I7="",$D7=""),"",IF($D7-$I7>0,$D7-$I7,"")) | K7: =IF($J7="","",$H7/$J7*100) | L7: =IF($J7="","",$J7/$H7) | M7: =IF($B7="","",IFERROR(SUMIFS($H$4:$H$1003,$B$4:$B$1003,$B7,$J$4:$J$1003,">0")/SUMIFS($J$4:$J$1003,$B$4:$B$1003,$B7)*100,"")) | N7: =IF(OR($K7="",$M7=""),"",$K7/$M7-1) | O7: =IF($N7="","",IF($N7>0.3,"Very high",IF($N7>0.2,"High","")))
A8: =TODAY()-52 | B8: C01 | C8: Khaled Omar | D8: 41700 | E8: 64 | F8: 106.24 | G8: Yes | H8: =IF(OR($B8="",$E8=""),"",IF($B8<>$B7,$E8,IF($G7="Yes",$E8,N($H7)+$E8))) | I8: =IF($B8="","",IF($B8<>$B7,"",IF($G7="Yes",IF($D7="","",$D7),$I7))) | J8: =IF(OR($G8<>"Yes",$I8="",$D8=""),"",IF($D8-$I8>0,$D8-$I8,"")) | K8: =IF($J8="","",$H8/$J8*100) | L8: =IF($J8="","",$J8/$H8) | M8: =IF($B8="","",IFERROR(SUMIFS($H$4:$H$1003,$B$4:$B$1003,$B8,$J$4:$J$1003,">0")/SUMIFS($J$4:$J$1003,$B$4:$B$1003,$B8)*100,"")) | N8: =IF(OR($K8="",$M8=""),"",$K8/$M8-1) | O8: =IF($N8="","",IF($N8>0.3,"Very high",IF($N8>0.2,"High","")))
A9: =TODAY()-40 | B9: C01 | C9: Khaled Omar | D9: 42200 | E9: 76 | F9: 126.16 | G9: Yes | H9: =IF(OR($B9="",$E9=""),"",IF($B9<>$B8,$E9,IF($G8="Yes",$E9,N($H8)+$E9))) | I9: =IF($B9="","",IF($B9<>$B8,"",IF($G8="Yes",IF($D8="","",$D8),$I8))) | J9: =IF(OR($G9<>"Yes",$I9="",$D9=""),"",IF($D9-$I9>0,$D9-$I9,"")) | K9: =IF($J9="","",$H9/$J9*100) | L9: =IF($J9="","",$J9/$H9) | M9: =IF($B9="","",IFERROR(SUMIFS($H$4:$H$1003,$B$4:$B$1003,$B9,$J$4:$J$1003,">0")/SUMIFS($J$4:$J$1003,$B$4:$B$1003,$B9)*100,"")) | N9: =IF(OR($K9="",$M9=""),"",$K9/$M9-1) | O9: =IF($N9="","",IF($N9>0.3,"Very high",IF($N9>0.2,"High","")))
A10: =TODAY()-28 | B10: C01 | C10: Ahmed Salem | D10: 42750 | E10: 61 | F10: 101.26 | G10: Yes | H10: =IF(OR($B10="",$E10=""),"",IF($B10<>$B9,$E10,IF($G9="Yes",$E10,N($H9)+$E10))) | I10: =IF($B10="","",IF($B10<>$B9,"",IF($G9="Yes",IF($D9="","",$D9),$I9))) | J10: =IF(OR($G10<>"Yes",$I10="",$D10=""),"",IF($D10-$I10>0,$D10-$I10,"")) | K10: =IF($J10="","",$H10/$J10*100) | L10: =IF($J10="","",$J10/$H10) | M10: =IF($B10="","",IFERROR(SUMIFS($H$4:$H$1003,$B$4:$B$1003,$B10,$J$4:$J$1003,">0")/SUMIFS($J$4:$J$1003,$B$4:$B$1003,$B10)*100,"")) | N10: =IF(OR($K10="",$M10=""),"",$K10/$M10-1) | O10: =IF($N10="","",IF($N10>0.3,"Very high",IF($N10>0.2,"High","")))
A11: =TODAY()-84 | B11: C02 | C11: Mohammed Ali | D11: 20000 | E11: 35 | F11: 81.55 | G11: Yes | H11: =IF(OR($B11="",$E11=""),"",IF($B11<>$B10,$E11,IF($G10="Yes",$E11,N($H10)+$E11))) | I11: =IF($B11="","",IF($B11<>$B10,"",IF($G10="Yes",IF($D10="","",$D10),$I10))) | J11: =IF(OR($G11<>"Yes",$I11="",$D11=""),"",IF($D11-$I11>0,$D11-$I11,"")) | K11: =IF($J11="","",$H11/$J11*100) | L11: =IF($J11="","",$J11/$H11) | M11: =IF($B11="","",IFERROR(SUMIFS($H$4:$H$1003,$B$4:$B$1003,$B11,$J$4:$J$1003,">0")/SUMIFS($J$4:$J$1003,$B$4:$B$1003,$B11)*100,"")) | N11: =IF(OR($K11="",$M11=""),"",$K11/$M11-1) | O11: =IF($N11="","",IF($N11>0.3,"Very high",IF($N11>0.2,"High","")))
A12: =TODAY()-72 | B12: C02 | C12: Mohammed Ali | D12: 20520 | E12: 34 | F12: 79.22 | G12: Yes | H12: =IF(OR($B12="",$E12=""),"",IF($B12<>$B11,$E12,IF($G11="Yes",$E12,N($H11)+$E12))) | I12: =IF($B12="","",IF($B12<>$B11,"",IF($G11="Yes",IF($D11="","",$D11),$I11))) | J12: =IF(OR($G12<>"Yes",$I12="",$D12=""),"",IF($D12-$I12>0,$D12-$I12,"")) | K12: =IF($J12="","",$H12/$J12*100) | L12: =IF($J12="","",$J12/$H12) | M12: =IF($B12="","",IFERROR(SUMIFS($H$4:$H$1003,$B$4:$B$1003,$B12,$J$4:$J$1003,">0")/SUMIFS($J$4:$J$1003,$B$4:$B$1003,$B12)*100,"")) | N12: =IF(OR($K12="",$M12=""),"",$K12/$M12-1) | O12: =IF($N12="","",IF($N12>0.3,"Very high",IF($N12>0.2,"High","")))
A13: =TODAY()-60 | B13: C02 | C13: Mohammed Ali | D13: 21080 | E13: 37 | F13: 86.21 | G13: Yes | H13: =IF(OR($B13="",$E13=""),"",IF($B13<>$B12,$E13,IF($G12="Yes",$E13,N($H12)+$E13))) | I13: =IF($B13="","",IF($B13<>$B12,"",IF($G12="Yes",IF($D12="","",$D12),$I12))) | J13: =IF(OR($G13<>"Yes",$I13="",$D13=""),"",IF($D13-$I13>0,$D13-$I13,"")) | K13: =IF($J13="","",$H13/$J13*100) | L13: =IF($J13="","",$J13/$H13) | M13: =IF($B13="","",IFERROR(SUMIFS($H$4:$H$1003,$B$4:$B$1003,$B13,$J$4:$J$1003,">0")/SUMIFS($J$4:$J$1003,$B$4:$B$1003,$B13)*100,"")) | N13: =IF(OR($K13="",$M13=""),"",$K13/$M13-1) | O13: =IF($N13="","",IF($N13>0.3,"Very high",IF($N13>0.2,"High","")))
A14: =TODAY()-50 | B14: C02 | C14: Ahmed Salem | D14: 21400 | E14: 15 | F14: 34.95 | G14: No | H14: =IF(OR($B14="",$E14=""),"",IF($B14<>$B13,$E14,IF($G13="Yes",$E14,N($H13)+$E14))) | I14: =IF($B14="","",IF($B14<>$B13,"",IF($G13="Yes",IF($D13="","",$D13),$I13))) | J14: =IF(OR($G14<>"Yes",$I14="",$D14=""),"",IF($D14-$I14>0,$D14-$I14,"")) | K14: =IF($J14="","",$H14/$J14*100) | L14: =IF($J14="","",$J14/$H14) | M14: =IF($B14="","",IFERROR(SUMIFS($H$4:$H$1003,$B$4:$B$1003,$B14,$J$4:$J$1003,">0")/SUMIFS($J$4:$J$1003,$B$4:$B$1003,$B14)*100,"")) | N14: =IF(OR($K14="",$M14=""),"",$K14/$M14-1) | O14: =IF($N14="","",IF($N14>0.3,"Very high",IF($N14>0.2,"High","")))
A15: =TODAY()-44 | B15: C02 | C15: Ahmed Salem | D15: 21600 | E15: 36 | F15: 83.88 | G15: Yes | H15: =IF(OR($B15="",$E15=""),"",IF($B15<>$B14,$E15,IF($G14="Yes",$E15,N($H14)+$E15))) | I15: =IF($B15="","",IF($B15<>$B14,"",IF($G14="Yes",IF($D14="","",$D14),$I14))) | J15: =IF(OR($G15<>"Yes",$I15="",$D15=""),"",IF($D15-$I15>0,$D15-$I15,"")) | K15: =IF($J15="","",$H15/$J15*100) | L15: =IF($J15="","",$J15/$H15) | M15: =IF($B15="","",IFERROR(SUMIFS($H$4:$H$1003,$B$4:$B$1003,$B15,$J$4:$J$1003,">0")/SUMIFS($J$4:$J$1003,$B$4:$B$1003,$B15)*100,"")) | N15: =IF(OR($K15="",$M15=""),"",$K15/$M15-1) | O15: =IF($N15="","",IF($N15>0.3,"Very high",IF($N15>0.2,"High","")))
A16: =TODAY()-30 | B16: C02 | C16: Mohammed Ali | D16: 22150 | E16: 36 | F16: 83.88 | G16: Yes | H16: =IF(OR($B16="",$E16=""),"",IF($B16<>$B15,$E16,IF($G15="Yes",$E16,N($H15)+$E16))) | I16: =IF($B16="","",IF($B16<>$B15,"",IF($G15="Yes",IF($D15="","",$D15),$I15))) | J16: =IF(OR($G16<>"Yes",$I16="",$D16=""),"",IF($D16-$I16>0,$D16-$I16,"")) | K16: =IF($J16="","",$H16/$J16*100) | L16: =IF($J16="","",$J16/$H16) | M16: =IF($B16="","",IFERROR(SUMIFS($H$4:$H$1003,$B$4:$B$1003,$B16,$J$4:$J$1003,">0")/SUMIFS($J$4:$J$1003,$B$4:$B$1003,$B16)*100,"")) | N16: =IF(OR($K16="",$M16=""),"",$K16/$M16-1) | O16: =IF($N16="","",IF($N16>0.3,"Very high",IF($N16>0.2,"High","")))
H17: =IF(OR($B17="",$E17=""),"",IF($B17<>$B16,$E17,IF($G16="Yes",$E17,N($H16)+$E17))) | I17: =IF($B17="","",IF($B17<>$B16,"",IF($G16="Yes",IF($D16="","",$D16),$I16))) | J17: =IF(OR($G17<>"Yes",$I17="",$D17=""),"",IF($D17-$I17>0,$D17-$I17,"")) | K17: =IF($J17="","",$H17/$J17*100) | L17: =IF($J17="","",$J17/$H17) | M17: =IF($B17="","",IFERROR(SUMIFS($H$4:$H$1003,$B$4:$B$1003,$B17,$J$4:$J$1003,">0")/SUMIFS($J$4:$J$1003,$B$4:$B$1003,$B17)*100,"")) | N17: =IF(OR($K17="",$M17=""),"",$K17/$M17-1) | O17: =IF($N17="","",IF($N17>0.3,"Very high",IF($N17>0.2,"High","")))
H18: =IF(OR($B18="",$E18=""),"",IF($B18<>$B17,$E18,IF($G17="Yes",$E18,N($H17)+$E18))) | I18: =IF($B18="","",IF($B18<>$B17,"",IF($G17="Yes",IF($D17="","",$D17),$I17))) | J18: =IF(OR($G18<>"Yes",$I18="",$D18=""),"",IF($D18-$I18>0,$D18-$I18,"")) | K18: =IF($J18="","",$H18/$J18*100) | L18: =IF($J18="","",$J18/$H18) | M18: =IF($B18="","",IFERROR(SUMIFS($H$4:$H$1003,$B$4:$B$1003,$B18,$J$4:$J$1003,">0")/SUMIFS($J$4:$J$1003,$B$4:$B$1003,$B18)*100,"")) | N18: =IF(OR($K18="",$M18=""),"",$K18/$M18-1) | O18: =IF($N18="","",IF($N18>0.3,"Very high",IF($N18>0.2,"High","")))
H19: =IF(OR($B19="",$E19=""),"",IF($B19<>$B18,$E19,IF($G18="Yes",$E19,N($H18)+$E19))) | I19: =IF($B19="","",IF($B19<>$B18,"",IF($G18="Yes",IF($D18="","",$D18),$I18))) | J19: =IF(OR($G19<>"Yes",$I19="",$D19=""),"",IF($D19-$I19>0,$D19-$I19,"")) | K19: =IF($J19="","",$H19/$J19*100) | L19: =IF($J19="","",$J19/$H19) | M19: =IF($B19="","",IFERROR(SUMIFS($H$4:$H$1003,$B$4:$B$1003,$B19,$J$4:$J$1003,">0")/SUMIFS($J$4:$J$1003,$B$4:$B$1003,$B19)*100,"")) | N19: =IF(OR($K19="",$M19=""),"",$K19/$M19-1) | O19: =IF($N19="","",IF($N19>0.3,"Very high",IF($N19>0.2,"High","")))
H20: =IF(OR($B20="",$E20=""),"",IF($B20<>$B19,$E20,IF($G19="Yes",$E20,N($H19)+$E20))) | I20: =IF($B20="","",IF($B20<>$B19,"",IF($G19="Yes",IF($D19="","",$D19),$I19))) | J20: =IF(OR($G20<>"Yes",$I20="",$D20=""),"",IF($D20-$I20>0,$D20-$I20,"")) | K20: =IF($J20="","",$H20/$J20*100) | L20: =IF($J20="","",$J20/$H20) | M20: =IF($B20="","",IFERROR(SUMIFS($H$4:$H$1003,$B$4:$B$1003,$B20,$J$4:$J$1003,">0")/SUMIFS($J$4:$J$1003,$B$4:$B$1003,$B20)*100,"")) | N20: =IF(OR($K20="",$M20=""),"",$K20/$M20-1) | O20: =IF($N20="","",IF($N20>0.3,"Very high",IF($N20>0.2,"High","")))
H21: =IF(OR($B21="",$E21=""),"",IF($B21<>$B20,$E21,IF($G20="Yes",$E21,N($H20)+$E21))) | I21: =IF($B21="","",IF($B21<>$B20,"",IF($G20="Yes",IF($D20="","",$D20),$I20))) | J21: =IF(OR($G21<>"Yes",$I21="",$D21=""),"",IF($D21-$I21>0,$D21-$I21,"")) | K21: =IF($J21="","",$H21/$J21*100) | L21: =IF($J21="","",$J21/$H21) | M21: =IF($B21="","",IFERROR(SUMIFS($H$4:$H$1003,$B$4:$B$1003,$B21,$J$4:$J$1003,">0")/SUMIFS($J$4:$J$1003,$B$4:$B$1003,$B21)*100,"")) | N21: =IF(OR($K21="",$M21=""),"",$K21/$M21-1) | O21: =IF($N21="","",IF($N21>0.3,"Very high",IF($N21>0.2,"High","")))
H22: =IF(OR($B22="",$E22=""),"",IF($B22<>$B21,$E22,IF($G21="Yes",$E22,N($H21)+$E22))) | I22: =IF($B22="","",IF($B22<>$B21,"",IF($G21="Yes",IF($D21="","",$D21),$I21))) | J22: =IF(OR($G22<>"Yes",$I22="",$D22=""),"",IF($D22-$I22>0,$D22-$I22,"")) | K22: =IF($J22="","",$H22/$J22*100) | L22: =IF($J22="","",$J22/$H22) | M22: =IF($B22="","",IFERROR(SUMIFS($H$4:$H$1003,$B$4:$B$1003,$B22,$J$4:$J$1003,">0")/SUMIFS($J$4:$J$1003,$B$4:$B$1003,$B22)*100,"")) | N22: =IF(OR($K22="",$M22=""),"",$K22/$M22-1) | O22: =IF($N22="","",IF($N22>0.3,"Very high",IF($N22>0.2,"High","")))
H23: =IF(OR($B23="",$E23=""),"",IF($B23<>$B22,$E23,IF($G22="Yes",$E23,N($H22)+$E23))) | I23: =IF($B23="","",IF($B23<>$B22,"",IF($G22="Yes",IF($D22="","",$D22),$I22))) | J23: =IF(OR($G23<>"Yes",$I23="",$D23=""),"",IF($D23-$I23>0,$D23-$I23,"")) | K23: =IF($J23="","",$H23/$J23*100) | L23: =IF($J23="","",$J23/$H23) | M23: =IF($B23="","",IFERROR(SUMIFS($H$4:$H$1003,$B$4:$B$1003,$B23,$J$4:$J$1003,">0")/SUMIFS($J$4:$J$1003,$B$4:$B$1003,$B23)*100,"")) | N23: =IF(OR($K23="",$M23=""),"",$K23/$M23-1) | O23: =IF($N23="","",IF($N23>0.3,"Very high",IF($N23>0.2,"High","")))
H24: =IF(OR($B24="",$E24=""),"",IF($B24<>$B23,$E24,IF($G23="Yes",$E24,N($H23)+$E24))) | I24: =IF($B24="","",IF($B24<>$B23,"",IF($G23="Yes",IF($D23="","",$D23),$I23))) | J24: =IF(OR($G24<>"Yes",$I24="",$D24=""),"",IF($D24-$I24>0,$D24-$I24,"")) | K24: =IF($J24="","",$H24/$J24*100) | L24: =IF($J24="","",$J24/$H24) | M24: =IF($B24="","",IFERROR(SUMIFS($H$4:$H$1003,$B$4:$B$1003,$B24,$J$4:$J$1003,">0")/SUMIFS($J$4:$J$1003,$B$4:$B$1003,$B24)*100,"")) | N24: =IF(OR($K24="",$M24=""),"",$K24/$M24-1) | O24: =IF($N24="","",IF($N24>0.3,"Very high",IF($N24>0.2,"High","")))
H25: =IF(OR($B25="",$E25=""),"",IF($B25<>$B24,$E25,IF($G24="Yes",$E25,N($H24)+$E25))) | I25: =IF($B25="","",IF($B25<>$B24,"",IF($G24="Yes",IF($D24="","",$D24),$I24))) | J25: =IF(OR($G25<>"Yes",$I25="",$D25=""),"",IF($D25-$I25>0,$D25-$I25,"")) | K25: =IF($J25="","",$H25/$J25*100) | L25: =IF($J25="","",$J25/$H25) | M25: =IF($B25="","",IFERROR(SUMIFS($H$4:$H$1003,$B$4:$B$1003,$B25,$J$4:$J$1003,">0")/SUMIFS($J$4:$J$1003,$B$4:$B$1003,$B25)*100,"")) | N25: =IF(OR($K25="",$M25=""),"",$K25/$M25-1) | O25: =IF($N25="","",IF($N25>0.3,"Very high",IF($N25>0.2,"High","")))
H26: =IF(OR($B26="",$E26=""),"",IF($B26<>$B25,$E26,IF($G25="Yes",$E26,N($H25)+$E26))) | I26: =IF($B26="","",IF($B26<>$B25,"",IF($G25="Yes",IF($D25="","",$D25),$I25))) | J26: =IF(OR($G26<>"Yes",$I26="",$D26=""),"",IF($D26-$I26>0,$D26-$I26,"")) | K26: =IF($J26="","",$H26/$J26*100) | L26: =IF($J26="","",$J26/$H26) | M26: =IF($B26="","",IFERROR(SUMIFS($H$4:$H$1003,$B$4:$B$1003,$B26,$J$4:$J$1003,">0")/SUMIFS($J$4:$J$1003,$B$4:$B$1003,$B26)*100,"")) | N26: =IF(OR($K26="",$M26=""),"",$K26/$M26-1) | O26: =IF($N26="","",IF($N26>0.3,"Very high",IF($N26>0.2,"High","")))
H27: =IF(OR($B27="",$E27=""),"",IF($B27<>$B26,$E27,IF($G26="Yes",$E27,N($H26)+$E27))) | I27: =IF($B27="","",IF($B27<>$B26,"",IF($G26="Yes",IF($D26="","",$D26),$I26))) | J27: =IF(OR($G27<>"Yes",$I27="",$D27=""),"",IF($D27-$I27>0,$D27-$I27,"")) | K27: =IF($J27="","",$H27/$J27*100) | L27: =IF($J27="","",$J27/$H27) | M27: =IF($B27="","",IFERROR(SUMIFS($H$4:$H$1003,$B$4:$B$1003,$B27,$J$4:$J$1003,">0")/SUMIFS($J$4:$J$1003,$B$4:$B$1003,$B27)*100,"")) | N27: =IF(OR($K27="",$M27=""),"",$K27/$M27-1) | O27: =IF($N27="","",IF($N27>0.3,"Very high",IF($N27>0.2,"High","")))
H28: =IF(OR($B28="",$E28=""),"",IF($B28<>$B27,$E28,IF($G27="Yes",$E28,N($H27)+$E28))) | I28: =IF($B28="","",IF($B28<>$B27,"",IF($G27="Yes",IF($D27="","",$D27),$I27))) | J28: =IF(OR($G28<>"Yes",$I28="",$D28=""),"",IF($D28-$I28>0,$D28-$I28,"")) | K28: =IF($J28="","",$H28/$J28*100) | L28: =IF($J28="","",$J28/$H28) | M28: =IF($B28="","",IFERROR(SUMIFS($H$4:$H$1003,$B$4:$B$1003,$B28,$J$4:$J$1003,">0")/SUMIFS($J$4:$J$1003,$B$4:$B$1003,$B28)*100,"")) | N28: =IF(OR($K28="",$M28=""),"",$K28/$M28-1) | O28: =IF($N28="","",IF($N28>0.3,"Very high",IF($N28>0.2,"High","")))
... H1003: =IF(OR($B1003="",$E1003=""),"",IF($B1003<>$B1002,$E1003,IF($G1002="Yes",$E1003,N($H1002)+$E1003))) | I1003: =IF($B1003="","",IF($B1003<>$B1002,"",IF($G1002="Yes",IF($D1002="","",$D1002),$I1002))) | J1003: =IF(OR($G1003<>"Yes",$I1003="",$D1003=""),"",IF($D1003-$I1003>0,$D1003-$I1003,"")) | K1003: =IF($J1003="","",$H1003/$J1003*100) | L1003: =IF($J1003="","",$J1003/$H1003) | M1003: =IF($B1003="","",IFERROR(SUMIFS($H$4:$H$1003,$B$4:$B$1003,$B1003,$J$4:$J$1003,">0")/SUMIFS($J$4:$J$1003,$B$4:$B$1003,$B1003)*100,"")) | N1003: =IF(OR($K1003="",$M1003=""),"",$K1003/$M1003-1) | O1003: =IF($N1003="","",IF($N1003>0.3,"Very high",IF($N1003>0.2,"High","")))

Sheet Lists
A1: Fuel consumption sheet · Lists | G1: From Sayarti+ — sayartiplus.com
A2: Add your cars and drivers here once; they appear in the dropdowns on the Fill-ups sheet. Name and mobile only, no national ID or Iqama numbers.
A3: Car ID | B3: Name | C3: Fuel type | D3: Expected L/100 km (owner's manual, optional) | F3: Driver name | G3: Mobile (optional)
A4: C01 | B4: Hilux 1 | C4: Diesel | D4: 11 | F4: Ahmed Salem
A5: C02 | B5: Delivery Accent | C5: Petrol | D5: 6.5 | F5: Khaled Omar
F6: Mohammed Ali

Sheet Comparison
A1: Fuel consumption sheet · Comparison | H1: From Sayarti+ — sayartiplus.com
A2: Change the two dates in B3 and D3. Figures use only the stretches between two full fill-ups. Table 3 is the fair comparison: the same car with different drivers. 20% above average is worth a question; 30% is worth an inspection (a practical rule, not an official standard).
A3: From | B3: =TODAY()-90 | C3: To | D3: =TODAY()
A5: Table 1 · By car
A6: Car ID | B6: Litres | C6: Distance (km) | D6: L/100 km | E6: Cost | F6: Cost per km | G6: Expected L/100 km | H6: % over expected
A7: =IF('Lists'!A4="","",'Lists'!A4) | B7: =IF($A7="","",SUMIFS('Fill-ups'!$H$4:$H$1003,'Fill-ups'!$B$4:$B$1003,$A7,'Fill-ups'!$J$4:$J$1003,">0",'Fill-ups'!$A$4:$A$1003,">="&$B$3,'Fill-ups'!$A$4:$A$1003,"<="&$D$3)) | C7: =IF($A7="","",SUMIFS('Fill-ups'!$J$4:$J$1003,'Fill-ups'!$B$4:$B$1003,$A7,'Fill-ups'!$A$4:$A$1003,">="&$B$3,'Fill-ups'!$A$4:$A$1003,"<="&$D$3)) | D7: =IF(N(C7)>0,B7/C7*100,"") | E7: =IF($A7="","",SUMIFS('Fill-ups'!$F$4:$F$1003,'Fill-ups'!$B$4:$B$1003,$A7,'Fill-ups'!$A$4:$A$1003,">="&$B$3,'Fill-ups'!$A$4:$A$1003,"<="&$D$3)) | F7: =IF(N(C7)>0,E7/C7,"") | G7: =IF($A7="","",IF(N('Lists'!D4)>0,'Lists'!D4,"")) | H7: =IF(OR(D7="",G7=""),"",D7/G7-1)
A8: =IF('Lists'!A5="","",'Lists'!A5) | B8: =IF($A8="","",SUMIFS('Fill-ups'!$H$4:$H$1003,'Fill-ups'!$B$4:$B$1003,$A8,'Fill-ups'!$J$4:$J$1003,">0",'Fill-ups'!$A$4:$A$1003,">="&$B$3,'Fill-ups'!$A$4:$A$1003,"<="&$D$3)) | C8: =IF($A8="","",SUMIFS('Fill-ups'!$J$4:$J$1003,'Fill-ups'!$B$4:$B$1003,$A8,'Fill-ups'!$A$4:$A$1003,">="&$B$3,'Fill-ups'!$A$4:$A$1003,"<="&$D$3)) | D8: =IF(N(C8)>0,B8/C8*100,"") | E8: =IF($A8="","",SUMIFS('Fill-ups'!$F$4:$F$1003,'Fill-ups'!$B$4:$B$1003,$A8,'Fill-ups'!$A$4:$A$1003,">="&$B$3,'Fill-ups'!$A$4:$A$1003,"<="&$D$3)) | F8: =IF(N(C8)>0,E8/C8,"") | G8: =IF($A8="","",IF(N('Lists'!D5)>0,'Lists'!D5,"")) | H8: =IF(OR(D8="",G8=""),"",D8/G8-1)
A9: =IF('Lists'!A6="","",'Lists'!A6) | B9: =IF($A9="","",SUMIFS('Fill-ups'!$H$4:$H$1003,'Fill-ups'!$B$4:$B$1003,$A9,'Fill-ups'!$J$4:$J$1003,">0",'Fill-ups'!$A$4:$A$1003,">="&$B$3,'Fill-ups'!$A$4:$A$1003,"<="&$D$3)) | C9: =IF($A9="","",SUMIFS('Fill-ups'!$J$4:$J$1003,'Fill-ups'!$B$4:$B$1003,$A9,'Fill-ups'!$A$4:$A$1003,">="&$B$3,'Fill-ups'!$A$4:$A$1003,"<="&$D$3)) | D9: =IF(N(C9)>0,B9/C9*100,"") | E9: =IF($A9="","",SUMIFS('Fill-ups'!$F$4:$F$1003,'Fill-ups'!$B$4:$B$1003,$A9,'Fill-ups'!$A$4:$A$1003,">="&$B$3,'Fill-ups'!$A$4:$A$1003,"<="&$D$3)) | F9: =IF(N(C9)>0,E9/C9,"") | G9: =IF($A9="","",IF(N('Lists'!D6)>0,'Lists'!D6,"")) | H9: =IF(OR(D9="",G9=""),"",D9/G9-1)
A10: =IF('Lists'!A7="","",'Lists'!A7) | B10: =IF($A10="","",SUMIFS('Fill-ups'!$H$4:$H$1003,'Fill-ups'!$B$4:$B$1003,$A10,'Fill-ups'!$J$4:$J$1003,">0",'Fill-ups'!$A$4:$A$1003,">="&$B$3,'Fill-ups'!$A$4:$A$1003,"<="&$D$3)) | C10: =IF($A10="","",SUMIFS('Fill-ups'!$J$4:$J$1003,'Fill-ups'!$B$4:$B$1003,$A10,'Fill-ups'!$A$4:$A$1003,">="&$B$3,'Fill-ups'!$A$4:$A$1003,"<="&$D$3)) | D10: =IF(N(C10)>0,B10/C10*100,"") | E10: =IF($A10="","",SUMIFS('Fill-ups'!$F$4:$F$1003,'Fill-ups'!$B$4:$B$1003,$A10,'Fill-ups'!$A$4:$A$1003,">="&$B$3,'Fill-ups'!$A$4:$A$1003,"<="&$D$3)) | F10: =IF(N(C10)>0,E10/C10,"") | G10: =IF($A10="","",IF(N('Lists'!D7)>0,'Lists'!D7,"")) | H10: =IF(OR(D10="",G10=""),"",D10/G10-1)
A11: =IF('Lists'!A8="","",'Lists'!A8) | B11: =IF($A11="","",SUMIFS('Fill-ups'!$H$4:$H$1003,'Fill-ups'!$B$4:$B$1003,$A11,'Fill-ups'!$J$4:$J$1003,">0",'Fill-ups'!$A$4:$A$1003,">="&$B$3,'Fill-ups'!$A$4:$A$1003,"<="&$D$3)) | C11: =IF($A11="","",SUMIFS('Fill-ups'!$J$4:$J$1003,'Fill-ups'!$B$4:$B$1003,$A11,'Fill-ups'!$A$4:$A$1003,">="&$B$3,'Fill-ups'!$A$4:$A$1003,"<="&$D$3)) | D11: =IF(N(C11)>0,B11/C11*100,"") | E11: =IF($A11="","",SUMIFS('Fill-ups'!$F$4:$F$1003,'Fill-ups'!$B$4:$B$1003,$A11,'Fill-ups'!$A$4:$A$1003,">="&$B$3,'Fill-ups'!$A$4:$A$1003,"<="&$D$3)) | F11: =IF(N(C11)>0,E11/C11,"") | G11: =IF($A11="","",IF(N('Lists'!D8)>0,'Lists'!D8,"")) | H11: =IF(OR(D11="",G11=""),"",D11/G11-1)
A12: =IF('Lists'!A9="","",'Lists'!A9) | B12: =IF($A12="","",SUMIFS('Fill-ups'!$H$4:$H$1003,'Fill-ups'!$B$4:$B$1003,$A12,'Fill-ups'!$J$4:$J$1003,">0",'Fill-ups'!$A$4:$A$1003,">="&$B$3,'Fill-ups'!$A$4:$A$1003,"<="&$D$3)) | C12: =IF($A12="","",SUMIFS('Fill-ups'!$J$4:$J$1003,'Fill-ups'!$B$4:$B$1003,$A12,'Fill-ups'!$A$4:$A$1003,">="&$B$3,'Fill-ups'!$A$4:$A$1003,"<="&$D$3)) | D12: =IF(N(C12)>0,B12/C12*100,"") | E12: =IF($A12="","",SUMIFS('Fill-ups'!$F$4:$F$1003,'Fill-ups'!$B$4:$B$1003,$A12,'Fill-ups'!$A$4:$A$1003,">="&$B$3,'Fill-ups'!$A$4:$A$1003,"<="&$D$3)) | F12: =IF(N(C12)>0,E12/C12,"") | G12: =IF($A12="","",IF(N('Lists'!D9)>0,'Lists'!D9,"")) | H12: =IF(OR(D12="",G12=""),"",D12/G12-1)
A13: =IF('Lists'!A10="","",'Lists'!A10) | B13: =IF($A13="","",SUMIFS('Fill-ups'!$H$4:$H$1003,'Fill-ups'!$B$4:$B$1003,$A13,'Fill-ups'!$J$4:$J$1003,">0",'Fill-ups'!$A$4:$A$1003,">="&$B$3,'Fill-ups'!$A$4:$A$1003,"<="&$D$3)) | C13: =IF($A13="","",SUMIFS('Fill-ups'!$J$4:$J$1003,'Fill-ups'!$B$4:$B$1003,$A13,'Fill-ups'!$A$4:$A$1003,">="&$B$3,'Fill-ups'!$A$4:$A$1003,"<="&$D$3)) | D13: =IF(N(C13)>0,B13/C13*100,"") | E13: =IF($A13="","",SUMIFS('Fill-ups'!$F$4:$F$1003,'Fill-ups'!$B$4:$B$1003,$A13,'Fill-ups'!$A$4:$A$1003,">="&$B$3,'Fill-ups'!$A$4:$A$1003,"<="&$D$3)) | F13: =IF(N(C13)>0,E13/C13,"") | G13: =IF($A13="","",IF(N('Lists'!D10)>0,'Lists'!D10,"")) | H13: =IF(OR(D13="",G13=""),"",D13/G13-1)
A14: =IF('Lists'!A11="","",'Lists'!A11) | B14: =IF($A14="","",SUMIFS('Fill-ups'!$H$4:$H$1003,'Fill-ups'!$B$4:$B$1003,$A14,'Fill-ups'!$J$4:$J$1003,">0",'Fill-ups'!$A$4:$A$1003,">="&$B$3,'Fill-ups'!$A$4:$A$1003,"<="&$D$3)) | C14: =IF($A14="","",SUMIFS('Fill-ups'!$J$4:$J$1003,'Fill-ups'!$B$4:$B$1003,$A14,'Fill-ups'!$A$4:$A$1003,">="&$B$3,'Fill-ups'!$A$4:$A$1003,"<="&$D$3)) | D14: =IF(N(C14)>0,B14/C14*100,"") | E14: =IF($A14="","",SUMIFS('Fill-ups'!$F$4:$F$1003,'Fill-ups'!$B$4:$B$1003,$A14,'Fill-ups'!$A$4:$A$1003,">="&$B$3,'Fill-ups'!$A$4:$A$1003,"<="&$D$3)) | F14: =IF(N(C14)>0,E14/C14,"") | G14: =IF($A14="","",IF(N('Lists'!D11)>0,'Lists'!D11,"")) | H14: =IF(OR(D14="",G14=""),"",D14/G14-1)
A15: =IF('Lists'!A12="","",'Lists'!A12) | B15: =IF($A15="","",SUMIFS('Fill-ups'!$H$4:$H$1003,'Fill-ups'!$B$4:$B$1003,$A15,'Fill-ups'!$J$4:$J$1003,">0",'Fill-ups'!$A$4:$A$1003,">="&$B$3,'Fill-ups'!$A$4:$A$1003,"<="&$D$3)) | C15: =IF($A15="","",SUMIFS('Fill-ups'!$J$4:$J$1003,'Fill-ups'!$B$4:$B$1003,$A15,'Fill-ups'!$A$4:$A$1003,">="&$B$3,'Fill-ups'!$A$4:$A$1003,"<="&$D$3)) | D15: =IF(N(C15)>0,B15/C15*100,"") | E15: =IF($A15="","",SUMIFS('Fill-ups'!$F$4:$F$1003,'Fill-ups'!$B$4:$B$1003,$A15,'Fill-ups'!$A$4:$A$1003,">="&$B$3,'Fill-ups'!$A$4:$A$1003,"<="&$D$3)) | F15: =IF(N(C15)>0,E15/C15,"") | G15: =IF($A15="","",IF(N('Lists'!D12)>0,'Lists'!D12,"")) | H15: =IF(OR(D15="",G15=""),"",D15/G15-1)
A16: =IF('Lists'!A13="","",'Lists'!A13) | B16: =IF($A16="","",SUMIFS('Fill-ups'!$H$4:$H$1003,'Fill-ups'!$B$4:$B$1003,$A16,'Fill-ups'!$J$4:$J$1003,">0",'Fill-ups'!$A$4:$A$1003,">="&$B$3,'Fill-ups'!$A$4:$A$1003,"<="&$D$3)) | C16: =IF($A16="","",SUMIFS('Fill-ups'!$J$4:$J$1003,'Fill-ups'!$B$4:$B$1003,$A16,'Fill-ups'!$A$4:$A$1003,">="&$B$3,'Fill-ups'!$A$4:$A$1003,"<="&$D$3)) | D16: =IF(N(C16)>0,B16/C16*100,"") | E16: =IF($A16="","",SUMIFS('Fill-ups'!$F$4:$F$1003,'Fill-ups'!$B$4:$B$1003,$A16,'Fill-ups'!$A$4:$A$1003,">="&$B$3,'Fill-ups'!$A$4:$A$1003,"<="&$D$3)) | F16: =IF(N(C16)>0,E16/C16,"") | G16: =IF($A16="","",IF(N('Lists'!D13)>0,'Lists'!D13,"")) | H16: =IF(OR(D16="",G16=""),"",D16/G16-1)
A17: =IF('Lists'!A14="","",'Lists'!A14) | B17: =IF($A17="","",SUMIFS('Fill-ups'!$H$4:$H$1003,'Fill-ups'!$B$4:$B$1003,$A17,'Fill-ups'!$J$4:$J$1003,">0",'Fill-ups'!$A$4:$A$1003,">="&$B$3,'Fill-ups'!$A$4:$A$1003,"<="&$D$3)) | C17: =IF($A17="","",SUMIFS('Fill-ups'!$J$4:$J$1003,'Fill-ups'!$B$4:$B$1003,$A17,'Fill-ups'!$A$4:$A$1003,">="&$B$3,'Fill-ups'!$A$4:$A$1003,"<="&$D$3)) | D17: =IF(N(C17)>0,B17/C17*100,"") | E17: =IF($A17="","",SUMIFS('Fill-ups'!$F$4:$F$1003,'Fill-ups'!$B$4:$B$1003,$A17,'Fill-ups'!$A$4:$A$1003,">="&$B$3,'Fill-ups'!$A$4:$A$1003,"<="&$D$3)) | F17: =IF(N(C17)>0,E17/C17,"") | G17: =IF($A17="","",IF(N('Lists'!D14)>0,'Lists'!D14,"")) | H17: =IF(OR(D17="",G17=""),"",D17/G17-1)
A18: =IF('Lists'!A15="","",'Lists'!A15) | B18: =IF($A18="","",SUMIFS('Fill-ups'!$H$4:$H$1003,'Fill-ups'!$B$4:$B$1003,$A18,'Fill-ups'!$J$4:$J$1003,">0",'Fill-ups'!$A$4:$A$1003,">="&$B$3,'Fill-ups'!$A$4:$A$1003,"<="&$D$3)) | C18: =IF($A18="","",SUMIFS('Fill-ups'!$J$4:$J$1003,'Fill-ups'!$B$4:$B$1003,$A18,'Fill-ups'!$A$4:$A$1003,">="&$B$3,'Fill-ups'!$A$4:$A$1003,"<="&$D$3)) | D18: =IF(N(C18)>0,B18/C18*100,"") | E18: =IF($A18="","",SUMIFS('Fill-ups'!$F$4:$F$1003,'Fill-ups'!$B$4:$B$1003,$A18,'Fill-ups'!$A$4:$A$1003,">="&$B$3,'Fill-ups'!$A$4:$A$1003,"<="&$D$3)) | F18: =IF(N(C18)>0,E18/C18,"") | G18: =IF($A18="","",IF(N('Lists'!D15)>0,'Lists'!D15,"")) | H18: =IF(OR(D18="",G18=""),"",D18/G18-1)
... A56: =IF('Lists'!A53="","",'Lists'!A53) | B56: =IF($A56="","",SUMIFS('Fill-ups'!$H$4:$H$1003,'Fill-ups'!$B$4:$B$1003,$A56,'Fill-ups'!$J$4:$J$1003,">0",'Fill-ups'!$A$4:$A$1003,">="&$B$3,'Fill-ups'!$A$4:$A$1003,"<="&$D$3)) | C56: =IF($A56="","",SUMIFS('Fill-ups'!$J$4:$J$1003,'Fill-ups'!$B$4:$B$1003,$A56,'Fill-ups'!$A$4:$A$1003,">="&$B$3,'Fill-ups'!$A$4:$A$1003,"<="&$D$3)) | D56: =IF(N(C56)>0,B56/C56*100,"") | E56: =IF($A56="","",SUMIFS('Fill-ups'!$F$4:$F$1003,'Fill-ups'!$B$4:$B$1003,$A56,'Fill-ups'!$A$4:$A$1003,">="&$B$3,'Fill-ups'!$A$4:$A$1003,"<="&$D$3)) | F56: =IF(N(C56)>0,E56/C56,"") | G56: =IF($A56="","",IF(N('Lists'!D53)>0,'Lists'!D53,"")) | H56: =IF(OR(D56="",G56=""),"",D56/G56-1)
A58: Table 2 · By driver | D58: Each stretch counts for the driver who logged the full fill-up that ends it.
A59: Driver | B59: Litres | C59: Distance (km) | D59: L/100 km | E59: Cost | F59: Cost per km | G59: Fill-ups | H59: Cars driven (type)
A60: =IF('Lists'!F4="","",'Lists'!F4) | B60: =IF($A60="","",SUMIFS('Fill-ups'!$H$4:$H$1003,'Fill-ups'!$C$4:$C$1003,$A60,'Fill-ups'!$J$4:$J$1003,">0",'Fill-ups'!$A$4:$A$1003,">="&$B$3,'Fill-ups'!$A$4:$A$1003,"<="&$D$3)) | C60: =IF($A60="","",SUMIFS('Fill-ups'!$J$4:$J$1003,'Fill-ups'!$C$4:$C$1003,$A60,'Fill-ups'!$A$4:$A$1003,">="&$B$3,'Fill-ups'!$A$4:$A$1003,"<="&$D$3)) | D60: =IF(N(C60)>0,B60/C60*100,"") | E60: =IF($A60="","",SUMIFS('Fill-ups'!$F$4:$F$1003,'Fill-ups'!$C$4:$C$1003,$A60,'Fill-ups'!$A$4:$A$1003,">="&$B$3,'Fill-ups'!$A$4:$A$1003,"<="&$D$3)) | F60: =IF(N(C60)>0,E60/C60,"") | G60: =IF($A60="","",COUNTIFS('Fill-ups'!$C$4:$C$1003,$A60,'Fill-ups'!$A$4:$A$1003,">="&$B$3,'Fill-ups'!$A$4:$A$1003,"<="&$D$3))
A61: =IF('Lists'!F5="","",'Lists'!F5) | B61: =IF($A61="","",SUMIFS('Fill-ups'!$H$4:$H$1003,'Fill-ups'!$C$4:$C$1003,$A61,'Fill-ups'!$J$4:$J$1003,">0",'Fill-ups'!$A$4:$A$1003,">="&$B$3,'Fill-ups'!$A$4:$A$1003,"<="&$D$3)) | C61: =IF($A61="","",SUMIFS('Fill-ups'!$J$4:$J$1003,'Fill-ups'!$C$4:$C$1003,$A61,'Fill-ups'!$A$4:$A$1003,">="&$B$3,'Fill-ups'!$A$4:$A$1003,"<="&$D$3)) | D61: =IF(N(C61)>0,B61/C61*100,"") | E61: =IF($A61="","",SUMIFS('Fill-ups'!$F$4:$F$1003,'Fill-ups'!$C$4:$C$1003,$A61,'Fill-ups'!$A$4:$A$1003,">="&$B$3,'Fill-ups'!$A$4:$A$1003,"<="&$D$3)) | F61: =IF(N(C61)>0,E61/C61,"") | G61: =IF($A61="","",COUNTIFS('Fill-ups'!$C$4:$C$1003,$A61,'Fill-ups'!$A$4:$A$1003,">="&$B$3,'Fill-ups'!$A$4:$A$1003,"<="&$D$3))
A62: =IF('Lists'!F6="","",'Lists'!F6) | B62: =IF($A62="","",SUMIFS('Fill-ups'!$H$4:$H$1003,'Fill-ups'!$C$4:$C$1003,$A62,'Fill-ups'!$J$4:$J$1003,">0",'Fill-ups'!$A$4:$A$1003,">="&$B$3,'Fill-ups'!$A$4:$A$1003,"<="&$D$3)) | C62: =IF($A62="","",SUMIFS('Fill-ups'!$J$4:$J$1003,'Fill-ups'!$C$4:$C$1003,$A62,'Fill-ups'!$A$4:$A$1003,">="&$B$3,'Fill-ups'!$A$4:$A$1003,"<="&$D$3)) | D62: =IF(N(C62)>0,B62/C62*100,"") | E62: =IF($A62="","",SUMIFS('Fill-ups'!$F$4:$F$1003,'Fill-ups'!$C$4:$C$1003,$A62,'Fill-ups'!$A$4:$A$1003,">="&$B$3,'Fill-ups'!$A$4:$A$1003,"<="&$D$3)) | F62: =IF(N(C62)>0,E62/C62,"") | G62: =IF($A62="","",COUNTIFS('Fill-ups'!$C$4:$C$1003,$A62,'Fill-ups'!$A$4:$A$1003,">="&$B$3,'Fill-ups'!$A$4:$A$1003,"<="&$D$3))
A63: =IF('Lists'!F7="","",'Lists'!F7) | B63: =IF($A63="","",SUMIFS('Fill-ups'!$H$4:$H$1003,'Fill-ups'!$C$4:$C$1003,$A63,'Fill-ups'!$J$4:$J$1003,">0",'Fill-ups'!$A$4:$A$1003,">="&$B$3,'Fill-ups'!$A$4:$A$1003,"<="&$D$3)) | C63: =IF($A63="","",SUMIFS('Fill-ups'!$J$4:$J$1003,'Fill-ups'!$C$4:$C$1003,$A63,'Fill-ups'!$A$4:$A$1003,">="&$B$3,'Fill-ups'!$A$4:$A$1003,"<="&$D$3)) | D63: =IF(N(C63)>0,B63/C63*100,"") | E63: =IF($A63="","",SUMIFS('Fill-ups'!$F$4:$F$1003,'Fill-ups'!$C$4:$C$1003,$A63,'Fill-ups'!$A$4:$A$1003,">="&$B$3,'Fill-ups'!$A$4:$A$1003,"<="&$D$3)) | F63: =IF(N(C63)>0,E63/C63,"") | G63: =IF($A63="","",COUNTIFS('Fill-ups'!$C$4:$C$1003,$A63,'Fill-ups'!$A$4:$A$1003,">="&$B$3,'Fill-ups'!$A$4:$A$1003,"<="&$D$3))
A64: =IF('Lists'!F8="","",'Lists'!F8) | B64: =IF($A64="","",SUMIFS('Fill-ups'!$H$4:$H$1003,'Fill-ups'!$C$4:$C$1003,$A64,'Fill-ups'!$J$4:$J$1003,">0",'Fill-ups'!$A$4:$A$1003,">="&$B$3,'Fill-ups'!$A$4:$A$1003,"<="&$D$3)) | C64: =IF($A64="","",SUMIFS('Fill-ups'!$J$4:$J$1003,'Fill-ups'!$C$4:$C$1003,$A64,'Fill-ups'!$A$4:$A$1003,">="&$B$3,'Fill-ups'!$A$4:$A$1003,"<="&$D$3)) | D64: =IF(N(C64)>0,B64/C64*100,"") | E64: =IF($A64="","",SUMIFS('Fill-ups'!$F$4:$F$1003,'Fill-ups'!$C$4:$C$1003,$A64,'Fill-ups'!$A$4:$A$1003,">="&$B$3,'Fill-ups'!$A$4:$A$1003,"<="&$D$3)) | F64: =IF(N(C64)>0,E64/C64,"") | G64: =IF($A64="","",COUNTIFS('Fill-ups'!$C$4:$C$1003,$A64,'Fill-ups'!$A$4:$A$1003,">="&$B$3,'Fill-ups'!$A$4:$A$1003,"<="&$D$3))
A65: =IF('Lists'!F9="","",'Lists'!F9) | B65: =IF($A65="","",SUMIFS('Fill-ups'!$H$4:$H$1003,'Fill-ups'!$C$4:$C$1003,$A65,'Fill-ups'!$J$4:$J$1003,">0",'Fill-ups'!$A$4:$A$1003,">="&$B$3,'Fill-ups'!$A$4:$A$1003,"<="&$D$3)) | C65: =IF($A65="","",SUMIFS('Fill-ups'!$J$4:$J$1003,'Fill-ups'!$C$4:$C$1003,$A65,'Fill-ups'!$A$4:$A$1003,">="&$B$3,'Fill-ups'!$A$4:$A$1003,"<="&$D$3)) | D65: =IF(N(C65)>0,B65/C65*100,"") | E65: =IF($A65="","",SUMIFS('Fill-ups'!$F$4:$F$1003,'Fill-ups'!$C$4:$C$1003,$A65,'Fill-ups'!$A$4:$A$1003,">="&$B$3,'Fill-ups'!$A$4:$A$1003,"<="&$D$3)) | F65: =IF(N(C65)>0,E65/C65,"") | G65: =IF($A65="","",COUNTIFS('Fill-ups'!$C$4:$C$1003,$A65,'Fill-ups'!$A$4:$A$1003,">="&$B$3,'Fill-ups'!$A$4:$A$1003,"<="&$D$3))
A66: =IF('Lists'!F10="","",'Lists'!F10) | B66: =IF($A66="","",SUMIFS('Fill-ups'!$H$4:$H$1003,'Fill-ups'!$C$4:$C$1003,$A66,'Fill-ups'!$J$4:$J$1003,">0",'Fill-ups'!$A$4:$A$1003,">="&$B$3,'Fill-ups'!$A$4:$A$1003,"<="&$D$3)) | C66: =IF($A66="","",SUMIFS('Fill-ups'!$J$4:$J$1003,'Fill-ups'!$C$4:$C$1003,$A66,'Fill-ups'!$A$4:$A$1003,">="&$B$3,'Fill-ups'!$A$4:$A$1003,"<="&$D$3)) | D66: =IF(N(C66)>0,B66/C66*100,"") | E66: =IF($A66="","",SUMIFS('Fill-ups'!$F$4:$F$1003,'Fill-ups'!$C$4:$C$1003,$A66,'Fill-ups'!$A$4:$A$1003,">="&$B$3,'Fill-ups'!$A$4:$A$1003,"<="&$D$3)) | F66: =IF(N(C66)>0,E66/C66,"") | G66: =IF($A66="","",COUNTIFS('Fill-ups'!$C$4:$C$1003,$A66,'Fill-ups'!$A$4:$A$1003,">="&$B$3,'Fill-ups'!$A$4:$A$1003,"<="&$D$3))
A67: =IF('Lists'!F11="","",'Lists'!F11) | B67: =IF($A67="","",SUMIFS('Fill-ups'!$H$4:$H$1003,'Fill-ups'!$C$4:$C$1003,$A67,'Fill-ups'!$J$4:$J$1003,">0",'Fill-ups'!$A$4:$A$1003,">="&$B$3,'Fill-ups'!$A$4:$A$1003,"<="&$D$3)) | C67: =IF($A67="","",SUMIFS('Fill-ups'!$J$4:$J$1003,'Fill-ups'!$C$4:$C$1003,$A67,'Fill-ups'!$A$4:$A$1003,">="&$B$3,'Fill-ups'!$A$4:$A$1003,"<="&$D$3)) | D67: =IF(N(C67)>0,B67/C67*100,"") | E67: =IF($A67="","",SUMIFS('Fill-ups'!$F$4:$F$1003,'Fill-ups'!$C$4:$C$1003,$A67,'Fill-ups'!$A$4:$A$1003,">="&$B$3,'Fill-ups'!$A$4:$A$1003,"<="&$D$3)) | F67: =IF(N(C67)>0,E67/C67,"") | G67: =IF($A67="","",COUNTIFS('Fill-ups'!$C$4:$C$1003,$A67,'Fill-ups'!$A$4:$A$1003,">="&$B$3,'Fill-ups'!$A$4:$A$1003,"<="&$D$3))
A68: =IF('Lists'!F12="","",'Lists'!F12) | B68: =IF($A68="","",SUMIFS('Fill-ups'!$H$4:$H$1003,'Fill-ups'!$C$4:$C$1003,$A68,'Fill-ups'!$J$4:$J$1003,">0",'Fill-ups'!$A$4:$A$1003,">="&$B$3,'Fill-ups'!$A$4:$A$1003,"<="&$D$3)) | C68: =IF($A68="","",SUMIFS('Fill-ups'!$J$4:$J$1003,'Fill-ups'!$C$4:$C$1003,$A68,'Fill-ups'!$A$4:$A$1003,">="&$B$3,'Fill-ups'!$A$4:$A$1003,"<="&$D$3)) | D68: =IF(N(C68)>0,B68/C68*100,"") | E68: =IF($A68="","",SUMIFS('Fill-ups'!$F$4:$F$1003,'Fill-ups'!$C$4:$C$1003,$A68,'Fill-ups'!$A$4:$A$1003,">="&$B$3,'Fill-ups'!$A$4:$A$1003,"<="&$D$3)) | F68: =IF(N(C68)>0,E68/C68,"") | G68: =IF($A68="","",COUNTIFS('Fill-ups'!$C$4:$C$1003,$A68,'Fill-ups'!$A$4:$A$1003,">="&$B$3,'Fill-ups'!$A$4:$A$1003,"<="&$D$3))
A69: =IF('Lists'!F13="","",'Lists'!F13) | B69: =IF($A69="","",SUMIFS('Fill-ups'!$H$4:$H$1003,'Fill-ups'!$C$4:$C$1003,$A69,'Fill-ups'!$J$4:$J$1003,">0",'Fill-ups'!$A$4:$A$1003,">="&$B$3,'Fill-ups'!$A$4:$A$1003,"<="&$D$3)) | C69: =IF($A69="","",SUMIFS('Fill-ups'!$J$4:$J$1003,'Fill-ups'!$C$4:$C$1003,$A69,'Fill-ups'!$A$4:$A$1003,">="&$B$3,'Fill-ups'!$A$4:$A$1003,"<="&$D$3)) | D69: =IF(N(C69)>0,B69/C69*100,"") | E69: =IF($A69="","",SUMIFS('Fill-ups'!$F$4:$F$1003,'Fill-ups'!$C$4:$C$1003,$A69,'Fill-ups'!$A$4:$A$1003,">="&$B$3,'Fill-ups'!$A$4:$A$1003,"<="&$D$3)) | F69: =IF(N(C69)>0,E69/C69,"") | G69: =IF($A69="","",COUNTIFS('Fill-ups'!$C$4:$C$1003,$A69,'Fill-ups'!$A$4:$A$1003,">="&$B$3,'Fill-ups'!$A$4:$A$1003,"<="&$D$3))
A70: =IF('Lists'!F14="","",'Lists'!F14) | B70: =IF($A70="","",SUMIFS('Fill-ups'!$H$4:$H$1003,'Fill-ups'!$C$4:$C$1003,$A70,'Fill-ups'!$J$4:$J$1003,">0",'Fill-ups'!$A$4:$A$1003,">="&$B$3,'Fill-ups'!$A$4:$A$1003,"<="&$D$3)) | C70: =IF($A70="","",SUMIFS('Fill-ups'!$J$4:$J$1003,'Fill-ups'!$C$4:$C$1003,$A70,'Fill-ups'!$A$4:$A$1003,">="&$B$3,'Fill-ups'!$A$4:$A$1003,"<="&$D$3)) | D70: =IF(N(C70)>0,B70/C70*100,"") | E70: =IF($A70="","",SUMIFS('Fill-ups'!$F$4:$F$1003,'Fill-ups'!$C$4:$C$1003,$A70,'Fill-ups'!$A$4:$A$1003,">="&$B$3,'Fill-ups'!$A$4:$A$1003,"<="&$D$3)) | F70: =IF(N(C70)>0,E70/C70,"") | G70: =IF($A70="","",COUNTIFS('Fill-ups'!$C$4:$C$1003,$A70,'Fill-ups'!$A$4:$A$1003,">="&$B$3,'Fill-ups'!$A$4:$A$1003,"<="&$D$3))
A71: =IF('Lists'!F15="","",'Lists'!F15) | B71: =IF($A71="","",SUMIFS('Fill-ups'!$H$4:$H$1003,'Fill-ups'!$C$4:$C$1003,$A71,'Fill-ups'!$J$4:$J$1003,">0",'Fill-ups'!$A$4:$A$1003,">="&$B$3,'Fill-ups'!$A$4:$A$1003,"<="&$D$3)) | C71: =IF($A71="","",SUMIFS('Fill-ups'!$J$4:$J$1003,'Fill-ups'!$C$4:$C$1003,$A71,'Fill-ups'!$A$4:$A$1003,">="&$B$3,'Fill-ups'!$A$4:$A$1003,"<="&$D$3)) | D71: =IF(N(C71)>0,B71/C71*100,"") | E71: =IF($A71="","",SUMIFS('Fill-ups'!$F$4:$F$1003,'Fill-ups'!$C$4:$C$1003,$A71,'Fill-ups'!$A$4:$A$1003,">="&$B$3,'Fill-ups'!$A$4:$A$1003,"<="&$D$3)) | F71: =IF(N(C71)>0,E71/C71,"") | G71: =IF($A71="","",COUNTIFS('Fill-ups'!$C$4:$C$1003,$A71,'Fill-ups'!$A$4:$A$1003,">="&$B$3,'Fill-ups'!$A$4:$A$1003,"<="&$D$3))
... A109: =IF('Lists'!F53="","",'Lists'!F53) | B109: =IF($A109="","",SUMIFS('Fill-ups'!$H$4:$H$1003,'Fill-ups'!$C$4:$C$1003,$A109,'Fill-ups'!$J$4:$J$1003,">0",'Fill-ups'!$A$4:$A$1003,">="&$B$3,'Fill-ups'!$A$4:$A$1003,"<="&$D$3)) | C109: =IF($A109="","",SUMIFS('Fill-ups'!$J$4:$J$1003,'Fill-ups'!$C$4:$C$1003,$A109,'Fill-ups'!$A$4:$A$1003,">="&$B$3,'Fill-ups'!$A$4:$A$1003,"<="&$D$3)) | D109: =IF(N(C109)>0,B109/C109*100,"") | E109: =IF($A109="","",SUMIFS('Fill-ups'!$F$4:$F$1003,'Fill-ups'!$C$4:$C$1003,$A109,'Fill-ups'!$A$4:$A$1003,">="&$B$3,'Fill-ups'!$A$4:$A$1003,"<="&$D$3)) | F109: =IF(N(C109)>0,E109/C109,"") | G109: =IF($A109="","",COUNTIFS('Fill-ups'!$C$4:$C$1003,$A109,'Fill-ups'!$A$4:$A$1003,">="&$B$3,'Fill-ups'!$A$4:$A$1003,"<="&$D$3))
A111: Table 3 · Driver × car (L/100 km)
A112: Driver ↓ / Car → | B112: =IF('Lists'!A4="","",'Lists'!A4) | C112: =IF('Lists'!A5="","",'Lists'!A5) | D112: =IF('Lists'!A6="","",'Lists'!A6) | E112: =IF('Lists'!A7="","",'Lists'!A7) | F112: =IF('Lists'!A8="","",'Lists'!A8) | G112: =IF('Lists'!A9="","",'Lists'!A9) | H112: =IF('Lists'!A10="","",'Lists'!A10) | I112: =IF('Lists'!A11="","",'Lists'!A11) | J112: =IF('Lists'!A12="","",'Lists'!A12) | K112: =IF('Lists'!A13="","",'Lists'!A13) | L112: =IF('Lists'!A14="","",'Lists'!A14) | M112: =IF('Lists'!A15="","",'Lists'!A15)
A113: =IF('Lists'!F4="","",'Lists'!F4) | B113: =IF(OR($A113="",B$112=""),"",IF(COUNTIFS('Fill-ups'!$B$4:$B$1003,B$112,'Fill-ups'!$C$4:$C$1003,$A113,'Fill-ups'!$J$4:$J$1003,">0",'Fill-ups'!$A$4:$A$1003,">="&$B$3,'Fill-ups'!$A$4:$A$1003,"<="&$D$3)<1,"",SUMIFS('Fill-ups'!$H$4:$H$1003,'Fill-ups'!$B$4:$B$1003,B$112,'Fill-ups'!$C$4:$C$1003,$A113,'Fill-ups'!$J$4:$J$1003,">0",'Fill-ups'!$A$4:$A$1003,">="&$B$3,'Fill-ups'!$A$4:$A$1003,"<="&$D$3)/SUMIFS('Fill-ups'!$J$4:$J$1003,'Fill-ups'!$B$4:$B$1003,B$112,'Fill-ups'!$C$4:$C$1003,$A113,'Fill-ups'!$A$4:$A$1003,">="&$B$3,'Fill-ups'!$A$4:$A$1003,"<="&$D$3)*100)) | C113: =IF(OR($A113="",C$112=""),"",IF(COUNTIFS('Fill-ups'!$B$4:$B$1003,C$112,'Fill-ups'!$C$4:$C$1003,$A113,'Fill-ups'!$J$4:$J$1003,">0",'Fill-ups'!$A$4:$A$1003,">="&$B$3,'Fill-ups'!$A$4:$A$1003,"<="&$D$3)<1,"",SUMIFS('Fill-ups'!$H$4:$H$1003,'Fill-ups'!$B$4:$B$1003,C$112,'Fill-ups'!$C$4:$C$1003,$A113,'Fill-ups'!$J$4:$J$1003,">0",'Fill-ups'!$A$4:$A$1003,">="&$B$3,'Fill-ups'!$A$4:$A$1003,"<="&$D$3)/SUMIFS('Fill-ups'!$J$4:$J$1003,'Fill-ups'!$B$4:$B$1003,C$112,'Fill-ups'!$C$4:$C$1003,$A113,'Fill-ups'!$A$4:$A$1003,">="&$B$3,'Fill-ups'!$A$4:$A$1003,"<="&$D$3)*100)) | D113: =IF(OR($A113="",D$112=""),"",IF(COUNTIFS('Fill-ups'!$B$4:$B$1003,D$112,'Fill-ups'!$C$4:$C$1003,$A113,'Fill-ups'!$J$4:$J$1003,">0",'Fill-ups'!$A$4:$A$1003,">="&$B$3,'Fill-ups'!$A$4:$A$1003,"<="&$D$3)<1,"",SUMIFS('Fill-ups'!$H$4:$H$1003,'Fill-ups'!$B$4:$B$1003,D$112,'Fill-ups'!$C$4:$C$1003,$A113,'Fill-ups'!$J$4:$J$1003,">0",'Fill-ups'!$A$4:$A$1003,">="&$B$3,'Fill-ups'!$A$4:$A$1003,"<="&$D$3)/SUMIFS('Fill-ups'!$J$4:$J$1003,'Fill-ups'!$B$4:$B$1003,D$112,'Fill-ups'!$C$4:$C$1003,$A113,'Fill-ups'!$A$4:$A$1003,">="&$B$3,'Fill-ups'!$A$4:$A$1003,"<="&$D$3)*100)) | E113: =IF(OR($A113="",E$112=""),"",IF(COUNTIFS('Fill-ups'!$B$4:$B$1003,E$112,'Fill-ups'!$C$4:$C$1003,$A113,'Fill-ups'!$J$4:$J$1003,">0",'Fill-ups'!$A$4:$A$1003,">="&$B$3,'Fill-ups'!$A$4:$A$1003,"<="&$D$3)<1,"",SUMIFS('Fill-ups'!$H$4:$H$1003,'Fill-ups'!$B$4:$B$1003,E$112,'Fill-ups'!$C$4:$C$1003,$A113,'Fill-ups'!$J$4:$J$1003,">0",'Fill-ups'!$A$4:$A$1003,">="&$B$3,'Fill-ups'!$A$4:$A$1003,"<="&$D$3)/SUMIFS('Fill-ups'!$J$4:$J$1003,'Fill-ups'!$B$4:$B$1003,E$112,'Fill-ups'!$C$4:$C$1003,$A113,'Fill-ups'!$A$4:$A$1003,">="&$B$3,'Fill-ups'!$A$4:$A$1003,"<="&$D$3)*100)) | F113: =IF(OR($A113="",F$112=""),"",IF(COUNTIFS('Fill-ups'!$B$4:$B$1003,F$112,'Fill-ups'!$C$4:$C$1003,$A113,'Fill-ups'!$J$4:$J$1003,">0",'Fill-ups'!$A$4:$A$1003,">="&$B$3,'Fill-ups'!$A$4:$A$1003,"<="&$D$3)<1,"",SUMIFS('Fill-ups'!$H$4:$H$1003,'Fill-ups'!$B$4:$B$1003,F$112,'Fill-ups'!$C$4:$C$1003,$A113,'Fill-ups'!$J$4:$J$1003,">0",'Fill-ups'!$A$4:$A$1003,">="&$B$3,'Fill-ups'!$A$4:$A$1003,"<="&$D$3)/SUMIFS('Fill-ups'!$J$4:$J$1003,'Fill-ups'!$B$4:$B$1003,F$112,'Fill-ups'!$C$4:$C$1003,$A113,'Fill-ups'!$A$4:$A$1003,">="&$B$3,'Fill-ups'!$A$4:$A$1003,"<="&$D$3)*100)) | G113: =IF(OR($A113="",G$112=""),"",IF(COUNTIFS('Fill-ups'!$B$4:$B$1003,G$112,'Fill-ups'!$C$4:$C$1003,$A113,'Fill-ups'!$J$4:$J$1003,">0",'Fill-ups'!$A$4:$A$1003,">="&$B$3,'Fill-ups'!$A$4:$A$1003,"<="&$D$3)<1,"",SUMIFS('Fill-ups'!$H$4:$H$1003,'Fill-ups'!$B$4:$B$1003,G$112,'Fill-ups'!$C$4:$C$1003,$A113,'Fill-ups'!$J$4:$J$1003,">0",'Fill-ups'!$A$4:$A$1003,">="&$B$3,'Fill-ups'!$A$4:$A$1003,"<="&$D$3)/SUMIFS('Fill-ups'!$J$4:$J$1003,'Fill-ups'!$B$4:$B$1003,G$112,'Fill-ups'!$C$4:$C$1003,$A113,'Fill-ups'!$A$4:$A$1003,">="&$B$3,'Fill-ups'!$A$4:$A$1003,"<="&$D$3)*100)) | H113: =IF(OR($A113="",H$112=""),"",IF(COUNTIFS('Fill-ups'!$B$4:$B$1003,H$112,'Fill-ups'!$C$4:$C$1003,$A113,'Fill-ups'!$J$4:$J$1003,">0",'Fill-ups'!$A$4:$A$1003,">="&$B$3,'Fill-ups'!$A$4:$A$1003,"<="&$D$3)<1,"",SUMIFS('Fill-ups'!$H$4:$H$1003,'Fill-ups'!$B$4:$B$1003,H$112,'Fill-ups'!$C$4:$C$1003,$A113,'Fill-ups'!$J$4:$J$1003,">0",'Fill-ups'!$A$4:$A$1003,">="&$B$3,'Fill-ups'!$A$4:$A$1003,"<="&$D$3)/SUMIFS('Fill-ups'!$J$4:$J$1003,'Fill-ups'!$B$4:$B$1003,H$112,'Fill-ups'!$C$4:$C$1003,$A113,'Fill-ups'!$A$4:$A$1003,">="&$B$3,'Fill-ups'!$A$4:$A$1003,"<="&$D$3)*100)) | I113: =IF(OR($A113="",I$112=""),"",IF(COUNTIFS('Fill-ups'!$B$4:$B$1003,I$112,'Fill-ups'!$C$4:$C$1003,$A113,'Fill-ups'!$J$4:$J$1003,">0",'Fill-ups'!$A$4:$A$1003,">="&$B$3,'Fill-ups'!$A$4:$A$1003,"<="&$D$3)<1,"",SUMIFS('Fill-ups'!$H$4:$H$1003,'Fill-ups'!$B$4:$B$1003,I$112,'Fill-ups'!$C$4:$C$1003,$A113,'Fill-ups'!$J$4:$J$1003,">0",'Fill-ups'!$A$4:$A$1003,">="&$B$3,'Fill-ups'!$A$4:$A$1003,"<="&$D$3)/SUMIFS('Fill-ups'!$J$4:$J$1003,'Fill-ups'!$B$4:$B$1003,I$112,'Fill-ups'!$C$4:$C$1003,$A113,'Fill-ups'!$A$4:$A$1003,">="&$B$3,'Fill-ups'!$A$4:$A$1003,"<="&$D$3)*100)) | ... M113: =IF(OR($A113="",M$112=""),"",IF(COUNTIFS('Fill-ups'!$B$4:$B$1003,M$112,'Fill-ups'!$C$4:$C$1003,$A113,'Fill-ups'!$J$4:$J$1003,">0",'Fill-ups'!$A$4:$A$1003,">="&$B$3,'Fill-ups'!$A$4:$A$1003,"<="&$D$3)<1,"",SUMIFS('Fill-ups'!$H$4:$H$1003,'Fill-ups'!$B$4:$B$1003,M$112,'Fill-ups'!$C$4:$C$1003,$A113,'Fill-ups'!$J$4:$J$1003,">0",'Fill-ups'!$A$4:$A$1003,">="&$B$3,'Fill-ups'!$A$4:$A$1003,"<="&$D$3)/SUMIFS('Fill-ups'!$J$4:$J$1003,'Fill-ups'!$B$4:$B$1003,M$112,'Fill-ups'!$C$4:$C$1003,$A113,'Fill-ups'!$A$4:$A$1003,">="&$B$3,'Fill-ups'!$A$4:$A$1003,"<="&$D$3)*100))
A114: =IF('Lists'!F5="","",'Lists'!F5) | B114: =IF(OR($A114="",B$112=""),"",IF(COUNTIFS('Fill-ups'!$B$4:$B$1003,B$112,'Fill-ups'!$C$4:$C$1003,$A114,'Fill-ups'!$J$4:$J$1003,">0",'Fill-ups'!$A$4:$A$1003,">="&$B$3,'Fill-ups'!$A$4:$A$1003,"<="&$D$3)<1,"",SUMIFS('Fill-ups'!$H$4:$H$1003,'Fill-ups'!$B$4:$B$1003,B$112,'Fill-ups'!$C$4:$C$1003,$A114,'Fill-ups'!$J$4:$J$1003,">0",'Fill-ups'!$A$4:$A$1003,">="&$B$3,'Fill-ups'!$A$4:$A$1003,"<="&$D$3)/SUMIFS('Fill-ups'!$J$4:$J$1003,'Fill-ups'!$B$4:$B$1003,B$112,'Fill-ups'!$C$4:$C$1003,$A114,'Fill-ups'!$A$4:$A$1003,">="&$B$3,'Fill-ups'!$A$4:$A$1003,"<="&$D$3)*100)) | C114: =IF(OR($A114="",C$112=""),"",IF(COUNTIFS('Fill-ups'!$B$4:$B$1003,C$112,'Fill-ups'!$C$4:$C$1003,$A114,'Fill-ups'!$J$4:$J$1003,">0",'Fill-ups'!$A$4:$A$1003,">="&$B$3,'Fill-ups'!$A$4:$A$1003,"<="&$D$3)<1,"",SUMIFS('Fill-ups'!$H$4:$H$1003,'Fill-ups'!$B$4:$B$1003,C$112,'Fill-ups'!$C$4:$C$1003,$A114,'Fill-ups'!$J$4:$J$1003,">0",'Fill-ups'!$A$4:$A$1003,">="&$B$3,'Fill-ups'!$A$4:$A$1003,"<="&$D$3)/SUMIFS('Fill-ups'!$J$4:$J$1003,'Fill-ups'!$B$4:$B$1003,C$112,'Fill-ups'!$C$4:$C$1003,$A114,'Fill-ups'!$A$4:$A$1003,">="&$B$3,'Fill-ups'!$A$4:$A$1003,"<="&$D$3)*100)) | D114: =IF(OR($A114="",D$112=""),"",IF(COUNTIFS('Fill-ups'!$B$4:$B$1003,D$112,'Fill-ups'!$C$4:$C$1003,$A114,'Fill-ups'!$J$4:$J$1003,">0",'Fill-ups'!$A$4:$A$1003,">="&$B$3,'Fill-ups'!$A$4:$A$1003,"<="&$D$3)<1,"",SUMIFS('Fill-ups'!$H$4:$H$1003,'Fill-ups'!$B$4:$B$1003,D$112,'Fill-ups'!$C$4:$C$1003,$A114,'Fill-ups'!$J$4:$J$1003,">0",'Fill-ups'!$A$4:$A$1003,">="&$B$3,'Fill-ups'!$A$4:$A$1003,"<="&$D$3)/SUMIFS('Fill-ups'!$J$4:$J$1003,'Fill-ups'!$B$4:$B$1003,D$112,'Fill-ups'!$C$4:$C$1003,$A114,'Fill-ups'!$A$4:$A$1003,">="&$B$3,'Fill-ups'!$A$4:$A$1003,"<="&$D$3)*100)) | E114: =IF(OR($A114="",E$112=""),"",IF(COUNTIFS('Fill-ups'!$B$4:$B$1003,E$112,'Fill-ups'!$C$4:$C$1003,$A114,'Fill-ups'!$J$4:$J$1003,">0",'Fill-ups'!$A$4:$A$1003,">="&$B$3,'Fill-ups'!$A$4:$A$1003,"<="&$D$3)<1,"",SUMIFS('Fill-ups'!$H$4:$H$1003,'Fill-ups'!$B$4:$B$1003,E$112,'Fill-ups'!$C$4:$C$1003,$A114,'Fill-ups'!$J$4:$J$1003,">0",'Fill-ups'!$A$4:$A$1003,">="&$B$3,'Fill-ups'!$A$4:$A$1003,"<="&$D$3)/SUMIFS('Fill-ups'!$J$4:$J$1003,'Fill-ups'!$B$4:$B$1003,E$112,'Fill-ups'!$C$4:$C$1003,$A114,'Fill-ups'!$A$4:$A$1003,">="&$B$3,'Fill-ups'!$A$4:$A$1003,"<="&$D$3)*100)) | F114: =IF(OR($A114="",F$112=""),"",IF(COUNTIFS('Fill-ups'!$B$4:$B$1003,F$112,'Fill-ups'!$C$4:$C$1003,$A114,'Fill-ups'!$J$4:$J$1003,">0",'Fill-ups'!$A$4:$A$1003,">="&$B$3,'Fill-ups'!$A$4:$A$1003,"<="&$D$3)<1,"",SUMIFS('Fill-ups'!$H$4:$H$1003,'Fill-ups'!$B$4:$B$1003,F$112,'Fill-ups'!$C$4:$C$1003,$A114,'Fill-ups'!$J$4:$J$1003,">0",'Fill-ups'!$A$4:$A$1003,">="&$B$3,'Fill-ups'!$A$4:$A$1003,"<="&$D$3)/SUMIFS('Fill-ups'!$J$4:$J$1003,'Fill-ups'!$B$4:$B$1003,F$112,'Fill-ups'!$C$4:$C$1003,$A114,'Fill-ups'!$A$4:$A$1003,">="&$B$3,'Fill-ups'!$A$4:$A$1003,"<="&$D$3)*100)) | G114: =IF(OR($A114="",G$112=""),"",IF(COUNTIFS('Fill-ups'!$B$4:$B$1003,G$112,'Fill-ups'!$C$4:$C$1003,$A114,'Fill-ups'!$J$4:$J$1003,">0",'Fill-ups'!$A$4:$A$1003,">="&$B$3,'Fill-ups'!$A$4:$A$1003,"<="&$D$3)<1,"",SUMIFS('Fill-ups'!$H$4:$H$1003,'Fill-ups'!$B$4:$B$1003,G$112,'Fill-ups'!$C$4:$C$1003,$A114,'Fill-ups'!$J$4:$J$1003,">0",'Fill-ups'!$A$4:$A$1003,">="&$B$3,'Fill-ups'!$A$4:$A$1003,"<="&$D$3)/SUMIFS('Fill-ups'!$J$4:$J$1003,'Fill-ups'!$B$4:$B$1003,G$112,'Fill-ups'!$C$4:$C$1003,$A114,'Fill-ups'!$A$4:$A$1003,">="&$B$3,'Fill-ups'!$A$4:$A$1003,"<="&$D$3)*100)) | H114: =IF(OR($A114="",H$112=""),"",IF(COUNTIFS('Fill-ups'!$B$4:$B$1003,H$112,'Fill-ups'!$C$4:$C$1003,$A114,'Fill-ups'!$J$4:$J$1003,">0",'Fill-ups'!$A$4:$A$1003,">="&$B$3,'Fill-ups'!$A$4:$A$1003,"<="&$D$3)<1,"",SUMIFS('Fill-ups'!$H$4:$H$1003,'Fill-ups'!$B$4:$B$1003,H$112,'Fill-ups'!$C$4:$C$1003,$A114,'Fill-ups'!$J$4:$J$1003,">0",'Fill-ups'!$A$4:$A$1003,">="&$B$3,'Fill-ups'!$A$4:$A$1003,"<="&$D$3)/SUMIFS('Fill-ups'!$J$4:$J$1003,'Fill-ups'!$B$4:$B$1003,H$112,'Fill-ups'!$C$4:$C$1003,$A114,'Fill-ups'!$A$4:$A$1003,">="&$B$3,'Fill-ups'!$A$4:$A$1003,"<="&$D$3)*100)) | I114: =IF(OR($A114="",I$112=""),"",IF(COUNTIFS('Fill-ups'!$B$4:$B$1003,I$112,'Fill-ups'!$C$4:$C$1003,$A114,'Fill-ups'!$J$4:$J$1003,">0",'Fill-ups'!$A$4:$A$1003,">="&$B$3,'Fill-ups'!$A$4:$A$1003,"<="&$D$3)<1,"",SUMIFS('Fill-ups'!$H$4:$H$1003,'Fill-ups'!$B$4:$B$1003,I$112,'Fill-ups'!$C$4:$C$1003,$A114,'Fill-ups'!$J$4:$J$1003,">0",'Fill-ups'!$A$4:$A$1003,">="&$B$3,'Fill-ups'!$A$4:$A$1003,"<="&$D$3)/SUMIFS('Fill-ups'!$J$4:$J$1003,'Fill-ups'!$B$4:$B$1003,I$112,'Fill-ups'!$C$4:$C$1003,$A114,'Fill-ups'!$A$4:$A$1003,">="&$B$3,'Fill-ups'!$A$4:$A$1003,"<="&$D$3)*100)) | ... M114: =IF(OR($A114="",M$112=""),"",IF(COUNTIFS('Fill-ups'!$B$4:$B$1003,M$112,'Fill-ups'!$C$4:$C$1003,$A114,'Fill-ups'!$J$4:$J$1003,">0",'Fill-ups'!$A$4:$A$1003,">="&$B$3,'Fill-ups'!$A$4:$A$1003,"<="&$D$3)<1,"",SUMIFS('Fill-ups'!$H$4:$H$1003,'Fill-ups'!$B$4:$B$1003,M$112,'Fill-ups'!$C$4:$C$1003,$A114,'Fill-ups'!$J$4:$J$1003,">0",'Fill-ups'!$A$4:$A$1003,">="&$B$3,'Fill-ups'!$A$4:$A$1003,"<="&$D$3)/SUMIFS('Fill-ups'!$J$4:$J$1003,'Fill-ups'!$B$4:$B$1003,M$112,'Fill-ups'!$C$4:$C$1003,$A114,'Fill-ups'!$A$4:$A$1003,">="&$B$3,'Fill-ups'!$A$4:$A$1003,"<="&$D$3)*100))
A115: =IF('Lists'!F6="","",'Lists'!F6) | B115: =IF(OR($A115="",B$112=""),"",IF(COUNTIFS('Fill-ups'!$B$4:$B$1003,B$112,'Fill-ups'!$C$4:$C$1003,$A115,'Fill-ups'!$J$4:$J$1003,">0",'Fill-ups'!$A$4:$A$1003,">="&$B$3,'Fill-ups'!$A$4:$A$1003,"<="&$D$3)<1,"",SUMIFS('Fill-ups'!$H$4:$H$1003,'Fill-ups'!$B$4:$B$1003,B$112,'Fill-ups'!$C$4:$C$1003,$A115,'Fill-ups'!$J$4:$J$1003,">0",'Fill-ups'!$A$4:$A$1003,">="&$B$3,'Fill-ups'!$A$4:$A$1003,"<="&$D$3)/SUMIFS('Fill-ups'!$J$4:$J$1003,'Fill-ups'!$B$4:$B$1003,B$112,'Fill-ups'!$C$4:$C$1003,$A115,'Fill-ups'!$A$4:$A$1003,">="&$B$3,'Fill-ups'!$A$4:$A$1003,"<="&$D$3)*100)) | C115: =IF(OR($A115="",C$112=""),"",IF(COUNTIFS('Fill-ups'!$B$4:$B$1003,C$112,'Fill-ups'!$C$4:$C$1003,$A115,'Fill-ups'!$J$4:$J$1003,">0",'Fill-ups'!$A$4:$A$1003,">="&$B$3,'Fill-ups'!$A$4:$A$1003,"<="&$D$3)<1,"",SUMIFS('Fill-ups'!$H$4:$H$1003,'Fill-ups'!$B$4:$B$1003,C$112,'Fill-ups'!$C$4:$C$1003,$A115,'Fill-ups'!$J$4:$J$1003,">0",'Fill-ups'!$A$4:$A$1003,">="&$B$3,'Fill-ups'!$A$4:$A$1003,"<="&$D$3)/SUMIFS('Fill-ups'!$J$4:$J$1003,'Fill-ups'!$B$4:$B$1003,C$112,'Fill-ups'!$C$4:$C$1003,$A115,'Fill-ups'!$A$4:$A$1003,">="&$B$3,'Fill-ups'!$A$4:$A$1003,"<="&$D$3)*100)) | D115: =IF(OR($A115="",D$112=""),"",IF(COUNTIFS('Fill-ups'!$B$4:$B$1003,D$112,'Fill-ups'!$C$4:$C$1003,$A115,'Fill-ups'!$J$4:$J$1003,">0",'Fill-ups'!$A$4:$A$1003,">="&$B$3,'Fill-ups'!$A$4:$A$1003,"<="&$D$3)<1,"",SUMIFS('Fill-ups'!$H$4:$H$1003,'Fill-ups'!$B$4:$B$1003,D$112,'Fill-ups'!$C$4:$C$1003,$A115,'Fill-ups'!$J$4:$J$1003,">0",'Fill-ups'!$A$4:$A$1003,">="&$B$3,'Fill-ups'!$A$4:$A$1003,"<="&$D$3)/SUMIFS('Fill-ups'!$J$4:$J$1003,'Fill-ups'!$B$4:$B$1003,D$112,'Fill-ups'!$C$4:$C$1003,$A115,'Fill-ups'!$A$4:$A$1003,">="&$B$3,'Fill-ups'!$A$4:$A$1003,"<="&$D$3)*100)) | E115: =IF(OR($A115="",E$112=""),"",IF(COUNTIFS('Fill-ups'!$B$4:$B$1003,E$112,'Fill-ups'!$C$4:$C$1003,$A115,'Fill-ups'!$J$4:$J$1003,">0",'Fill-ups'!$A$4:$A$1003,">="&$B$3,'Fill-ups'!$A$4:$A$1003,"<="&$D$3)<1,"",SUMIFS('Fill-ups'!$H$4:$H$1003,'Fill-ups'!$B$4:$B$1003,E$112,'Fill-ups'!$C$4:$C$1003,$A115,'Fill-ups'!$J$4:$J$1003,">0",'Fill-ups'!$A$4:$A$1003,">="&$B$3,'Fill-ups'!$A$4:$A$1003,"<="&$D$3)/SUMIFS('Fill-ups'!$J$4:$J$1003,'Fill-ups'!$B$4:$B$1003,E$112,'Fill-ups'!$C$4:$C$1003,$A115,'Fill-ups'!$A$4:$A$1003,">="&$B$3,'Fill-ups'!$A$4:$A$1003,"<="&$D$3)*100)) | F115: =IF(OR($A115="",F$112=""),"",IF(COUNTIFS('Fill-ups'!$B$4:$B$1003,F$112,'Fill-ups'!$C$4:$C$1003,$A115,'Fill-ups'!$J$4:$J$1003,">0",'Fill-ups'!$A$4:$A$1003,">="&$B$3,'Fill-ups'!$A$4:$A$1003,"<="&$D$3)<1,"",SUMIFS('Fill-ups'!$H$4:$H$1003,'Fill-ups'!$B$4:$B$1003,F$112,'Fill-ups'!$C$4:$C$1003,$A115,'Fill-ups'!$J$4:$J$1003,">0",'Fill-ups'!$A$4:$A$1003,">="&$B$3,'Fill-ups'!$A$4:$A$1003,"<="&$D$3)/SUMIFS('Fill-ups'!$J$4:$J$1003,'Fill-ups'!$B$4:$B$1003,F$112,'Fill-ups'!$C$4:$C$1003,$A115,'Fill-ups'!$A$4:$A$1003,">="&$B$3,'Fill-ups'!$A$4:$A$1003,"<="&$D$3)*100)) | G115: =IF(OR($A115="",G$112=""),"",IF(COUNTIFS('Fill-ups'!$B$4:$B$1003,G$112,'Fill-ups'!$C$4:$C$1003,$A115,'Fill-ups'!$J$4:$J$1003,">0",'Fill-ups'!$A$4:$A$1003,">="&$B$3,'Fill-ups'!$A$4:$A$1003,"<="&$D$3)<1,"",SUMIFS('Fill-ups'!$H$4:$H$1003,'Fill-ups'!$B$4:$B$1003,G$112,'Fill-ups'!$C$4:$C$1003,$A115,'Fill-ups'!$J$4:$J$1003,">0",'Fill-ups'!$A$4:$A$1003,">="&$B$3,'Fill-ups'!$A$4:$A$1003,"<="&$D$3)/SUMIFS('Fill-ups'!$J$4:$J$1003,'Fill-ups'!$B$4:$B$1003,G$112,'Fill-ups'!$C$4:$C$1003,$A115,'Fill-ups'!$A$4:$A$1003,">="&$B$3,'Fill-ups'!$A$4:$A$1003,"<="&$D$3)*100)) | H115: =IF(OR($A115="",H$112=""),"",IF(COUNTIFS('Fill-ups'!$B$4:$B$1003,H$112,'Fill-ups'!$C$4:$C$1003,$A115,'Fill-ups'!$J$4:$J$1003,">0",'Fill-ups'!$A$4:$A$1003,">="&$B$3,'Fill-ups'!$A$4:$A$1003,"<="&$D$3)<1,"",SUMIFS('Fill-ups'!$H$4:$H$1003,'Fill-ups'!$B$4:$B$1003,H$112,'Fill-ups'!$C$4:$C$1003,$A115,'Fill-ups'!$J$4:$J$1003,">0",'Fill-ups'!$A$4:$A$1003,">="&$B$3,'Fill-ups'!$A$4:$A$1003,"<="&$D$3)/SUMIFS('Fill-ups'!$J$4:$J$1003,'Fill-ups'!$B$4:$B$1003,H$112,'Fill-ups'!$C$4:$C$1003,$A115,'Fill-ups'!$A$4:$A$1003,">="&$B$3,'Fill-ups'!$A$4:$A$1003,"<="&$D$3)*100)) | I115: =IF(OR($A115="",I$112=""),"",IF(COUNTIFS('Fill-ups'!$B$4:$B$1003,I$112,'Fill-ups'!$C$4:$C$1003,$A115,'Fill-ups'!$J$4:$J$1003,">0",'Fill-ups'!$A$4:$A$1003,">="&$B$3,'Fill-ups'!$A$4:$A$1003,"<="&$D$3)<1,"",SUMIFS('Fill-ups'!$H$4:$H$1003,'Fill-ups'!$B$4:$B$1003,I$112,'Fill-ups'!$C$4:$C$1003,$A115,'Fill-ups'!$J$4:$J$1003,">0",'Fill-ups'!$A$4:$A$1003,">="&$B$3,'Fill-ups'!$A$4:$A$1003,"<="&$D$3)/SUMIFS('Fill-ups'!$J$4:$J$1003,'Fill-ups'!$B$4:$B$1003,I$112,'Fill-ups'!$C$4:$C$1003,$A115,'Fill-ups'!$A$4:$A$1003,">="&$B$3,'Fill-ups'!$A$4:$A$1003,"<="&$D$3)*100)) | ... M115: =IF(OR($A115="",M$112=""),"",IF(COUNTIFS('Fill-ups'!$B$4:$B$1003,M$112,'Fill-ups'!$C$4:$C$1003,$A115,'Fill-ups'!$J$4:$J$1003,">0",'Fill-ups'!$A$4:$A$1003,">="&$B$3,'Fill-ups'!$A$4:$A$1003,"<="&$D$3)<1,"",SUMIFS('Fill-ups'!$H$4:$H$1003,'Fill-ups'!$B$4:$B$1003,M$112,'Fill-ups'!$C$4:$C$1003,$A115,'Fill-ups'!$J$4:$J$1003,">0",'Fill-ups'!$A$4:$A$1003,">="&$B$3,'Fill-ups'!$A$4:$A$1003,"<="&$D$3)/SUMIFS('Fill-ups'!$J$4:$J$1003,'Fill-ups'!$B$4:$B$1003,M$112,'Fill-ups'!$C$4:$C$1003,$A115,'Fill-ups'!$A$4:$A$1003,">="&$B$3,'Fill-ups'!$A$4:$A$1003,"<="&$D$3)*100))
A116: =IF('Lists'!F7="","",'Lists'!F7) | B116: =IF(OR($A116="",B$112=""),"",IF(COUNTIFS('Fill-ups'!$B$4:$B$1003,B$112,'Fill-ups'!$C$4:$C$1003,$A116,'Fill-ups'!$J$4:$J$1003,">0",'Fill-ups'!$A$4:$A$1003,">="&$B$3,'Fill-ups'!$A$4:$A$1003,"<="&$D$3)<1,"",SUMIFS('Fill-ups'!$H$4:$H$1003,'Fill-ups'!$B$4:$B$1003,B$112,'Fill-ups'!$C$4:$C$1003,$A116,'Fill-ups'!$J$4:$J$1003,">0",'Fill-ups'!$A$4:$A$1003,">="&$B$3,'Fill-ups'!$A$4:$A$1003,"<="&$D$3)/SUMIFS('Fill-ups'!$J$4:$J$1003,'Fill-ups'!$B$4:$B$1003,B$112,'Fill-ups'!$C$4:$C$1003,$A116,'Fill-ups'!$A$4:$A$1003,">="&$B$3,'Fill-ups'!$A$4:$A$1003,"<="&$D$3)*100)) | C116: =IF(OR($A116="",C$112=""),"",IF(COUNTIFS('Fill-ups'!$B$4:$B$1003,C$112,'Fill-ups'!$C$4:$C$1003,$A116,'Fill-ups'!$J$4:$J$1003,">0",'Fill-ups'!$A$4:$A$1003,">="&$B$3,'Fill-ups'!$A$4:$A$1003,"<="&$D$3)<1,"",SUMIFS('Fill-ups'!$H$4:$H$1003,'Fill-ups'!$B$4:$B$1003,C$112,'Fill-ups'!$C$4:$C$1003,$A116,'Fill-ups'!$J$4:$J$1003,">0",'Fill-ups'!$A$4:$A$1003,">="&$B$3,'Fill-ups'!$A$4:$A$1003,"<="&$D$3)/SUMIFS('Fill-ups'!$J$4:$J$1003,'Fill-ups'!$B$4:$B$1003,C$112,'Fill-ups'!$C$4:$C$1003,$A116,'Fill-ups'!$A$4:$A$1003,">="&$B$3,'Fill-ups'!$A$4:$A$1003,"<="&$D$3)*100)) | D116: =IF(OR($A116="",D$112=""),"",IF(COUNTIFS('Fill-ups'!$B$4:$B$1003,D$112,'Fill-ups'!$C$4:$C$1003,$A116,'Fill-ups'!$J$4:$J$1003,">0",'Fill-ups'!$A$4:$A$1003,">="&$B$3,'Fill-ups'!$A$4:$A$1003,"<="&$D$3)<1,"",SUMIFS('Fill-ups'!$H$4:$H$1003,'Fill-ups'!$B$4:$B$1003,D$112,'Fill-ups'!$C$4:$C$1003,$A116,'Fill-ups'!$J$4:$J$1003,">0",'Fill-ups'!$A$4:$A$1003,">="&$B$3,'Fill-ups'!$A$4:$A$1003,"<="&$D$3)/SUMIFS('Fill-ups'!$J$4:$J$1003,'Fill-ups'!$B$4:$B$1003,D$112,'Fill-ups'!$C$4:$C$1003,$A116,'Fill-ups'!$A$4:$A$1003,">="&$B$3,'Fill-ups'!$A$4:$A$1003,"<="&$D$3)*100)) | E116: =IF(OR($A116="",E$112=""),"",IF(COUNTIFS('Fill-ups'!$B$4:$B$1003,E$112,'Fill-ups'!$C$4:$C$1003,$A116,'Fill-ups'!$J$4:$J$1003,">0",'Fill-ups'!$A$4:$A$1003,">="&$B$3,'Fill-ups'!$A$4:$A$1003,"<="&$D$3)<1,"",SUMIFS('Fill-ups'!$H$4:$H$1003,'Fill-ups'!$B$4:$B$1003,E$112,'Fill-ups'!$C$4:$C$1003,$A116,'Fill-ups'!$J$4:$J$1003,">0",'Fill-ups'!$A$4:$A$1003,">="&$B$3,'Fill-ups'!$A$4:$A$1003,"<="&$D$3)/SUMIFS('Fill-ups'!$J$4:$J$1003,'Fill-ups'!$B$4:$B$1003,E$112,'Fill-ups'!$C$4:$C$1003,$A116,'Fill-ups'!$A$4:$A$1003,">="&$B$3,'Fill-ups'!$A$4:$A$1003,"<="&$D$3)*100)) | F116: =IF(OR($A116="",F$112=""),"",IF(COUNTIFS('Fill-ups'!$B$4:$B$1003,F$112,'Fill-ups'!$C$4:$C$1003,$A116,'Fill-ups'!$J$4:$J$1003,">0",'Fill-ups'!$A$4:$A$1003,">="&$B$3,'Fill-ups'!$A$4:$A$1003,"<="&$D$3)<1,"",SUMIFS('Fill-ups'!$H$4:$H$1003,'Fill-ups'!$B$4:$B$1003,F$112,'Fill-ups'!$C$4:$C$1003,$A116,'Fill-ups'!$J$4:$J$1003,">0",'Fill-ups'!$A$4:$A$1003,">="&$B$3,'Fill-ups'!$A$4:$A$1003,"<="&$D$3)/SUMIFS('Fill-ups'!$J$4:$J$1003,'Fill-ups'!$B$4:$B$1003,F$112,'Fill-ups'!$C$4:$C$1003,$A116,'Fill-ups'!$A$4:$A$1003,">="&$B$3,'Fill-ups'!$A$4:$A$1003,"<="&$D$3)*100)) | G116: =IF(OR($A116="",G$112=""),"",IF(COUNTIFS('Fill-ups'!$B$4:$B$1003,G$112,'Fill-ups'!$C$4:$C$1003,$A116,'Fill-ups'!$J$4:$J$1003,">0",'Fill-ups'!$A$4:$A$1003,">="&$B$3,'Fill-ups'!$A$4:$A$1003,"<="&$D$3)<1,"",SUMIFS('Fill-ups'!$H$4:$H$1003,'Fill-ups'!$B$4:$B$1003,G$112,'Fill-ups'!$C$4:$C$1003,$A116,'Fill-ups'!$J$4:$J$1003,">0",'Fill-ups'!$A$4:$A$1003,">="&$B$3,'Fill-ups'!$A$4:$A$1003,"<="&$D$3)/SUMIFS('Fill-ups'!$J$4:$J$1003,'Fill-ups'!$B$4:$B$1003,G$112,'Fill-ups'!$C$4:$C$1003,$A116,'Fill-ups'!$A$4:$A$1003,">="&$B$3,'Fill-ups'!$A$4:$A$1003,"<="&$D$3)*100)) | H116: =IF(OR($A116="",H$112=""),"",IF(COUNTIFS('Fill-ups'!$B$4:$B$1003,H$112,'Fill-ups'!$C$4:$C$1003,$A116,'Fill-ups'!$J$4:$J$1003,">0",'Fill-ups'!$A$4:$A$1003,">="&$B$3,'Fill-ups'!$A$4:$A$1003,"<="&$D$3)<1,"",SUMIFS('Fill-ups'!$H$4:$H$1003,'Fill-ups'!$B$4:$B$1003,H$112,'Fill-ups'!$C$4:$C$1003,$A116,'Fill-ups'!$J$4:$J$1003,">0",'Fill-ups'!$A$4:$A$1003,">="&$B$3,'Fill-ups'!$A$4:$A$1003,"<="&$D$3)/SUMIFS('Fill-ups'!$J$4:$J$1003,'Fill-ups'!$B$4:$B$1003,H$112,'Fill-ups'!$C$4:$C$1003,$A116,'Fill-ups'!$A$4:$A$1003,">="&$B$3,'Fill-ups'!$A$4:$A$1003,"<="&$D$3)*100)) | I116: =IF(OR($A116="",I$112=""),"",IF(COUNTIFS('Fill-ups'!$B$4:$B$1003,I$112,'Fill-ups'!$C$4:$C$1003,$A116,'Fill-ups'!$J$4:$J$1003,">0",'Fill-ups'!$A$4:$A$1003,">="&$B$3,'Fill-ups'!$A$4:$A$1003,"<="&$D$3)<1,"",SUMIFS('Fill-ups'!$H$4:$H$1003,'Fill-ups'!$B$4:$B$1003,I$112,'Fill-ups'!$C$4:$C$1003,$A116,'Fill-ups'!$J$4:$J$1003,">0",'Fill-ups'!$A$4:$A$1003,">="&$B$3,'Fill-ups'!$A$4:$A$1003,"<="&$D$3)/SUMIFS('Fill-ups'!$J$4:$J$1003,'Fill-ups'!$B$4:$B$1003,I$112,'Fill-ups'!$C$4:$C$1003,$A116,'Fill-ups'!$A$4:$A$1003,">="&$B$3,'Fill-ups'!$A$4:$A$1003,"<="&$D$3)*100)) | ... M116: =IF(OR($A116="",M$112=""),"",IF(COUNTIFS('Fill-ups'!$B$4:$B$1003,M$112,'Fill-ups'!$C$4:$C$1003,$A116,'Fill-ups'!$J$4:$J$1003,">0",'Fill-ups'!$A$4:$A$1003,">="&$B$3,'Fill-ups'!$A$4:$A$1003,"<="&$D$3)<1,"",SUMIFS('Fill-ups'!$H$4:$H$1003,'Fill-ups'!$B$4:$B$1003,M$112,'Fill-ups'!$C$4:$C$1003,$A116,'Fill-ups'!$J$4:$J$1003,">0",'Fill-ups'!$A$4:$A$1003,">="&$B$3,'Fill-ups'!$A$4:$A$1003,"<="&$D$3)/SUMIFS('Fill-ups'!$J$4:$J$1003,'Fill-ups'!$B$4:$B$1003,M$112,'Fill-ups'!$C$4:$C$1003,$A116,'Fill-ups'!$A$4:$A$1003,">="&$B$3,'Fill-ups'!$A$4:$A$1003,"<="&$D$3)*100))
